{"text_format":"3","workbook":"xlsx","n_sheets":13,"sheets":["1月","2月","3月","5月","6月","上半年","7月","8月","9月","10月","11月","12月","全年"],"not_rendered":{"defined_names":13},"read":"whole","date_system":"1900"}

{"sheet":"1月","index":0,"n_rows":52,"n_cols":49,"rows_kept":52,"merged":[[0,0,0,48],[1,0,2,0],[1,1,1,3],[1,4,1,6],[1,7,1,9],[1,10,1,12],[1,13,1,15],[1,16,1,18],[1,19,1,21],[1,22,1,24],[1,25,1,27],[1,28,1,30],[1,31,1,33],[1,34,1,36],[1,37,1,39],[1,40,1,42],[1,43,1,45],[1,46,1,48],[51,0,51,48]]}
["2022年1月各安全培训机构考生通过率统计表"]
["            培训机构\n    工种","江门市安信职业安全培训有限公司",null,null,"广东四维培训有限公司",null,null,"江门市技师学院",null,null,"江门市江海区共升教育培训中心",null,null,"江门市侨都安全咨询服务有限公司",null,null,"江门市安全生产管理协会",null,null,"江门市新会技师学院",null,null,"江门市新会机电职业技术学校",null,null,"鹤山市优创职业培训学校有限公司",null,null,"台山市安全生产管理协会",null,null,"鹤山市安全生产管理协会",null,null,"江门市江海区万众职业培训学校",null,null,"开平市中邑安安全技术咨询有限公司",null,null,"江门市江海区安全生产管理协会",null,null,"江门市天晟安全事务有限公司",null,null,"全市合计"]
[null,"实考人数","合格人数","通过率","实考人数","合格人数","通过率","实考人数","合格人数","通过率","实考人数","合格人数","通过率","实考人数","合格人数","通过率","实考人数","合格人数","通过率","实考人数","合格人数","通过率","实考人数","合格人数","通过率","实考人数","合格人数","通过率","实考人数","合格人数","通过率","实考人数","合格人数","通过率","实考人数","合格人数","通过率","实考人数","合格人数","通过率","实考人数","合格人数","通过率","实考人数","合格人数","通过率","实考人数","合格人数","通过率"]
["低压电工初训",117,102,{"$f":"C4/B4","v":{"v":0.871794871794872,"d":"87.2%"}},3,3,{"$f":"F4/E4","v":{"v":1,"d":"100.0%"}},20,18,{"$f":"I4/H4","v":{"v":0.9,"d":"90.0%"}},17,16,{"$f":"L4/K4","v":{"v":0.941176470588235,"d":"94.1%"}},15,8,{"$f":"O4/N4","v":{"v":0.533333333333333,"d":"53.3%"}},1,0,{"$f":"R4/Q4","v":{"v":0,"d":"0.0%"}},27,17,{"$f":"U4/T4","v":{"v":0.62962962962963,"d":"63.0%"}},24,24,{"$f":"X4/W4","v":{"v":1,"d":"100.0%"}},30,25,{"$f":"AA4/Z4","v":{"v":0.833333333333333,"d":"83.3%"}},42,32,{"$f":"AD4/AC4","v":{"v":0.761904761904762,"d":"76.2%"}},{"$nulls":3},115,94,{"$f":"AJ4/AI4","v":{"v":0.817391304347826,"d":"81.7%"}},{"$nulls":3},15,15,{"$f":"AP4/AO4","v":{"v":1,"d":"100.0%"}},{"$nulls":3},{"$f":"B4+E4+H4+K4+N4+Q4+T4+W4+Z4+AC4+AF4+AI4+AL4+AO4+AR4","v":426},{"$f":"C4+F4+I4+L4+O4+R4+U4+X4+AA4+AD4+AG4+AJ4+AM4+AP4+AS4","v":354},{"$f":"AV4/AU4","v":{"v":0.830985915492958,"d":"83.1%"}}]
["高压电工初训",{"$nulls":3},1,1,{"v":1,"d":"100.0%"},{"$nulls":3},5,5,{"$f":"L5/K5","v":{"v":1,"d":"100.0%"}},5,5,{"$f":"O5/N5","v":{"v":1,"d":"100.0%"}},{"$nulls":21},8,8,{"$f":"AM5/AL5","v":{"v":1,"d":"100.0%"}},{"$nulls":6},{"$f":"B5+E5+H5+K5+N5+Q5+T5+W5+Z5+AC5+AF5+AI5+AL5+AO5+AR5","v":19},{"$f":"C5+F5+I5+L5+O5+R5+U5+X5+AA5+AD5+AG5+AJ5+AM5+AP5+AS5","v":19},{"v":1,"d":"100.0%"}]
["电力电缆初训"]
["熔化焊接与热切割初训",{"$nulls":6},33,31,{"$f":"I7/H7","v":{"v":0.939393939393939,"d":"93.9%"}},4,3,{"$f":"L7/K7","v":{"v":0.75,"d":"75.0%"}},16,7,{"$f":"O7/N7","v":{"v":0.4375,"d":"43.8%"}},12,10,{"$f":"R7/Q7","v":{"v":0.833333333333333,"d":"83.3%"}},52,45,{"$f":"U7/T7","v":{"v":0.865384615384615,"d":"86.5%"}},{"$nulls":3},26,24,{"$f":"AA7/Z7","v":{"v":0.923076923076923,"d":"92.3%"}},22,11,{"$f":"AD7/AC7","v":{"v":0.5,"d":"50.0%"}},{"$nulls":3},34,24,{"$f":"AJ7/AI7","v":{"v":0.705882352941177,"d":"70.6%"}},{"$nulls":3},3,3,{"$f":"AP7/AO7","v":{"v":1,"d":"100.0%"}},{"$nulls":3},{"$f":"B7+E7+H7+K7+N7+Q7+T7+W7+Z7+AC7+AF7+AI7+AL7+AO7+AR7","v":202},158,{"v":0.782178217821782,"d":"78.2%"}]
["高处安装维护拆除初训",72,63,{"v":0.875,"d":"87.5%"},{"$nulls":6},8,6,{"v":0.75,"d":"75.0%"},{"$nulls":3},3,2,{"$f":"R8/Q8","v":{"v":0.666666666666667,"d":"66.7%"}},{"$nulls":18},38,34,{"$f":"AM8/AL8","v":{"v":0.894736842105263,"d":"89.5%"}},{"$nulls":6},121,105,{"v":0.867768595041322,"d":"86.8%"}]
["特种作业初训合计",{"$f":"SUM(B4:B8)","v":189},{"$f":"SUM(C4:C8)","v":165},{"v":0.873015873015873,"d":"87.3%"},{"$f":"SUM(E4:E8)","v":4},{"$f":"SUM(F4:F8)","v":4},{"v":1,"d":"100.0%"},{"$f":"SUM(H4:H8)","v":53},{"$f":"SUM(I4:I8)","v":49},{"$f":"I9/H9","v":{"v":0.924528301886792,"d":"92.5%"}},{"$f":"SUM(K4:K8)","v":34},{"$f":"SUM(L4:L8)","v":30},{"v":0.882352941176471,"d":"88.2%"},{"$f":"SUM(N4:N8)","v":36},{"$f":"SUM(O4:O8)","v":20},{"$f":"O9/N9","v":{"v":0.555555555555556,"d":"55.6%"}},{"$f":"SUM(Q4:Q8)","v":16},{"$f":"SUM(R4:R8)","v":12},{"$f":"R9/Q9","v":{"v":0.75,"d":"75.0%"}},{"$f":"SUM(T4:T8)","v":79},{"$f":"SUM(U4:U8)","v":62},{"$f":"U9/T9","v":{"v":0.784810126582278,"d":"78.5%"}},{"$f":"SUM(W4:W8)","v":24},{"$f":"SUM(X4:X8)","v":24},{"$f":"X9/W9","v":{"v":1,"d":"100.0%"}},{"$f":"SUM(Z4:Z8)","v":56},{"$f":"SUM(AA4:AA8)","v":49},{"$f":"AA9/Z9","v":{"v":0.875,"d":"87.5%"}},{"$f":"SUM(AC4:AC8)","v":64},{"$f":"SUM(AD4:AD8)","v":43},{"$f":"AD9/AC9","v":{"v":0.671875,"d":"67.2%"}},{"$nulls":3},{"$f":"SUM(AI4:AI8)","v":149},{"$f":"SUM(AJ4:AJ8)","v":118},{"$f":"AJ9/AI9","v":{"v":0.791946308724832,"d":"79.2%"}},{"$f":"SUM(AL4:AL8)","v":46},{"$f":"SUM(AM4:AM8)","v":42},{"$f":"AM9/AL9","v":{"v":0.91304347826087,"d":"91.3%"}},{"$f":"SUM(AO4:AO8)","v":18},{"$f":"SUM(AP4:AP8)","v":18},{"$f":"AP9/AO9","v":{"v":1,"d":"100.0%"}},{"$nulls":3},768,636,{"v":0.828125,"d":"82.8%"}]
["低压电工复训",358,340,{"v":0.949720670391061,"d":"95.0%"},57,54,{"$f":"F10/E10","v":{"v":0.947368421052632,"d":"94.7%"}},{"$nulls":3},55,53,{"v":0.963636363636364,"d":"96.4%"},15,14,{"$f":"O10/N10","v":{"v":0.933333333333333,"d":"93.3%"}},{"$nulls":3},24,23,{"$f":"U10/T10","v":{"v":0.958333333333333,"d":"95.8%"}},{"$nulls":6},76,73,{"$f":"AD10/AC10","v":{"v":0.960526315789474,"d":"96.1%"}},50,50,{"$f":"AG10/AF10","v":{"v":1,"d":"100.0%"}},23,22,{"$f":"AJ10/AI10","v":{"v":0.956521739130435,"d":"95.7%"}},21,21,{"$f":"AM10/AL10","v":{"v":1,"d":"100.0%"}},1,1,{"$f":"AP10/AO10","v":{"v":1,"d":"100.0%"}},{"$nulls":3},{"$f":"B10+E10+H10+K10+N10+Q10+T10+W10+Z10+AC10+AF10+AI10+AL10+AO10+AR10","v":680},651,{"v":0.957352941176471,"d":"95.7%"}]
["高压电工复训",25,20,{"$f":"C11/B11","v":{"v":0.8,"d":"80.0%"}},23,19,{"v":0.826086956521739,"d":"82.6%"},{"$nulls":3},14,14,{"v":1,"d":"100.0%"},2,2,{"$f":"O11/N11","v":{"v":1,"d":"100.0%"}},{"$nulls":15},4,4,{"$f":"AG11/AF11","v":{"v":1,"d":"100.0%"}},{"$nulls":3},2,0,{"$f":"AM11/AL11","v":{"v":0,"d":"0.0%"}},{"$nulls":6},70,59,{"v":0.842857142857143,"d":"84.3%"}]
["熔化焊接与热切割复训",41,37,{"v":0.902439024390244,"d":"90.2%"},2,2,{"v":1,"d":"100.0%"},{"$nulls":3},5,5,{"v":1,"d":"100.0%"},3,1,{"$f":"O12/N12","v":{"v":0.333333333333333,"d":"33.3%"}},{"$nulls":3},5,5,{"$f":"U12/T12","v":{"v":1,"d":"100.0%"}},{"$nulls":6},26,22,{"$f":"AD12/AC12","v":{"v":0.846153846153846,"d":"84.6%"}},8,7,{"$f":"AG12/AF12","v":{"v":0.875,"d":"87.5%"}},7,7,{"$f":"AJ12/AI12","v":{"v":1,"d":"100.0%"}},{"$nulls":3},1,0,{"$f":"AP12/AO12","v":{"v":0,"d":"0.0%"}},{"$nulls":3},98,86,{"v":0.877551020408163,"d":"87.8%"}]
["钎焊复训"]
["高处安装维护拆除复训",13,13,{"v":1,"d":"100.0%"},15,14,{"v":0.933333333333333,"d":"93.3%"},{"$nulls":3},2,2,{"$f":"L14/K14","v":{"v":1,"d":"100.0%"}},{"$nulls":33},30,29,{"$f":"AV14/AU14","v":{"v":0.966666666666667,"d":"96.7%"}}]
["登高架设复训"]
["制冷与空调运行操作复训"]
["制冷与空调安装修理复训"]
["矿山安检复训"]
["电力电缆复训",{"$nulls":3},11,4,{"v":0.363636363636364,"d":"36.4%"},{"$nulls":3},1,1,{"$f":"L19/K19","v":{"v":1,"d":"100.0%"}},{"$nulls":33},12,5,{"v":0.416666666666667,"d":"41.7%"}]
["电气试验复训",1,0,{"v":0,"d":"0.0%"},8,8,{"v":1,"d":"100.0%"},{"$nulls":39},9,8,{"v":0.888888888888889,"d":"88.9%"}]
["继电保护复训",2,1,{"v":0.5,"d":"50.0%"},3,2,{"v":0.666666666666667,"d":"66.7%"},{"$nulls":39},5,3,{"v":0.6,"d":"60.0%"}]
["特种作业复训合计",{"$f":"SUM(B10:B21)","v":440},{"$f":"SUM(C10:C21)","v":411},{"$f":"C22/B22","v":{"v":0.934090909090909,"d":"93.4%"}},{"$f":"SUM(E10:E21)","v":119},{"$f":"SUM(F10:F21)","v":103},{"v":0.865546218487395,"d":"86.6%"},{"$nulls":3},{"$f":"SUM(K10:K21)","v":77},{"$f":"SUM(L10:L21)","v":75},{"$f":"L22/K22","v":{"v":0.974025974025974,"d":"97.4%"}},{"$f":"SUM(N10:N21)","v":20},{"$f":"SUM(O10:O21)","v":17},{"$f":"O22/N22","v":{"v":0.85,"d":"85.0%"}},{"$nulls":3},{"$f":"SUM(T10:T21)","v":29},{"$f":"SUM(U10:U21)","v":28},{"$f":"U22/T22","v":{"v":0.96551724137931,"d":"96.6%"}},{"$nulls":6},{"$f":"SUM(AC10:AC21)","v":102},{"$f":"SUM(AD10:AD21)","v":95},{"$f":"AD22/AC22","v":{"v":0.931372549019608,"d":"93.1%"}},{"$f":"SUM(AF10:AF21)","v":62},{"$f":"SUM(AG10:AG21)","v":61},{"$f":"AG22/AF22","v":{"v":0.983870967741935,"d":"98.4%"}},{"$f":"SUM(AI10:AI21)","v":30},{"$f":"SUM(AJ10:AJ21)","v":29},{"$f":"AJ22/AI22","v":{"v":0.966666666666667,"d":"96.7%"}},{"$f":"SUM(AL10:AL21)","v":23},{"$f":"SUM(AM10:AM21)","v":21},{"$f":"AM22/AL22","v":{"v":0.91304347826087,"d":"91.3%"}},{"$f":"SUM(AO10:AO21)","v":2},{"$f":"SUM(AP10:AP21)","v":1},{"$f":"AP22/AO22","v":{"v":0.5,"d":"50.0%"}},{"$nulls":3},904,841,{"v":0.930309734513274,"d":"93.0%"}]
["特种作业人员合计",{"$f":"B9+B22","v":629},{"$f":"C9+C22","v":576},{"v":0.915739268680445,"d":"91.6%"},{"$f":"E9+E22","v":123},{"$f":"F9+F22","v":107},{"v":0.869918699186992,"d":"87.0%"},{"$f":"H9+H22","v":53},{"$f":"I9+I22","v":49},{"$f":"I23/H23","v":{"v":0.924528301886792,"d":"92.5%"}},{"$f":"K9+K22","v":111},{"$f":"L9+L22","v":105},{"$f":"L23/K23","v":{"v":0.945945945945946,"d":"94.6%"}},{"$f":"N9+N22","v":56},{"$f":"O9+O22","v":37},{"$f":"O23/N23","v":{"v":0.660714285714286,"d":"66.1%"}},{"$f":"Q9+Q22","v":16},{"$f":"R9+R22","v":12},{"$f":"R23/Q23","v":{"v":0.75,"d":"75.0%"}},{"$f":"T9+T22","v":108},{"$f":"U9+U22","v":90},{"$f":"U23/T23","v":{"v":0.833333333333333,"d":"83.3%"}},{"$f":"W9+W22","v":24},{"$f":"X9+X22","v":24},{"$f":"X23/W23","v":{"v":1,"d":"100.0%"}},{"$f":"Z9+Z22","v":56},{"$f":"AA9+AA22","v":49},{"$f":"AA23/Z23","v":{"v":0.875,"d":"87.5%"}},{"$f":"AC9+AC22","v":166},{"$f":"AD9+AD22","v":138},{"$f":"AD23/AC23","v":{"v":0.831325301204819,"d":"83.1%"}},{"$f":"AF9+AF22","v":62},{"$f":"AG9+AG22","v":61},{"$f":"AG23/AF23","v":{"v":0.983870967741935,"d":"98.4%"}},{"$f":"AI9+AI22","v":179},{"$f":"AJ9+AJ22","v":147},{"$f":"AJ23/AI23","v":{"v":0.82122905027933,"d":"82.1%"}},{"$f":"AL9+AL22","v":69},{"$f":"AM9+AM22","v":63},{"$f":"AM23/AL23","v":{"v":0.91304347826087,"d":"91.3%"}},{"$f":"AO9+AO22","v":20},{"$f":"AP9+AP22","v":19},{"$f":"AP23/AO23","v":{"v":0.95,"d":"95.0%"}},{"$nulls":3},1672,1477,{"v":0.883373205741627,"d":"88.3%"}]
["烟花爆竹经营负责人初训",2,1,{"v":0.5,"d":"50.0%"},{"$nulls":24},2,2,{"$f":"AD24/AC24","v":{"v":1,"d":"100.0%"}},1,1,{"$f":"AG24/AF24","v":{"v":1,"d":"100.0%"}},{"$nulls":12},5,4,{"v":0.8,"d":"80.0%"}]
["危化生产负责人初训",4,3,{"v":0.75,"d":"75.0%"},{"$nulls":42},4,3,{"v":0.75,"d":"75.0%"}]
["危化经营负责人初训",14,13,{"v":0.928571428571429,"d":"92.9%"},{"$nulls":6},2,2,{"$f":"L26/K26","v":{"v":1,"d":"100.0%"}},{"$nulls":15},2,1,{"$f":"AD26/AC26","v":{"v":0.5,"d":"50.0%"}},{"$nulls":15},18,16,{"v":0.888888888888889,"d":"88.9%"}]
["非煤矿山负责人初训"]
["金属冶炼负责人初训",{"$nulls":15},1,1,{"$f":"R28/Q28","v":{"v":1,"d":"100.0%"}},{"$nulls":27},{"$f":"B28+E28+H28+K28+N28+Q28+T28+W28+Z28+AC28+AF28+AI28+AL28+AO28+AR28","v":1},{"$f":"C28+F28+I28+L28+O28+R28+U28+X28+AA28+AD28+AG28+AJ28+AM28+AP28+AS28","v":1},{"$f":"AV28/AU28","v":{"v":1,"d":"100.0%"}}]
["高危行业负责人初训合计",{"$f":"SUM(B24:B28)","v":20},{"$f":"SUM(C24:C28)","v":17},{"v":0.85,"d":"85.0%"},{"$nulls":6},{"$f":"SUM(K24:K28)","v":2},{"$f":"SUM(L24:L28)","v":2},{"$f":"L29/K29","v":{"v":1,"d":"100.0%"}},{"$nulls":3},{"$f":"SUM(Q24:Q28)","v":1},{"$f":"SUM(R24:R28)","v":1},{"$f":"R29/Q29","v":{"v":1,"d":"100.0%"}},{"$nulls":9},{"$f":"SUM(AC24:AC28)","v":4},{"$f":"SUM(AD24:AD28)","v":3},{"$f":"AD29/AC29","v":{"v":0.75,"d":"75.0%"}},{"$f":"SUM(AF24:AF28)","v":1},{"$f":"SUM(AG24:AG28)","v":1},{"$f":"AG29/AF29","v":{"v":1,"d":"100.0%"}},{"$nulls":12},28,24,{"$f":"AV29/AU29","v":{"v":0.857142857142857,"d":"85.7%"}}]
["烟花爆竹经营负责人复训",{"$nulls":30},6,6,{"$f":"AG30/AF30","v":{"v":1,"d":"100.0%"}},{"$nulls":12},6,6,{"$f":"AV30/AU30","v":{"v":1,"d":"100.0%"}}]
["危化生产负责人复训",1,1,{"v":1,"d":"100.0%"},{"$nulls":6},1,1,{"v":1,"d":"100.0%"},{"$nulls":33},2,2,{"v":1,"d":"100.0%"}]
["危化经营负责人复训",99,99,{"v":1,"d":"100.0%"},{"$nulls":6},9,9,{"v":1,"d":"100.0%"},{"$nulls":15},2,1,{"$f":"AD32/AC32","v":{"v":0.5,"d":"50.0%"}},{"$nulls":9},1,1,{"$f":"AP32/AO32","v":{"v":1,"d":"100.0%"}},{"$nulls":3},111,110,{"v":0.990990990990991,"d":"99.1%"}]
["非煤矿山负责人复训"]
["金属冶炼负责人复训",{"$nulls":15},5,5,{"$f":"R34/Q34","v":{"v":1,"d":"100.0%"}},{"$nulls":27},{"$f":"B34+E34+H34+K34+N34+Q34+T34+W34+Z34+AC34+AF34+AI34+AL34+AO34+AR34","v":5},{"$f":"C34+F34+I34+L34+O34+R34+U34+X34+AA34+AD34+AG34+AJ34+AM34+AP34+AS34","v":5},{"$f":"AV34/AU34","v":{"v":1,"d":"100.0%"}}]
["高危行业负责人复训合计",{"$f":"SUM(B30:B34)","v":100},{"$f":"SUM(C30:C34)","v":100},{"v":1,"d":"100.0%"},{"$nulls":6},{"$f":"SUM(K30:K34)","v":10},{"$f":"SUM(L30:L34)","v":10},{"v":1,"d":"100.0%"},{"$nulls":3},{"$f":"SUM(Q30:Q34)","v":5},{"$f":"SUM(R30:R34)","v":5},{"$f":"R35/Q35","v":{"v":1,"d":"100.0%"}},{"$nulls":9},{"$f":"SUM(AC30:AC34)","v":2},{"$f":"SUM(AD30:AD34)","v":1},{"$f":"AD35/AC35","v":{"v":0.5,"d":"50.0%"}},{"$f":"SUM(AF30:AF34)","v":6},{"$f":"SUM(AG30:AG34)","v":6},{"$f":"AG35/AF35","v":{"v":1,"d":"100.0%"}},{"$nulls":6},{"$f":"SUM(AO30:AO34)","v":1},{"$f":"SUM(AP30:AP34)","v":1},{"$f":"AP35/AO35","v":{"v":1,"d":"100.0%"}},{"$nulls":3},124,123,{"v":0.991935483870968,"d":"99.2%"}]
["高危行业主要负责人合计",{"$f":"B29+B35","v":120},{"$f":"C29+C35","v":117},{"v":0.975,"d":"97.5%"},{"$nulls":6},{"$f":"K29+K35","v":12},{"$f":"L29+L35","v":12},{"v":1,"d":"100.0%"},{"$nulls":3},{"$f":"Q29+Q35","v":6},{"$f":"R29+R35","v":6},{"$f":"R36/Q36","v":{"v":1,"d":"100.0%"}},{"$nulls":9},{"$f":"AC29+AC35","v":6},{"$f":"AD29+AD35","v":4},{"$f":"AD36/AC36","v":{"v":0.666666666666667,"d":"66.7%"}},{"$f":"AF29+AF35","v":7},{"$f":"AG29+AG35","v":7},{"$f":"AG36/AF36","v":{"v":1,"d":"100.0%"}},{"$nulls":6},{"$f":"AO29+AO35","v":1},{"$f":"AP29+AP35","v":1},{"$f":"AP36/AO36","v":{"v":1,"d":"100.0%"}},{"$nulls":3},152,147,{"v":0.967105263157895,"d":"96.7%"}]
["烟花爆竹经营安管初训",1,1,{"v":1,"d":"100.0%"},{"$nulls":42},1,1,{"v":1,"d":"100.0%"}]
["危化生产安管初训",2,2,{"v":1,"d":"100.0%"},{"$nulls":6},1,1,{"v":1,"d":"100.0%"},{"$nulls":18},9,9,{"$f":"AG38/AF38","v":{"v":1,"d":"100.0%"}},{"$nulls":12},12,12,{"v":1,"d":"100.0%"}]
["危化经营安管初训",20,18,{"v":0.9,"d":"90.0%"},{"$nulls":6},4,3,{"v":0.75,"d":"75.0%"},{"$nulls":15},7,5,{"$f":"AD39/AC39","v":{"v":0.714285714285714,"d":"71.4%"}},{"$nulls":9},2,2,{"$f":"AP39/AO39","v":{"v":1,"d":"100.0%"}},{"$nulls":3},33,28,{"v":0.848484848484849,"d":"84.8%"}]
["非煤矿山安管初训"]
["金属冶炼安管初训",{"$nulls":15},4,4,{"$f":"R41/Q41","v":{"v":1,"d":"100.0%"}},{"$nulls":27},{"$f":"B41+E41+H41+K41+N41+Q41+T41+W41+Z41+AC41+AF41+AI41+AL41+AO41+AR41","v":4},{"$f":"C41+F41+I41+L41+O41+R41+U41+X41+AA41+AD41+AG41+AJ41+AM41+AP41+AS41","v":4},{"$f":"AV41/AU41","v":{"v":1,"d":"100.0%"}}]
["高危行业安管初训合计",{"$f":"SUM(B37:B41)","v":23},{"$f":"SUM(C37:C41)","v":21},{"v":0.91304347826087,"d":"91.3%"},{"$nulls":6},{"$f":"SUM(K37:K41)","v":5},{"$f":"SUM(L37:L41)","v":4},{"v":0.8,"d":"80.0%"},{"$nulls":3},{"$f":"SUM(Q37:Q41)","v":4},{"$f":"SUM(R37:R41)","v":4},{"$f":"R42/Q42","v":{"v":1,"d":"100.0%"}},{"$nulls":9},{"$f":"SUM(AC37:AC41)","v":7},{"$f":"SUM(AD37:AD41)","v":5},{"$f":"AD42/AC42","v":{"v":0.714285714285714,"d":"71.4%"}},{"$f":"SUM(AF37:AF41)","v":9},{"$f":"SUM(AG37:AG41)","v":9},{"$f":"AG42/AF42","v":{"v":1,"d":"100.0%"}},{"$nulls":6},{"$f":"SUM(AO37:AO41)","v":2},{"$f":"SUM(AP37:AP41)","v":2},{"$f":"AP42/AO42","v":{"v":1,"d":"100.0%"}},{"$nulls":3},50,45,{"$f":"AV42/AU42","v":{"v":0.9,"d":"90.0%"}}]
["烟花爆竹经营安管复训",{"$nulls":30},1,1,{"$f":"AG43/AF43","v":{"v":1,"d":"100.0%"}},{"$nulls":12},1,1,{"$f":"AV43/AU43","v":{"v":1,"d":"100.0%"}}]
["危化生产安管复训",11,11,{"v":1,"d":"100.0%"},{"$nulls":6},2,2,{"v":1,"d":"100.0%"},{"$nulls":33},13,13,{"v":1,"d":"100.0%"}]
["危化经营安管复训",99,93,{"v":0.939393939393939,"d":"93.9%"},{"$nulls":6},20,19,{"v":0.95,"d":"95.0%"},{"$nulls":15},3,3,{"$f":"AD45/AC45","v":{"v":1,"d":"100.0%"}},{"$nulls":15},122,115,{"v":0.942622950819672,"d":"94.3%"}]
["非煤矿山安管复训"]
["金属冶炼安管复训",{"$nulls":15},11,11,{"$f":"R47/Q47","v":{"v":1,"d":"100.0%"}},{"$nulls":27},{"$f":"B47+E47+H47+K47+N47+Q47+T47+W47+Z47+AC47+AF47+AI47+AL47+AO47+AR47","v":11},{"$f":"C47+F47+I47+L47+O47+R47+U47+X47+AA47+AD47+AG47+AJ47+AM47+AP47+AS47","v":11},{"$f":"AV47/AU47","v":{"v":1,"d":"100.0%"}}]
["高危行业安管复训合计",{"$f":"SUM(B43:B47)","v":110},{"$f":"SUM(C43:C47)","v":104},{"v":0.945454545454545,"d":"94.5%"},{"$nulls":6},{"$f":"SUM(K43:K47)","v":22},{"$f":"SUM(L43:L47)","v":21},{"v":0.954545454545455,"d":"95.5%"},{"$nulls":3},{"$f":"SUM(Q43:Q47)","v":11},{"$f":"SUM(R43:R47)","v":11},{"$f":"R48/Q48","v":{"v":1,"d":"100.0%"}},{"$nulls":9},{"$f":"SUM(AC43:AC47)","v":3},{"$f":"SUM(AD43:AD47)","v":3},{"$f":"AD48/AC48","v":{"v":1,"d":"100.0%"}},{"$f":"SUM(AF43:AF47)","v":1},{"$f":"SUM(AG43:AG47)","v":1},{"$f":"AG48/AF48","v":{"v":1,"d":"100.0%"}},{"$nulls":12},147,140,{"v":0.952380952380952,"d":"95.2%"}]
["高危行业安管人员合计",{"$f":"B42+B48","v":133},{"$f":"C42+C48","v":125},{"v":0.93984962406015,"d":"94.0%"},{"$nulls":6},{"$f":"K42+K48","v":27},{"$f":"L42+L48","v":25},{"v":0.925925925925926,"d":"92.6%"},{"$nulls":3},{"$f":"Q42+Q48","v":15},{"$f":"R42+R48","v":15},{"$f":"R49/Q49","v":{"v":1,"d":"100.0%"}},{"$nulls":9},{"$f":"AC42+AC48","v":10},{"$f":"AD42+AD48","v":8},{"$f":"AD49/AC49","v":{"v":0.8,"d":"80.0%"}},{"$f":"AF42+AF48","v":10},{"$f":"AG42+AG48","v":10},{"$f":"AG49/AF49","v":{"v":1,"d":"100.0%"}},{"$nulls":6},{"$f":"AO42+AO48","v":2},{"$f":"AP42+AP48","v":2},{"$f":"AP49/AO49","v":{"v":1,"d":"100.0%"}},{"$nulls":3},197,185,{"v":0.939086294416244,"d":"93.9%"}]
["高危行业负责人安管合计",{"$f":"B36+B49","v":253},{"$f":"C36+C49","v":242},{"v":0.956521739130435,"d":"95.7%"},{"$nulls":6},{"$f":"K36+K49","v":39},{"$f":"L36+L49","v":37},{"v":0.948717948717949,"d":"94.9%"},{"$nulls":3},{"$f":"Q36+Q49","v":21},{"$f":"R36+R49","v":21},{"$f":"R50/Q50","v":{"v":1,"d":"100.0%"}},{"$nulls":9},{"$f":"AC36+AC49","v":16},{"$f":"AD36+AD49","v":12},{"$f":"AD50/AC50","v":{"v":0.75,"d":"75.0%"}},{"$f":"AF36+AF49","v":17},{"$f":"AG36+AG49","v":17},{"$f":"AG50/AF50","v":{"v":1,"d":"100.0%"}},{"$nulls":6},{"$f":"AO36+AO49","v":3},{"$f":"AP36+AP49","v":3},{"$f":"AP50/AO50","v":{"v":1,"d":"100.0%"}},{"$nulls":3},349,332,{"v":0.951289398280802,"d":"95.1%"}]
["全工种合计",{"$f":"B23+B50","v":882},{"$f":"C23+C50","v":818},{"v":0.927437641723356,"d":"92.7%"},{"$f":"E23+E50","v":123},{"$f":"F23+F50","v":107},{"$f":"F51/E51","v":{"v":0.869918699186992,"d":"87.0%"}},{"$f":"H23+H50","v":53},{"$f":"I23+I50","v":49},{"$f":"I51/H51","v":{"v":0.924528301886792,"d":"92.5%"}},{"$f":"K23+K50","v":150},{"$f":"L23+L50","v":142},{"v":0.946666666666667,"d":"94.7%"},{"$f":"N23+N50","v":56},{"$f":"O23+O50","v":37},{"$f":"O51/N51","v":{"v":0.660714285714286,"d":"66.1%"}},{"$f":"Q23+Q50","v":37},{"$f":"R23+R50","v":33},{"$f":"R51/Q51","v":{"v":0.891891891891892,"d":"89.2%"}},108,90,{"$f":"U51/T51","v":{"v":0.833333333333333,"d":"83.3%"}},{"$f":"W23+W50","v":24},{"$f":"X23+X50","v":24},{"$f":"X51/W51","v":{"v":1,"d":"100.0%"}},{"$f":"Z23+Z50","v":56},{"$f":"AA23+AA50","v":49},{"$f":"AA51/Z51","v":{"v":0.875,"d":"87.5%"}},{"$f":"AC23+AC50","v":182},{"$f":"AD23+AD50","v":150},{"$f":"AD51/AC51","v":{"v":0.824175824175824,"d":"82.4%"}},{"$f":"AF23+AF50","v":79},{"$f":"AG23+AG50","v":78},{"$f":"AG51/AF51","v":{"v":0.987341772151899,"d":"98.7%"}},{"$f":"AI23+AI50","v":179},{"$f":"AJ23+AJ50","v":147},{"$f":"AJ51/AI51","v":{"v":0.82122905027933,"d":"82.1%"}},{"$f":"AL23+AL50","v":69},{"$f":"AM23+AM50","v":63},{"$f":"AM51/AL51","v":{"v":0.91304347826087,"d":"91.3%"}},{"$f":"AO23+AO50","v":23},{"$f":"AP23+AP50","v":22},{"$f":"AP51/AO51","v":{"v":0.956521739130435,"d":"95.7%"}},{"$nulls":3},2021,1809,{"v":0.895101434933201,"d":"89.5%"}]
["备注：\n1.培训机构名称以全国安全生产培训考试信息管理系统记录为准，按系统顺序排序；\n2.实考人数=报考总人数-正考补考均缺考人数-考试违规被取消成绩人数；\n3.仅统计已完成考试者，还有补考机会者不统计。"]

{"sheet":"2月","index":1,"n_rows":52,"n_cols":49,"rows_kept":52,"merged":[[0,0,0,48],[1,0,2,0],[1,1,1,3],[1,4,1,6],[1,7,1,9],[1,10,1,12],[1,13,1,15],[1,16,1,18],[1,19,1,21],[1,22,1,24],[1,25,1,27],[1,28,1,30],[1,31,1,33],[1,34,1,36],[1,37,1,39],[1,40,1,42],[1,43,1,45],[1,46,1,48],[51,0,51,48]]}
["2022年2月各安全培训机构考生通过率统计表"]
["            培训机构\n    工种","江门市安信职业安全培训有限公司",null,null,"广东四维培训有限公司",null,null,"江门市技师学院",null,null,"江门市江海区共升教育培训中心",null,null,"江门市侨都安全咨询服务有限公司",null,null,"江门市安全生产管理协会",null,null,"江门市新会技师学院",null,null,"江门市新会机电职业技术学校",null,null,"鹤山市优创职业培训学校有限公司",null,null,"台山市安全生产管理协会",null,null,"鹤山市安全生产管理协会",null,null,"江门市江海区万众职业培训学校",null,null,"开平市中邑安安全技术咨询有限公司",null,null,"江门市江海区安全生产管理协会",null,null,"江门市天晟安全事务有限公司",null,null,"全市合计"]
[null,"实考人数","合格人数","通过率","实考人数","合格人数","通过率","实考人数","合格人数","通过率","实考人数","合格人数","通过率","实考人数","合格人数","通过率","实考人数","合格人数","通过率","实考人数","合格人数","通过率","实考人数","合格人数","通过率","实考人数","合格人数","通过率","实考人数","合格人数","通过率","实考人数","合格人数","通过率","实考人数","合格人数","通过率","实考人数","合格人数","通过率","实考人数","合格人数","通过率","实考人数","合格人数","通过率","实考人数","合格人数","通过率"]
["低压电工初训",{"$nulls":3},37,33,{"$f":"F4/E4","v":{"v":0.891891891891892,"d":"89.2%"}},{"$nulls":3},2,2,{"$f":"L4/K4","v":{"v":1,"d":"100.0%"}},13,10,{"$f":"O4/N4","v":{"v":0.769230769230769,"d":"76.9%"}},{"$nulls":9},2,1,{"$f":"AA4/Z4","v":{"v":0.5,"d":"50.0%"}},{"$nulls":3},13,12,{"$f":"AG4/AF4","v":{"v":0.923076923076923,"d":"92.3%"}},9,6,{"$f":"AJ4/AI4","v":{"v":0.666666666666667,"d":"66.7%"}},{"$nulls":9},{"$f":"B4+E4+H4+K4+N4+Q4+T4+W4+Z4+AC4+AF4+AI4+AL4+AO4+AR4","v":76},{"$f":"C4+F4+I4+L4+O4+R4+U4+X4+AA4+AD4+AG4+AJ4+AM4+AP4+AS4","v":64},{"$f":"AV4/AU4","v":{"v":0.842105263157895,"d":"84.2%"}}]
["高压电工初训",{"$nulls":12},3,3,{"$f":"O5/N5","v":{"v":1,"d":"100.0%"}},{"$nulls":30},3,3,{"v":1,"d":"100.0%"}]
["电力电缆初训"]
["熔化焊接与热切割初训",55,46,{"$f":"C7/B7","v":{"v":0.836363636363636,"d":"83.6%"}},{"$nulls":3},1,1,{"$f":"I7/H7","v":{"v":1,"d":"100.0%"}},36,29,{"v":0.805555555555556,"d":"80.6%"},19,17,{"$f":"O7/N7","v":{"v":0.894736842105263,"d":"89.5%"}},{"$nulls":3},29,25,{"$f":"U7/T7","v":{"v":0.862068965517241,"d":"86.2%"}},{"$nulls":6},1,1,{"$f":"AD7/AC7","v":{"v":1,"d":"100.0%"}},33,28,{"$f":"AG7/AF7","v":{"v":0.848484848484849,"d":"84.8%"}},21,17,{"v":0.80952380952381,"d":"81.0%"},27,23,{"$f":"AM7/AL7","v":{"v":0.851851851851852,"d":"85.2%"}},{"$nulls":6},222,187,{"v":0.842342342342342,"d":"84.2%"}]
["高处安装维护拆除初训",26,20,{"v":0.769230769230769,"d":"76.9%"},{"$nulls":6},7,3,{"v":0.428571428571429,"d":"42.9%"},{"$nulls":24},33,32,{"v":0.96969696969697,"d":"97.0%"},{"$nulls":6},66,55,{"v":0.833333333333333,"d":"83.3%"}]
["特种作业初训合计",{"$f":"SUM(B4:B8)","v":81},{"$f":"SUM(C4:C8)","v":66},{"v":0.814814814814815,"d":"81.5%"},{"$f":"SUM(E4:E8)","v":37},{"$f":"SUM(F4:F8)","v":33},{"v":0.891891891891892,"d":"89.2%"},{"$f":"SUM(H4:H8)","v":1},{"$f":"SUM(I4:I8)","v":1},{"$f":"I9/H9","v":{"v":1,"d":"100.0%"}},{"$f":"SUM(K4:K8)","v":45},{"$f":"SUM(L4:L8)","v":34},{"v":0.755555555555556,"d":"75.6%"},{"$f":"SUM(N4:N8)","v":35},{"$f":"SUM(O4:O8)","v":30},{"$f":"O9/N9","v":{"v":0.857142857142857,"d":"85.7%"}},{"$nulls":3},{"$f":"SUM(T4:T8)","v":29},{"$f":"SUM(U4:U8)","v":25},{"$f":"U9/T9","v":{"v":0.862068965517241,"d":"86.2%"}},{"$nulls":3},{"$f":"SUM(Z4:Z8)","v":2},{"$f":"SUM(AA4:AA8)","v":1},{"v":0.5,"d":"50.0%"},{"$f":"SUM(AC4:AC8)","v":1},{"$f":"SUM(AD4:AD8)","v":1},{"v":1,"d":"100.0%"},{"$f":"SUM(AF4:AF8)","v":46},{"$f":"SUM(AG4:AG8)","v":40},{"$f":"AG9/AF9","v":{"v":0.869565217391304,"d":"87.0%"}},{"$f":"SUM(AI4:AI8)","v":30},{"$f":"SUM(AJ4:AJ8)","v":23},{"v":0.766666666666667,"d":"76.7%"},{"$f":"SUM(AL4:AL8)","v":60},{"$f":"SUM(AM4:AM8)","v":55},{"v":0.916666666666667,"d":"91.7%"},{"$nulls":6},367,309,{"v":0.841961852861035,"d":"84.2%"}]
["低压电工复训",140,135,{"v":0.964285714285714,"d":"96.4%"},31,31,{"v":1,"d":"100.0%"},{"$nulls":3},26,26,{"v":1,"d":"100.0%"},10,10,{"$f":"O10/N10","v":{"v":1,"d":"100.0%"}},{"$nulls":9},1,1,{"v":1,"d":"100.0%"},56,55,{"v":0.982142857142857,"d":"98.2%"},20,17,{"$f":"AG10/AF10","v":{"v":0.85,"d":"85.0%"}},13,12,{"v":0.923076923076923,"d":"92.3%"},12,11,{"v":0.916666666666667,"d":"91.7%"},{"$nulls":6},309,298,{"v":0.964401294498382,"d":"96.4%"}]
["高压电工复训",18,16,{"v":0.888888888888889,"d":"88.9%"},21,20,{"v":0.952380952380952,"d":"95.2%"},{"$nulls":3},9,8,{"v":0.888888888888889,"d":"88.9%"},1,1,{"$f":"O11/N11","v":{"v":1,"d":"100.0%"}},{"$nulls":12},3,3,{"v":1,"d":"100.0%"},6,5,{"$f":"AG11/AF11","v":{"v":0.833333333333333,"d":"83.3%"}},{"$nulls":3},1,1,{"v":1,"d":"100.0%"},{"$nulls":6},59,54,{"v":0.915254237288136,"d":"91.5%"}]
["熔化焊接与热切割复训",8,8,{"v":1,"d":"100.0%"},4,4,{"v":1,"d":"100.0%"},{"$nulls":3},7,5,{"v":0.714285714285714,"d":"71.4%"},{"$nulls":15},4,4,{"v":1,"d":"100.0%"},3,3,{"$f":"AG12/AF12","v":{"v":1,"d":"100.0%"}},3,3,{"$f":"AJ12/AI12","v":{"v":1,"d":"100.0%"}},1,1,{"v":1,"d":"100.0%"},1,0,{"$f":"AP12/AO12","v":{"v":0,"d":"0.0%"}},{"$nulls":3},31,28,{"v":0.903225806451613,"d":"90.3%"}]
["钎焊复训"]
["高处安装维护拆除复训",7,7,{"$f":"C14/B14","v":{"v":1,"d":"100.0%"}},{"$nulls":33},1,1,{"$f":"AM14/AL14","v":{"v":1,"d":"100.0%"}},{"$nulls":6},{"$f":"B14+E14+H14+K14+N14+Q14+T14+W14+Z14+AC14+AF14+AI14+AL14+AO14+AR14","v":8},{"$f":"C14+F14+I14+L14+O14+R14+U14+X14+AA14+AD14+AG14+AJ14+AM14+AP14+AS14","v":8},{"$f":"AV14/AU14","v":{"v":1,"d":"100.0%"}}]
["登高架设复训",{"$nulls":3},1,1,{"$f":"F15/E15","v":{"v":1,"d":"100.0%"}},{"$nulls":39},{"$f":"B15+E15+H15+K15+N15+Q15+T15+W15+Z15+AC15+AF15+AI15+AL15+AO15+AR15","v":1},{"$f":"C15+F15+I15+L15+O15+R15+U15+X15+AA15+AD15+AG15+AJ15+AM15+AP15+AS15","v":1},{"$f":"AV15/AU15","v":{"v":1,"d":"100.0%"}}]
["制冷与空调运行操作复训"]
["制冷与空调安装修理复训",1,1,{"$f":"C17/B17","v":{"v":1,"d":"100.0%"}},{"$nulls":42},{"$f":"B17+E17+H17+K17+N17+Q17+T17+W17+Z17+AC17+AF17+AI17+AL17+AO17+AR17","v":1},{"$f":"C17+F17+I17+L17+O17+R17+U17+X17+AA17+AD17+AG17+AJ17+AM17+AP17+AS17","v":1},{"$f":"AV17/AU17","v":{"v":1,"d":"100.0%"}}]
["矿山安检复训"]
["电力电缆复训",{"$nulls":3},8,3,{"$f":"F19/E19","v":{"v":0.375,"d":"37.5%"}},{"$nulls":39},{"$f":"B19+E19+H19+K19+N19+Q19+T19+W19+Z19+AC19+AF19+AI19+AL19+AO19+AR19","v":8},{"$f":"C19+F19+I19+L19+O19+R19+U19+X19+AA19+AD19+AG19+AJ19+AM19+AP19+AS19","v":3},{"$f":"AV19/AU19","v":{"v":0.375,"d":"37.5%"}}]
["电气试验复训",{"$nulls":3},1,1,{"$f":"F20/E20","v":{"v":1,"d":"100.0%"}},{"$nulls":3},1,1,{"$f":"L20/K20","v":{"v":1,"d":"100.0%"}},{"$nulls":33},2,2,{"v":1,"d":"100.0%"}]
["继电保护复训"]
["特种作业复训合计",{"$f":"SUM(B10:B21)","v":174},{"$f":"SUM(C10:C21)","v":167},{"$f":"C22/B22","v":{"v":0.959770114942529,"d":"96.0%"}},{"$f":"SUM(E10:E21)","v":66},{"$f":"SUM(F10:F21)","v":60},{"$f":"F22/E22","v":{"v":0.909090909090909,"d":"90.9%"}},{"$nulls":3},{"$f":"SUM(K10:K21)","v":43},{"$f":"SUM(L10:L21)","v":40},{"$f":"L22/K22","v":{"v":0.930232558139535,"d":"93.0%"}},{"$f":"SUM(N10:N21)","v":11},{"$f":"SUM(O10:O21)","v":11},{"$f":"O22/N22","v":{"v":1,"d":"100.0%"}},{"$nulls":9},{"$f":"SUM(Z10:Z21)","v":1},{"$f":"SUM(AA10:AA21)","v":1},{"$f":"AA22/Z22","v":{"v":1,"d":"100.0%"}},{"$f":"SUM(AC10:AC21)","v":63},{"$f":"SUM(AD10:AD21)","v":62},{"$f":"AD22/AC22","v":{"v":0.984126984126984,"d":"98.4%"}},{"$f":"SUM(AF10:AF21)","v":29},{"$f":"SUM(AG10:AG21)","v":25},{"$f":"AG22/AF22","v":{"v":0.862068965517241,"d":"86.2%"}},{"$f":"SUM(AI10:AI21)","v":16},{"$f":"SUM(AJ10:AJ21)","v":15},{"$f":"AJ22/AI22","v":{"v":0.9375,"d":"93.8%"}},{"$f":"SUM(AL10:AL21)","v":15},{"$f":"SUM(AM10:AM21)","v":14},{"$f":"AM22/AL22","v":{"v":0.933333333333333,"d":"93.3%"}},{"$f":"SUM(AO10:AO21)","v":1},{"$f":"SUM(AP10:AP21)","v":0},{"$f":"AP22/AO22","v":{"v":0,"d":"0.0%"}},{"$nulls":3},419,395,{"v":0.94272076372315,"d":"94.3%"}]
["特种作业人员合计",{"$f":"B9+B22","v":255},{"$f":"C9+C22","v":233},{"$f":"C23/B23","v":{"v":0.913725490196078,"d":"91.4%"}},{"$f":"E9+E22","v":103},{"$f":"F9+F22","v":93},{"$f":"F23/E23","v":{"v":0.902912621359223,"d":"90.3%"}},{"$f":"H9+H22","v":1},{"$f":"I9+I22","v":1},{"$f":"I23/H23","v":{"v":1,"d":"100.0%"}},{"$f":"K9+K22","v":88},{"$f":"L9+L22","v":74},{"$f":"L23/K23","v":{"v":0.840909090909091,"d":"84.1%"}},{"$f":"N9+N22","v":46},{"$f":"O9+O22","v":41},{"$f":"O23/N23","v":{"v":0.891304347826087,"d":"89.1%"}},{"$nulls":3},{"$f":"T9+T22","v":29},{"$f":"U9+U22","v":25},{"$f":"U23/T23","v":{"v":0.862068965517241,"d":"86.2%"}},{"$nulls":3},{"$f":"Z9+Z22","v":3},{"$f":"AA9+AA22","v":2},{"$f":"AA23/Z23","v":{"v":0.666666666666667,"d":"66.7%"}},{"$f":"AC9+AC22","v":64},{"$f":"AD9+AD22","v":63},{"$f":"AD23/AC23","v":{"v":0.984375,"d":"98.4%"}},{"$f":"AF9+AF22","v":75},{"$f":"AG9+AG22","v":65},{"$f":"AG23/AF23","v":{"v":0.866666666666667,"d":"86.7%"}},{"$f":"AI9+AI22","v":46},{"$f":"AJ9+AJ22","v":38},{"$f":"AJ23/AI23","v":{"v":0.826086956521739,"d":"82.6%"}},{"$f":"AL9+AL22","v":75},{"$f":"AM9+AM22","v":69},{"$f":"AM23/AL23","v":{"v":0.92,"d":"92.0%"}},{"$f":"AO9+AO22","v":1},{"$f":"AP9+AP22","v":0},{"$f":"AP23/AO23","v":{"v":0,"d":"0.0%"}},{"$nulls":3},786,704,{"v":0.895674300254453,"d":"89.6%"}]
["烟花爆竹经营负责人初训"]
["危化生产负责人初训",{"$nulls":9},1,1,{"$f":"L25/K25","v":{"v":1,"d":"100.0%"}},{"$nulls":33},1,1,{"v":1,"d":"100.0%"}]
["危化经营负责人初训",9,8,{"$f":"C26/B26","v":{"v":0.888888888888889,"d":"88.9%"}},{"$nulls":6},4,3,{"$f":"L26/K26","v":{"v":0.75,"d":"75.0%"}},{"$nulls":27},1,1,{"$f":"AP26/AO26","v":{"v":1,"d":"100.0%"}},1,1,{"$f":"AS26/AR26","v":{"v":1,"d":"100.0%"}},15,13,{"v":0.866666666666667,"d":"86.7%"}]
["非煤矿山负责人初训"]
["金属冶炼负责人初训"]
["高危行业负责人初训合计",{"$f":"SUM(B24:B28)","v":9},{"$f":"SUM(C24:C28)","v":8},{"$f":"C29/B29","v":{"v":0.888888888888889,"d":"88.9%"}},{"$nulls":6},{"$f":"SUM(K24:K28)","v":5},{"$f":"SUM(L24:L28)","v":4},{"v":0.8,"d":"80.0%"},{"$nulls":27},{"$f":"SUM(AO24:AO28)","v":1},{"$f":"SUM(AP24:AP28)","v":1},{"$f":"AP29/AO29","v":{"v":1,"d":"100.0%"}},{"$f":"SUM(AR24:AR28)","v":1},{"$f":"SUM(AS24:AS28)","v":1},{"$f":"AS29/AR29","v":{"v":1,"d":"100.0%"}},{"$f":"B29+E29+H29+K29+N29+Q29+T29+W29+Z29+AC29+AF29+AI29+AL29+AO29+AR29","v":16},{"$f":"C29+F29+I29+L29+O29+R29+U29+X29+AA29+AD29+AG29+AJ29+AM29+AP29+AS29","v":14},{"$f":"AV29/AU29","v":{"v":0.875,"d":"87.5%"}}]
["烟花爆竹经营负责人复训"]
["危化生产负责人复训",1,1,{"$f":"C31/B31","v":{"v":1,"d":"100.0%"}},{"$nulls":42},{"$f":"B31+E31+H31+K31+N31+Q31+T31+W31+Z31+AC31+AF31+AI31+AL31+AO31+AR31","v":1},{"$f":"C31+F31+I31+L31+O31+R31+U31+X31+AA31+AD31+AG31+AJ31+AM31+AP31+AS31","v":1},{"$f":"AV31/AU31","v":{"v":1,"d":"100.0%"}}]
["危化经营负责人复训",6,6,{"$f":"C32/B32","v":{"v":1,"d":"100.0%"}},{"$nulls":6},5,4,{"v":0.8,"d":"80.0%"},{"$nulls":33},{"$f":"B32+E32+H32+K32+N32+Q32+T32+W32+Z32+AC32+AF32+AI32+AL32+AO32+AR32","v":11},{"$f":"C32+F32+I32+L32+O32+R32+U32+X32+AA32+AD32+AG32+AJ32+AM32+AP32+AS32","v":10},{"$f":"AV32/AU32","v":{"v":0.909090909090909,"d":"90.9%"}}]
["非煤矿山负责人复训"]
["金属冶炼负责人复训"]
["高危行业负责人复训合计",{"$f":"SUM(B30:B34)","v":7},{"$f":"SUM(C30:C34)","v":7},{"$f":"C35/B35","v":{"v":1,"d":"100.0%"}},{"$nulls":6},{"$f":"SUM(K30:K34)","v":5},{"$f":"SUM(L30:L34)","v":4},{"$f":"L35/K35","v":{"v":0.8,"d":"80.0%"}},{"$nulls":33},{"$f":"B35+E35+H35+K35+N35+Q35+T35+W35+Z35+AC35+AF35+AI35+AL35+AO35+AR35","v":12},{"$f":"C35+F35+I35+L35+O35+R35+U35+X35+AA35+AD35+AG35+AJ35+AM35+AP35+AS35","v":11},{"$f":"AV35/AU35","v":{"v":0.916666666666667,"d":"91.7%"}}]
["高危行业主要负责人合计",{"$f":"B29+B35","v":16},{"$f":"C29+C35","v":15},{"$f":"C36/B36","v":{"v":0.9375,"d":"93.8%"}},{"$nulls":6},{"$f":"K29+K35","v":10},{"$f":"L29+L35","v":8},{"$f":"L36/K36","v":{"v":0.8,"d":"80.0%"}},{"$nulls":27},{"$f":"AO29+AO35","v":1},{"$f":"AP29+AP35","v":1},{"$f":"AP36/AO36","v":{"v":1,"d":"100.0%"}},{"$f":"AR29+AR35","v":1},{"$f":"AS29+AS35","v":1},{"$f":"AS36/AR36","v":{"v":1,"d":"100.0%"}},{"$f":"B36+E36+H36+K36+N36+Q36+T36+W36+Z36+AC36+AF36+AI36+AL36+AO36+AR36","v":28},{"$f":"C36+F36+I36+L36+O36+R36+U36+X36+AA36+AD36+AG36+AJ36+AM36+AP36+AS36","v":25},{"$f":"AV36/AU36","v":{"v":0.892857142857143,"d":"89.3%"}}]
["烟花爆竹经营安管初训"]
["危化生产安管初训",2,2,{"$f":"C38/B38","v":{"v":1,"d":"100.0%"}},{"$nulls":42},{"$f":"B38+E38+H38+K38+N38+Q38+T38+W38+Z38+AC38+AF38+AI38+AL38+AO38+AR38","v":2},{"$f":"C38+F38+I38+L38+O38+R38+U38+X38+AA38+AD38+AG38+AJ38+AM38+AP38+AS38","v":2},{"$f":"AV38/AU38","v":{"v":1,"d":"100.0%"}}]
["危化经营安管初训",15,15,{"$f":"C39/B39","v":{"v":1,"d":"100.0%"}},{"$nulls":6},8,6,{"$f":"L39/K39","v":{"v":0.75,"d":"75.0%"}},{"$nulls":15},1,0,{"$f":"AD39/AC39","v":{"v":0,"d":"0.0%"}},{"$nulls":12},2,1,{"$f":"AS39/AR39","v":{"v":0.5,"d":"50.0%"}},{"$f":"B39+E39+H39+K39+N39+Q39+T39+W39+Z39+AC39+AF39+AI39+AL39+AO39+AR39","v":26},{"$f":"C39+F39+I39+L39+O39+R39+U39+X39+AA39+AD39+AG39+AJ39+AM39+AP39+AS39","v":22},{"$f":"AV39/AU39","v":{"v":0.846153846153846,"d":"84.6%"}}]
["非煤矿山安管初训"]
["金属冶炼安管初训"]
["高危行业安管初训合计",{"$f":"SUM(B37:B41)","v":17},{"$f":"SUM(C37:C41)","v":17},{"$f":"C42/B42","v":{"v":1,"d":"100.0%"}},{"$nulls":6},{"$f":"SUM(K37:K41)","v":8},{"$f":"SUM(L37:L41)","v":6},{"$f":"L42/K42","v":{"v":0.75,"d":"75.0%"}},{"$nulls":15},{"$f":"SUM(AC37:AC41)","v":1},{"$f":"SUM(AD37:AD41)","v":0},{"$f":"AD42/AC42","v":{"v":0,"d":"0.0%"}},{"$nulls":12},{"$f":"SUM(AR37:AR41)","v":2},{"$f":"SUM(AS37:AS41)","v":1},{"$f":"AS42/AR42","v":{"v":0.5,"d":"50.0%"}},{"$f":"B42+E42+H42+K42+N42+Q42+T42+W42+Z42+AC42+AF42+AI42+AL42+AO42+AR42","v":28},{"$f":"C42+F42+I42+L42+O42+R42+U42+X42+AA42+AD42+AG42+AJ42+AM42+AP42+AS42","v":24},{"$f":"AV42/AU42","v":{"v":0.857142857142857,"d":"85.7%"}}]
["烟花爆竹经营安管复训"]
["危化生产安管复训",2,2,{"$f":"C44/B44","v":{"v":1,"d":"100.0%"}},{"$nulls":42},{"$f":"B44+E44+H44+K44+N44+Q44+T44+W44+Z44+AC44+AF44+AI44+AL44+AO44+AR44","v":2},{"$f":"C44+F44+I44+L44+O44+R44+U44+X44+AA44+AD44+AG44+AJ44+AM44+AP44+AS44","v":2},{"$f":"AV44/AU44","v":{"v":1,"d":"100.0%"}}]
["危化经营安管复训",13,13,{"$f":"C45/B45","v":{"v":1,"d":"100.0%"}},{"$nulls":6},9,9,{"$f":"L45/K45","v":{"v":1,"d":"100.0%"}},{"$nulls":33},{"$f":"B45+E45+H45+K45+N45+Q45+T45+W45+Z45+AC45+AF45+AI45+AL45+AO45+AR45","v":22},{"$f":"C45+F45+I45+L45+O45+R45+U45+X45+AA45+AD45+AG45+AJ45+AM45+AP45+AS45","v":22},{"$f":"AV45/AU45","v":{"v":1,"d":"100.0%"}}]
["非煤矿山安管复训"]
["金属冶炼安管复训"]
["高危行业安管复训合计",{"$f":"SUM(B43:B47)","v":15},{"$f":"SUM(C43:C47)","v":15},{"$f":"C48/B48","v":{"v":1,"d":"100.0%"}},{"$nulls":6},{"$f":"SUM(K43:K47)","v":9},{"$f":"SUM(L43:L47)","v":9},{"$f":"L48/K48","v":{"v":1,"d":"100.0%"}},{"$nulls":33},{"$f":"B48+E48+H48+K48+N48+Q48+T48+W48+Z48+AC48+AF48+AI48+AL48+AO48+AR48","v":24},24,{"$f":"AV48/AU48","v":{"v":1,"d":"100.0%"}}]
["高危行业安管人员合计",{"$f":"B42+B48","v":32},{"$f":"C42+C48","v":32},{"$f":"C49/B49","v":{"v":1,"d":"100.0%"}},{"$nulls":6},{"$f":"K42+K48","v":17},{"$f":"L42+L48","v":15},{"$f":"L49/K49","v":{"v":0.882352941176471,"d":"88.2%"}},{"$nulls":15},{"$f":"AC42+AC48","v":1},{"$f":"AD42+AD48","v":0},{"$f":"AD49/AC49","v":{"v":0,"d":"0.0%"}},{"$nulls":12},{"$f":"AR42+AR48","v":2},{"$f":"AS42+AS48","v":1},{"$f":"AS49/AR49","v":{"v":0.5,"d":"50.0%"}},52,48,{"$f":"AV49/AU49","v":{"v":0.923076923076923,"d":"92.3%"}}]
["高危行业负责人安管合计",{"$f":"B36+B49","v":48},{"$f":"C36+C49","v":47},{"$f":"C50/B50","v":{"v":0.979166666666667,"d":"97.9%"}},{"$nulls":6},{"$f":"K36+K49","v":27},{"$f":"L36+L49","v":23},{"$f":"L50/K50","v":{"v":0.851851851851852,"d":"85.2%"}},{"$nulls":15},{"$f":"AC36+AC49","v":1},{"$f":"AD36+AD49","v":0},{"$f":"AD50/AC50","v":{"v":0,"d":"0.0%"}},{"$nulls":9},{"$f":"AO36+AO49","v":1},{"$f":"AP36+AP49","v":1},{"$f":"AP50/AO50","v":{"v":1,"d":"100.0%"}},{"$f":"AR36+AR49","v":3},{"$f":"AS36+AS49","v":2},{"$f":"AS50/AR50","v":{"v":0.666666666666667,"d":"66.7%"}},80,73,{"$f":"AV50/AU50","v":{"v":0.9125,"d":"91.3%"}}]
["全工种合计",{"$f":"B23+B50","v":303},{"$f":"C23+C50","v":280},{"$f":"C51/B51","v":{"v":0.924092409240924,"d":"92.4%"}},{"$f":"E23+E50","v":103},{"$f":"F23+F50","v":93},{"$f":"F51/E51","v":{"v":0.902912621359223,"d":"90.3%"}},{"$f":"H23+H50","v":1},{"$f":"I23+I50","v":1},{"$f":"I51/H51","v":{"v":1,"d":"100.0%"}},{"$f":"K23+K50","v":115},{"$f":"L23+L50","v":97},{"$f":"L51/K51","v":{"v":0.843478260869565,"d":"84.3%"}},{"$f":"N23+N50","v":46},{"$f":"O23+O50","v":41},{"$f":"O51/N51","v":{"v":0.891304347826087,"d":"89.1%"}},{"$nulls":3},{"$f":"T23+T50","v":29},{"$f":"U23+U50","v":25},{"$f":"U51/T51","v":{"v":0.862068965517241,"d":"86.2%"}},{"$nulls":3},{"$f":"Z23+Z50","v":3},{"$f":"AA23+AA50","v":2},{"$f":"AA51/Z51","v":{"v":0.666666666666667,"d":"66.7%"}},{"$f":"AC23+AC50","v":65},{"$f":"AD23+AD50","v":63},{"$f":"AD51/AC51","v":{"v":0.969230769230769,"d":"96.9%"}},{"$f":"AF23+AF50","v":75},{"$f":"AG23+AG50","v":65},{"$f":"AG51/AF51","v":{"v":0.866666666666667,"d":"86.7%"}},{"$f":"AI23+AI50","v":46},{"$f":"AJ23+AJ50","v":38},{"$f":"AJ51/AI51","v":{"v":0.826086956521739,"d":"82.6%"}},{"$f":"AL23+AL50","v":75},{"$f":"AM23+AM50","v":69},{"$f":"AM51/AL51","v":{"v":0.92,"d":"92.0%"}},{"$f":"AO23+AO50","v":2},{"$f":"AP23+AP50","v":1},{"$f":"AP51/AO51","v":{"v":0.5,"d":"50.0%"}},{"$f":"AR23+AR50","v":3},{"$f":"AS23+AS50","v":2},{"$f":"AS51/AR51","v":{"v":0.666666666666667,"d":"66.7%"}},866,777,{"$f":"AV51/AU51","v":{"v":0.897228637413395,"d":"89.7%"}}]
["备注：\n1.培训机构名称以全国安全生产培训考试信息管理系统记录为准，按系统顺序排序；\n2.实考人数=报考总人数-正考补考均缺考人数-考试违规被取消成绩人数；\n3.仅统计已完成考试者，还有补考机会者不统计。"]

{"sheet":"3月","index":2,"n_rows":52,"n_cols":49,"rows_kept":52,"merged":[[0,0,0,48],[1,0,2,0],[1,1,1,3],[1,4,1,6],[1,7,1,9],[1,10,1,12],[1,13,1,15],[1,16,1,18],[1,19,1,21],[1,22,1,24],[1,25,1,27],[1,28,1,30],[1,31,1,33],[1,34,1,36],[1,37,1,39],[1,40,1,42],[1,43,1,45],[1,46,1,48],[51,0,51,48]]}
["2022年3月各安全培训机构考生通过率统计表"]
["            培训机构\n    工种","江门市安信职业安全培训有限公司",null,null,"广东四维培训有限公司",null,null,"江门市技师学院",null,null,"江门市江海区共升教育培训中心",null,null,"江门市侨都安全咨询服务有限公司",null,null,"江门市安全生产管理协会",null,null,"江门市新会技师学院",null,null,"江门市新会机电职业技术学校",null,null,"鹤山市优创职业培训学校有限公司",null,null,"台山市安全生产管理协会",null,null,"鹤山市安全生产管理协会",null,null,"江门市江海区万众职业培训学校",null,null,"开平市中邑安安全技术咨询有限公司",null,null,"江门市江海区安全生产管理协会",null,null,"江门市天晟安全事务有限公司",null,null,"全市合计"]
[null,"实考人数","合格人数","通过率","实考人数","合格人数","通过率","实考人数","合格人数","通过率","实考人数","合格人数","通过率","实考人数","合格人数","通过率","实考人数","合格人数","通过率","实考人数","合格人数","通过率","实考人数","合格人数","通过率","实考人数","合格人数","通过率","实考人数","合格人数","通过率","实考人数","合格人数","通过率","实考人数","合格人数","通过率","实考人数","合格人数","通过率","实考人数","合格人数","通过率","实考人数","合格人数","通过率","实考人数","合格人数","通过率"]
["低压电工初训",{"$nulls":3},1,0,{"$f":"F4/E4","v":{"v":0,"d":"0.0%"}},{"$nulls":27},1,0,{"$f":"AJ4/AI4","v":{"v":0,"d":"0.0%"}},{"$nulls":9},{"$f":"B4+E4+H4+K4+N4+Q4+T4+W4+Z4+AC4+AF4+AI4+AL4+AO4+AR4","v":2},{"$f":"C4+F4+I4+L4+O4+R4+U4+X4+AA4+AD4+AG4+AJ4+AM4+AP4+AS4","v":0},{"$f":"AV4/AU4","v":{"v":0,"d":"0.0%"}}]
["高压电工初训",{"$nulls":9},6,6,{"$f":"L5/K5","v":{"v":1,"d":"100.0%"}},{"$nulls":33},6,6,{"v":1,"d":"100.0%"}]
["电力电缆初训"]
["熔化焊接与热切割初训",1,1,{"$f":"C7/B7","v":{"v":1,"d":"100.0%"}},{"$nulls":15},1,1,{"$f":"U7/T7","v":{"v":1,"d":"100.0%"}},{"$nulls":24},2,2,{"v":1,"d":"100.0%"}]
["高处安装维护拆除初训",{"$nulls":9},2,2,{"v":1,"d":"100.0%"},{"$nulls":33},2,2,{"v":1,"d":"100.0%"}]
["特种作业初训合计",{"$f":"SUM(B4:B8)","v":1},{"$f":"SUM(C4:C8)","v":1},{"$f":"C9/B9","v":{"v":1,"d":"100.0%"}},{"$f":"SUM(E4:E8)","v":1},{"$f":"SUM(F4:F8)","v":0},{"$f":"F9/E9","v":{"v":0,"d":"0.0%"}},{"$nulls":3},{"$f":"SUM(K4:K8)","v":8},{"$f":"SUM(L4:L8)","v":8},{"v":1,"d":"100.0%"},{"$nulls":6},{"$f":"SUM(T4:T8)","v":1},{"$f":"SUM(U4:U8)","v":1},{"$f":"U9/T9","v":{"v":1,"d":"100.0%"}},{"$nulls":12},{"$f":"SUM(AI4:AI8)","v":1},{"$f":"SUM(AJ4:AJ8)","v":0},{"$f":"AJ9/AI9","v":{"v":0,"d":"0.0%"}},{"$nulls":9},12,10,{"v":0.833333333333333,"d":"83.3%"}]
["低压电工复训",{"$nulls":3},1,1,{"$f":"F10/E10","v":{"v":1,"d":"100.0%"}},{"$nulls":9},4,4,{"$f":"R10/Q10","v":{"v":1,"d":"100.0%"}},{"$nulls":21},3,3,{"$f":"AP10/AO10","v":{"v":1,"d":"100.0%"}},{"$nulls":3},8,8,{"v":1,"d":"100.0%"}]
["高压电工复训",{"$nulls":9},1,1,{"v":1,"d":"100.0%"},{"$nulls":24},4,4,{"$f":"AM11/AL11","v":{"v":1,"d":"100.0%"}},{"$nulls":6},5,5,{"v":1,"d":"100.0%"}]
["熔化焊接与热切割复训",5,5,{"$f":"C12/B12","v":{"v":1,"d":"100.0%"}},{"$nulls":21},1,1,{"$f":"AA12/Z12","v":{"v":1,"d":"100.0%"}},{"$nulls":18},6,6,{"v":1,"d":"100.0%"}]
["钎焊复训"]
["高处安装维护拆除复训"]
["登高架设复训",{"$nulls":15},1,1,{"$f":"R15/Q15","v":{"v":1,"d":"100.0%"}},{"$nulls":27},{"$f":"B15+E15+H15+K15+N15+Q15+T15+W15+Z15+AC15+AF15+AI15+AL15+AO15+AR15","v":1},{"$f":"C15+F15+I15+L15+O15+R15+U15+X15+AA15+AD15+AG15+AJ15+AM15+AP15+AS15","v":1},{"$f":"AV15/AU15","v":{"v":1,"d":"100.0%"}}]
["制冷与空调运行操作复训",1,1,{"$f":"C16/B16","v":{"v":1,"d":"100.0%"}}]
["制冷与空调安装修理复训"]
["矿山安检复训"]
["电力电缆复训"]
["电气试验复训"]
["继电保护复训",{"$nulls":3},1,1,{"$f":"F21/E21","v":{"v":1,"d":"100.0%"}},{"$nulls":39},{"$f":"B21+E21+H21+K21+N21+Q21+T21+W21+Z21+AC21+AF21+AI21+AL21+AO21+AR21","v":1},{"$f":"C21+F21+I21+L21+O21+R21+U21+X21+AA21+AD21+AG21+AJ21+AM21+AP21+AS21","v":1},{"$f":"AV21/AU21","v":{"v":1,"d":"100.0%"}}]
["特种作业复训合计",{"$f":"SUM(B10:B21)","v":6},{"$f":"SUM(C10:C21)","v":6},{"$f":"C22/B22","v":{"v":1,"d":"100.0%"}},{"$f":"SUM(E10:E21)","v":2},{"$f":"SUM(F10:F21)","v":2},{"$f":"F22/E22","v":{"v":1,"d":"100.0%"}},{"$nulls":3},{"$f":"SUM(K10:K21)","v":1},{"$f":"SUM(L10:L21)","v":1},{"$f":"L22/K22","v":{"v":1,"d":"100.0%"}},{"$nulls":3},{"$f":"SUM(Q10:Q21)","v":5},{"$f":"SUM(R10:R21)","v":5},{"$f":"R22/Q22","v":{"v":1,"d":"100.0%"}},{"$nulls":6},{"$f":"SUM(Z10:Z21)","v":1},{"$f":"SUM(AA10:AA21)","v":1},{"$f":"AA22/Z22","v":{"v":1,"d":"100.0%"}},{"$nulls":9},{"$f":"SUM(AL10:AL21)","v":4},{"$f":"SUM(AM10:AM21)","v":4},{"$f":"AM22/AL22","v":{"v":1,"d":"100.0%"}},{"$f":"SUM(AO10:AO21)","v":3},{"$f":"SUM(AP10:AP21)","v":3},{"$f":"AP22/AO22","v":{"v":1,"d":"100.0%"}},{"$nulls":3},22,22,{"v":1,"d":"100.0%"}]
["特种作业人员合计",{"$f":"B9+B22","v":7},{"$f":"C9+C22","v":7},{"$f":"C23/B23","v":{"v":1,"d":"100.0%"}},{"$f":"E9+E22","v":3},{"$f":"F9+F22","v":2},{"$f":"F23/E23","v":{"v":0.666666666666667,"d":"66.7%"}},{"$nulls":3},{"$f":"K9+K22","v":9},{"$f":"L9+L22","v":9},{"$f":"L23/K23","v":{"v":1,"d":"100.0%"}},{"$nulls":3},{"$f":"Q9+Q22","v":5},{"$f":"R9+R22","v":5},{"$f":"R23/Q23","v":{"v":1,"d":"100.0%"}},{"$f":"T9+T22","v":1},{"$f":"U9+U22","v":1},{"$f":"U23/T23","v":{"v":1,"d":"100.0%"}},{"$nulls":3},{"$f":"Z9+Z22","v":1},{"$f":"AA9+AA22","v":1},{"$f":"AA23/Z23","v":{"v":1,"d":"100.0%"}},{"$nulls":6},{"$f":"AI9+AI22","v":1},{"$f":"AJ9+AJ22","v":0},{"$f":"AJ23/AI23","v":{"v":0,"d":"0.0%"}},{"$f":"AL9+AL22","v":4},{"$f":"AM9+AM22","v":4},{"$f":"AM23/AL23","v":{"v":1,"d":"100.0%"}},{"$f":"AO9+AO22","v":3},{"$f":"AP9+AP22","v":3},{"$f":"AP23/AO23","v":{"v":1,"d":"100.0%"}},{"$nulls":3},34,32,{"v":0.941176470588235,"d":"94.1%"}]
["烟花爆竹经营负责人初训"]
["危化生产负责人初训",{"$nulls":9},3,3,{"$f":"L25/K25","v":{"v":1,"d":"100.0%"}},{"$nulls":33},3,3,{"v":1,"d":"100.0%"}]
["危化经营负责人初训",7,7,{"$f":"C26/B26","v":{"v":1,"d":"100.0%"}},{"$nulls":27},1,1,{"$f":"AG26/AF26","v":{"v":1,"d":"100.0%"}},{"$nulls":12},8,8,{"v":1,"d":"100.0%"}]
["非煤矿山负责人初训"]
["金属冶炼负责人初训"]
["高危行业负责人初训合计",{"$f":"SUM(B24:B28)","v":7},{"$f":"SUM(C24:C28)","v":7},{"$f":"C29/B29","v":{"v":1,"d":"100.0%"}},{"$nulls":6},{"$f":"SUM(K24:K28)","v":3},{"$f":"SUM(L24:L28)","v":3},{"$f":"L29/K29","v":{"v":1,"d":"100.0%"}},{"$nulls":18},{"$f":"SUM(AF24:AF28)","v":1},{"$f":"SUM(AG24:AG28)","v":1},{"$f":"AG29/AF29","v":{"v":1,"d":"100.0%"}},{"$nulls":12},{"$f":"B29+E29+H29+K29+N29+Q29+T29+W29+Z29+AC29+AF29+AI29+AL29+AO29+AR29","v":11},{"$f":"C29+F29+I29+L29+O29+R29+U29+X29+AA29+AD29+AG29+AJ29+AM29+AP29+AS29","v":11},{"$f":"AV29/AU29","v":{"v":1,"d":"100.0%"}}]
["烟花爆竹经营负责人复训"]
["危化生产负责人复训"]
["危化经营负责人复训",2,2,{"$f":"C32/B32","v":{"v":1,"d":"100.0%"}},{"$nulls":6},4,4,{"$f":"L32/K32","v":{"v":1,"d":"100.0%"}},{"$nulls":18},9,9,{"$f":"AG32/AF32","v":{"v":1,"d":"100.0%"}},{"$nulls":9},1,1,{"$f":"AS32/AR32","v":{"v":1,"d":"100.0%"}},{"$f":"B32+E32+H32+K32+N32+Q32+T32+W32+Z32+AC32+AF32+AI32+AL32+AO32+AR32","v":16},{"$f":"C32+F32+I32+L32+O32+R32+U32+X32+AA32+AD32+AG32+AJ32+AM32+AP32+AS32","v":16},{"$f":"AV32/AU32","v":{"v":1,"d":"100.0%"}}]
["非煤矿山负责人复训"]
["金属冶炼负责人复训"]
["高危行业负责人复训合计",{"$f":"SUM(B30:B34)","v":2},{"$f":"SUM(C30:C34)","v":2},{"$f":"C35/B35","v":{"v":1,"d":"100.0%"}},{"$nulls":6},{"$f":"SUM(K30:K34)","v":4},{"$f":"SUM(L30:L34)","v":4},{"$f":"L35/K35","v":{"v":1,"d":"100.0%"}},{"$nulls":18},{"$f":"SUM(AF30:AF34)","v":9},{"$f":"SUM(AG30:AG34)","v":9},{"$f":"AG35/AF35","v":{"v":1,"d":"100.0%"}},{"$nulls":9},{"$f":"SUM(AR30:AR34)","v":1},{"$f":"SUM(AS30:AS34)","v":1},{"$f":"AS35/AR35","v":{"v":1,"d":"100.0%"}},{"$f":"B35+E35+H35+K35+N35+Q35+T35+W35+Z35+AC35+AF35+AI35+AL35+AO35+AR35","v":16},{"$f":"C35+F35+I35+L35+O35+R35+U35+X35+AA35+AD35+AG35+AJ35+AM35+AP35+AS35","v":16},{"$f":"AV35/AU35","v":{"v":1,"d":"100.0%"}}]
["高危行业主要负责人合计",{"$f":"B29+B35","v":9},{"$f":"C29+C35","v":9},{"$f":"C36/B36","v":{"v":1,"d":"100.0%"}},{"$nulls":6},{"$f":"K29+K35","v":7},{"$f":"L29+L35","v":7},{"$f":"L36/K36","v":{"v":1,"d":"100.0%"}},{"$nulls":18},{"$f":"AF29+AF35","v":10},{"$f":"AG29+AG35","v":10},{"$f":"AG36/AF36","v":{"v":1,"d":"100.0%"}},{"$nulls":9},{"$f":"AR29+AR35","v":1},{"$f":"AS29+AS35","v":1},{"$f":"AS36/AR36","v":{"v":1,"d":"100.0%"}},{"$f":"B36+E36+H36+K36+N36+Q36+T36+W36+Z36+AC36+AF36+AI36+AL36+AO36+AR36","v":27},{"$f":"C36+F36+I36+L36+O36+R36+U36+X36+AA36+AD36+AG36+AJ36+AM36+AP36+AS36","v":27},{"$f":"AV36/AU36","v":{"v":1,"d":"100.0%"}}]
["烟花爆竹经营安管初训"]
["危化生产安管初训",{"$nulls":39},1,1,{"$f":"AP38/AO38","v":{"v":1,"d":"100.0%"}},{"$nulls":3},{"$f":"B38+E38+H38+K38+N38+Q38+T38+W38+Z38+AC38+AF38+AI38+AL38+AO38+AR38","v":1},{"$f":"C38+F38+I38+L38+O38+R38+U38+X38+AA38+AD38+AG38+AJ38+AM38+AP38+AS38","v":1},{"$f":"AV38/AU38","v":{"v":1,"d":"100.0%"}}]
["危化经营安管初训",4,4,{"$f":"C39/B39","v":{"v":1,"d":"100.0%"}},{"$nulls":27},1,1,{"$f":"AG39/AF39","v":{"v":1,"d":"100.0%"}},{"$nulls":12},{"$f":"B39+E39+H39+K39+N39+Q39+T39+W39+Z39+AC39+AF39+AI39+AL39+AO39+AR39","v":5},{"$f":"C39+F39+I39+L39+O39+R39+U39+X39+AA39+AD39+AG39+AJ39+AM39+AP39+AS39","v":5},{"$f":"AV39/AU39","v":{"v":1,"d":"100.0%"}}]
["非煤矿山安管初训"]
["金属冶炼安管初训"]
["高危行业安管初训合计",{"$f":"SUM(B37:B41)","v":4},{"$f":"SUM(C37:C41)","v":4},{"$f":"C42/B42","v":{"v":1,"d":"100.0%"}},{"$nulls":6},{"$f":"SUM(K37:K41)","v":0},{"$f":"SUM(L37:L41)","v":0},{"$f":"L42/K42","v":{"$error":"#DIV/0!"}},{"$nulls":18},{"$f":"SUM(AF37:AF41)","v":1},{"$f":"SUM(AG37:AG41)","v":1},{"$f":"AG42/AF42","v":{"v":1,"d":"100.0%"}},{"$nulls":6},{"$f":"SUM(AO37:AO41)","v":1},{"$f":"SUM(AP37:AP41)","v":1},{"$f":"AP42/AO42","v":{"v":1,"d":"100.0%"}},{"$nulls":3},{"$f":"B42+E42+H42+K42+N42+Q42+T42+W42+Z42+AC42+AF42+AI42+AL42+AO42+AR42","v":6},{"$f":"C42+F42+I42+L42+O42+R42+U42+X42+AA42+AD42+AG42+AJ42+AM42+AP42+AS42","v":6},{"$f":"AV42/AU42","v":{"v":1,"d":"100.0%"}}]
["烟花爆竹经营安管复训"]
["危化生产安管复训",1,1,{"$f":"C44/B44","v":{"v":1,"d":"100.0%"}},{"$nulls":6},1,1,{"$f":"L44/K44","v":{"v":1,"d":"100.0%"}},{"$nulls":27},3,3,{"$f":"AP44/AO44","v":{"v":1,"d":"100.0%"}},{"$nulls":3},{"$f":"B44+E44+H44+K44+N44+Q44+T44+W44+Z44+AC44+AF44+AI44+AL44+AO44+AR44","v":5},{"$f":"C44+F44+I44+L44+O44+R44+U44+X44+AA44+AD44+AG44+AJ44+AM44+AP44+AS44","v":5},{"$f":"AV44/AU44","v":{"v":1,"d":"100.0%"}}]
["危化经营安管复训",2,2,{"$f":"C45/B45","v":{"v":1,"d":"100.0%"}},{"$nulls":39},2,2,{"$f":"AS45/AR45","v":{"v":1,"d":"100.0%"}},{"$f":"B45+E45+H45+K45+N45+Q45+T45+W45+Z45+AC45+AF45+AI45+AL45+AO45+AR45","v":4},{"$f":"C45+F45+I45+L45+O45+R45+U45+X45+AA45+AD45+AG45+AJ45+AM45+AP45+AS45","v":4},{"$f":"AV45/AU45","v":{"v":1,"d":"100.0%"}}]
["非煤矿山安管复训"]
["金属冶炼安管复训"]
["高危行业安管复训合计",{"$f":"SUM(B43:B47)","v":3},{"$f":"SUM(C43:C47)","v":3},{"$f":"C48/B48","v":{"v":1,"d":"100.0%"}},{"$nulls":6},{"$f":"SUM(K43:K47)","v":1},{"$f":"SUM(L43:L47)","v":1},{"$f":"L48/K48","v":{"v":1,"d":"100.0%"}},{"$nulls":27},{"$f":"SUM(AO43:AO47)","v":3},{"$f":"SUM(AP43:AP47)","v":3},{"$f":"AP48/AO48","v":{"v":1,"d":"100.0%"}},{"$f":"SUM(AR43:AR47)","v":2},{"$f":"SUM(AS43:AS47)","v":2},{"$f":"AS48/AR48","v":{"v":1,"d":"100.0%"}},{"$f":"B48+E48+H48+K48+N48+Q48+T48+W48+Z48+AC48+AF48+AI48+AL48+AO48+AR48","v":9},9,{"$f":"AV48/AU48","v":{"v":1,"d":"100.0%"}}]
["高危行业安管人员合计",{"$f":"B42+B48","v":7},{"$f":"C42+C48","v":7},{"$f":"C49/B49","v":{"v":1,"d":"100.0%"}},{"$nulls":6},{"$f":"K42+K48","v":1},{"$f":"L42+L48","v":1},{"$f":"L49/K49","v":{"v":1,"d":"100.0%"}},{"$nulls":18},{"$f":"AF42+AF48","v":1},{"$f":"AG42+AG48","v":1},{"$f":"AG49/AF49","v":{"v":1,"d":"100.0%"}},{"$nulls":6},{"$f":"AO42+AO48","v":4},{"$f":"AP42+AP48","v":4},{"$f":"AP49/AO49","v":{"v":1,"d":"100.0%"}},{"$f":"AR42+AR48","v":2},{"$f":"AS42+AS48","v":2},{"$f":"AS49/AR49","v":{"v":1,"d":"100.0%"}},15,15,{"$f":"AV49/AU49","v":{"v":1,"d":"100.0%"}}]
["高危行业负责人安管合计",{"$f":"B36+B49","v":16},{"$f":"C36+C49","v":16},{"$f":"C50/B50","v":{"v":1,"d":"100.0%"}},{"$nulls":6},{"$f":"K36+K49","v":8},{"$f":"L36+L49","v":8},{"$f":"L50/K50","v":{"v":1,"d":"100.0%"}},{"$nulls":18},{"$f":"AF36+AF49","v":11},{"$f":"AG36+AG49","v":11},{"$f":"AG50/AF50","v":{"v":1,"d":"100.0%"}},{"$nulls":6},{"$f":"AO36+AO49","v":4},{"$f":"AP36+AP49","v":4},{"$f":"AP50/AO50","v":{"v":1,"d":"100.0%"}},{"$f":"AR36+AR49","v":3},{"$f":"AS36+AS49","v":3},{"$f":"AS50/AR50","v":{"v":1,"d":"100.0%"}},42,42,{"$f":"AV50/AU50","v":{"v":1,"d":"100.0%"}}]
["全工种合计",{"$f":"B23+B50","v":23},{"$f":"C23+C50","v":23},{"$f":"C51/B51","v":{"v":1,"d":"100.0%"}},{"$f":"E23+E50","v":3},{"$f":"F23+F50","v":2},{"$f":"F51/E51","v":{"v":0.666666666666667,"d":"66.7%"}},{"$nulls":3},{"$f":"K23+K50","v":17},{"$f":"L23+L50","v":17},{"$f":"L51/K51","v":{"v":1,"d":"100.0%"}},{"$nulls":3},{"$f":"Q23+Q50","v":5},{"$f":"R23+R50","v":5},{"$f":"R51/Q51","v":{"v":1,"d":"100.0%"}},{"$f":"T23+T50","v":1},{"$f":"U23+U50","v":1},{"$f":"U51/T51","v":{"v":1,"d":"100.0%"}},{"$nulls":3},{"$f":"Z23+Z50","v":1},{"$f":"AA23+AA50","v":1},{"$f":"AA51/Z51","v":{"v":1,"d":"100.0%"}},{"$nulls":3},{"$f":"AF23+AF50","v":11},{"$f":"AG23+AG50","v":11},{"$f":"AG51/AF51","v":{"v":1,"d":"100.0%"}},{"$f":"AI23+AI50","v":1},{"$f":"AJ23+AJ50","v":0},{"$f":"AJ51/AI51","v":{"v":0,"d":"0.0%"}},{"$f":"AL23+AL50","v":4},{"$f":"AM23+AM50","v":4},{"$f":"AM51/AL51","v":{"v":1,"d":"100.0%"}},{"$f":"AO23+AO50","v":7},{"$f":"AP23+AP50","v":7},{"$f":"AP51/AO51","v":{"v":1,"d":"100.0%"}},{"$f":"AR23+AR50","v":3},{"$f":"AS23+AS50","v":3},{"$f":"AS51/AR51","v":{"v":1,"d":"100.0%"}},76,74,{"$f":"AV51/AU51","v":{"v":0.973684210526316,"d":"97.4%"}}]
["备注：\n1.培训机构名称以全国安全生产培训考试信息管理系统记录为准，按系统顺序排序；\n2.实考人数=报考总人数-正考补考均缺考人数-考试违规被取消成绩人数；\n3.仅统计已完成考试者，还有补考机会者不统计。"]

{"sheet":"5月","index":3,"n_rows":52,"n_cols":49,"rows_kept":52,"merged":[[0,0,0,48],[1,0,2,0],[1,1,1,3],[1,4,1,6],[1,7,1,9],[1,10,1,12],[1,13,1,15],[1,16,1,18],[1,19,1,21],[1,22,1,24],[1,25,1,27],[1,28,1,30],[1,31,1,33],[1,34,1,36],[1,37,1,39],[1,40,1,42],[1,43,1,45],[1,46,1,48],[51,0,51,48]]}
["2022年5月各安全培训机构考生通过率统计表"]
["            培训机构\n    工种","江门市安信职业安全培训有限公司",null,null,"广东四维培训有限公司",null,null,"江门市技师学院",null,null,"江门市江海区共升教育培训中心",null,null,"江门市侨都安全咨询服务有限公司",null,null,"江门市安全生产管理协会",null,null,"江门市新会技师学院",null,null,"江门市新会机电职业技术学校",null,null,"鹤山市优创职业培训学校有限公司",null,null,"台山市安全生产管理协会",null,null,"鹤山市安全生产管理协会",null,null,"江门市江海区万众职业培训学校",null,null,"开平市中邑安安全技术咨询有限公司",null,null,"江门市江海区安全生产管理协会",null,null,"江门市天晟安全事务有限公司",null,null,"全市合计"]
[null,"实考人数","合格人数","通过率","实考人数","合格人数","通过率","实考人数","合格人数","通过率","实考人数","合格人数","通过率","实考人数","合格人数","通过率","实考人数","合格人数","通过率","实考人数","合格人数","通过率","实考人数","合格人数","通过率","实考人数","合格人数","通过率","实考人数","合格人数","通过率","实考人数","合格人数","通过率","实考人数","合格人数","通过率","实考人数","合格人数","通过率","实考人数","合格人数","通过率","实考人数","合格人数","通过率","实考人数","合格人数","通过率"]
["低压电工初训",32,27,{"$f":"C4/B4","v":{"v":0.84375,"d":"84.4%"}},73,62,{"$f":"F4/E4","v":{"v":0.849315068493151,"d":"84.9%"}},{"$nulls":3},33,30,{"$f":"L4/K4","v":{"v":0.909090909090909,"d":"90.9%"}},45,39,{"$f":"O4/N4","v":{"v":0.866666666666667,"d":"86.7%"}},{"$nulls":6},46,42,{"$f":"X4/W4","v":{"v":0.91304347826087,"d":"91.3%"}},57,48,{"$f":"AA4/Z4","v":{"v":0.842105263157895,"d":"84.2%"}},37,28,{"$f":"AD4/AC4","v":{"v":0.756756756756757,"d":"75.7%"}},18,14,{"$f":"AG4/AF4","v":{"v":0.777777777777778,"d":"77.8%"}},110,62,{"$f":"AJ4/AI4","v":{"v":0.563636363636364,"d":"56.4%"}},47,36,{"$f":"AM4/AL4","v":{"v":0.765957446808511,"d":"76.6%"}},1,1,{"$f":"AP4/AO4","v":{"v":1,"d":"100.0%"}},{"$nulls":3},{"$f":"B4+E4+H4+K4+N4+Q4+T4+W4+Z4+AC4+AF4+AI4+AL4+AO4+AR4","v":499},{"$f":"C4+F4+I4+L4+O4+R4+U4+X4+AA4+AD4+AG4+AJ4+AM4+AP4+AS4","v":389},{"$f":"AV4/AU4","v":{"v":0.779559118236473,"d":"78.0%"}}]
["高压电工初训",36,34,{"v":0.944444444444444,"d":"94.4%"},30,21,{"v":0.7,"d":"70.0%"},{"$nulls":3},2,2,{"v":1,"d":"100.0%"},5,4,{"$f":"O5/N5","v":{"v":0.8,"d":"80.0%"}},{"$nulls":21},5,4,{"$f":"AM5/AL5","v":{"v":0.8,"d":"80.0%"}},{"$nulls":6},78,65,{"v":0.833333333333333,"d":"83.3%"}]
["电力电缆初训"]
["熔化焊接与热切割初训",{"$nulls":9},2,1,{"v":0.5,"d":"50.0%"},4,4,{"$f":"O7/N7","v":{"v":1,"d":"100.0%"}},{"$nulls":9},95,63,{"v":0.663157894736842,"d":"66.3%"},{"$nulls":3},32,31,{"$f":"AG7/AF7","v":{"v":0.96875,"d":"96.9%"}},54,39,{"v":0.722222222222222,"d":"72.2%"},29,24,{"$f":"AM7/AL7","v":{"v":0.827586206896552,"d":"82.8%"}},11,6,{"v":0.545454545454545,"d":"54.5%"},{"$nulls":3},227,168,{"v":0.740088105726872,"d":"74.0%"}]
["高处安装维护拆除初训",{"$nulls":9},101,94,{"v":0.930693069306931,"d":"93.1%"},{"$nulls":24},53,48,{"v":0.905660377358491,"d":"90.6%"},{"$nulls":6},154,142,{"v":0.922077922077922,"d":"92.2%"}]
["特种作业初训合计",{"$f":"SUM(B4:B8)","v":68},{"$f":"SUM(C4:C8)","v":61},{"v":0.897058823529412,"d":"89.7%"},{"$f":"SUM(E4:E8)","v":103},{"$f":"SUM(F4:F8)","v":83},{"v":0.805825242718447,"d":"80.6%"},{"$nulls":3},{"$f":"SUM(K4:K8)","v":138},{"$f":"SUM(L4:L8)","v":127},{"v":0.920289855072464,"d":"92.0%"},{"$f":"SUM(N4:N8)","v":54},{"$f":"SUM(O4:O8)","v":47},{"$f":"O9/N9","v":{"v":0.87037037037037,"d":"87.0%"}},{"$nulls":6},{"$f":"SUM(W4:W8)","v":46},{"$f":"SUM(X4:X8)","v":42},{"$f":"X9/W9","v":{"v":0.91304347826087,"d":"91.3%"}},{"$f":"SUM(Z4:Z8)","v":152},{"$f":"SUM(AA4:AA8)","v":111},{"v":0.730263157894737,"d":"73.0%"},{"$f":"SUM(AC4:AC8)","v":37},{"$f":"SUM(AD4:AD8)","v":28},{"v":0.756756756756757,"d":"75.7%"},{"$f":"SUM(AF4:AF8)","v":50},{"$f":"SUM(AG4:AG8)","v":45},{"$f":"AG9/AF9","v":{"v":0.9,"d":"90.0%"}},{"$f":"SUM(AI4:AI8)","v":164},{"$f":"SUM(AJ4:AJ8)","v":101},{"v":0.615853658536585,"d":"61.6%"},{"$f":"SUM(AL4:AL8)","v":134},{"$f":"SUM(AM4:AM8)","v":112},{"v":0.835820895522388,"d":"83.6%"},{"$f":"SUM(AO4:AO8)","v":12},{"$f":"SUM(AP4:AP8)","v":7},{"v":0.583333333333333,"d":"58.3%"},{"$nulls":3},958,764,{"v":0.797494780793319,"d":"79.7%"}]
["低压电工复训",318,311,{"v":0.977987421383648,"d":"97.8%"},27,26,{"v":0.962962962962963,"d":"96.3%"},{"$nulls":3},64,63,{"v":0.984375,"d":"98.4%"},114,112,{"$f":"O10/N10","v":{"v":0.982456140350877,"d":"98.2%"}},14,14,{"$f":"R10/Q10","v":{"v":1,"d":"100.0%"}},33,32,{"$f":"U10/T10","v":{"v":0.96969696969697,"d":"97.0%"}},{"$nulls":3},8,8,{"v":1,"d":"100.0%"},150,144,{"v":0.96,"d":"96.0%"},158,153,{"$f":"AG10/AF10","v":{"v":0.968354430379747,"d":"96.8%"}},34,31,{"v":0.911764705882353,"d":"91.2%"},66,61,{"v":0.924242424242424,"d":"92.4%"},3,3,{"v":1,"d":"100.0%"},{"$nulls":3},989,958,{"v":0.968655207280081,"d":"96.9%"}]
["高压电工复训",74,66,{"v":0.891891891891892,"d":"89.2%"},82,74,{"v":0.902439024390244,"d":"90.2%"},{"$nulls":3},46,40,{"v":0.869565217391304,"d":"87.0%"},7,7,{"$f":"O11/N11","v":{"v":1,"d":"100.0%"}},4,4,{"$f":"R11/Q11","v":{"v":1,"d":"100.0%"}},3,3,{"$f":"U11/T11","v":{"v":1,"d":"100.0%"}},{"$nulls":6},14,14,{"v":1,"d":"100.0%"},15,14,{"$f":"AG11/AF11","v":{"v":0.933333333333333,"d":"93.3%"}},{"$nulls":3},4,4,{"v":1,"d":"100.0%"},{"$nulls":6},249,226,{"v":0.907630522088353,"d":"90.8%"}]
["熔化焊接与热切割复训",83,78,{"v":0.939759036144578,"d":"94.0%"},11,9,{"v":0.818181818181818,"d":"81.8%"},{"$nulls":3},69,64,{"v":0.927536231884058,"d":"92.8%"},24,23,{"$f":"O12/N12","v":{"v":0.958333333333333,"d":"95.8%"}},4,3,{"$f":"R12/Q12","v":{"v":0.75,"d":"75.0%"}},18,18,{"$f":"U12/T12","v":{"v":1,"d":"100.0%"}},{"$nulls":3},2,0,{"$f":"AA12/Z12","v":{"v":0,"d":"0.0%"}},16,16,{"v":1,"d":"100.0%"},40,38,{"$f":"AG12/AF12","v":{"v":0.95,"d":"95.0%"}},8,5,{"$f":"AJ12/AI12","v":{"v":0.625,"d":"62.5%"}},6,6,{"v":1,"d":"100.0%"},{"$nulls":6},281,260,{"v":0.925266903914591,"d":"92.5%"}]
["钎焊复训"]
["高处安装维护拆除复训",103,100,{"$f":"C14/B14","v":{"v":0.970873786407767,"d":"97.1%"}},383,371,{"$f":"F14/E14","v":{"v":0.968668407310705,"d":"96.9%"}},{"$nulls":3},14,13,{"$f":"L14/K14","v":{"v":0.928571428571429,"d":"92.9%"}},{"$nulls":3},5,4,{"$f":"R14/Q14","v":{"v":0.8,"d":"80.0%"}},{"$nulls":18},1,1,{"$f":"AM14/AL14","v":{"v":1,"d":"100.0%"}},{"$nulls":6},{"$f":"B14+E14+H14+K14+N14+Q14+T14+W14+Z14+AC14+AF14+AI14+AL14+AO14+AR14","v":506},{"$f":"C14+F14+I14+L14+O14+R14+U14+X14+AA14+AD14+AG14+AJ14+AM14+AP14+AS14","v":489},{"$f":"AV14/AU14","v":{"v":0.966403162055336,"d":"96.6%"}}]
["登高架设复训",2,2,{"v":1,"d":"100.0%"},4,3,{"$f":"F15/E15","v":{"v":0.75,"d":"75.0%"}},{"$nulls":39},{"$f":"B15+E15+H15+K15+N15+Q15+T15+W15+Z15+AC15+AF15+AI15+AL15+AO15+AR15","v":6},{"$f":"C15+F15+I15+L15+O15+R15+U15+X15+AA15+AD15+AG15+AJ15+AM15+AP15+AS15","v":5},{"$f":"AV15/AU15","v":{"v":0.833333333333333,"d":"83.3%"}}]
["制冷与空调运行操作复训"]
["制冷与空调安装修理复训",1,1,{"v":1,"d":"100.0%"},{"$nulls":42},{"$f":"B17+E17+H17+K17+N17+Q17+T17+W17+Z17+AC17+AF17+AI17+AL17+AO17+AR17","v":1},{"$f":"C17+F17+I17+L17+O17+R17+U17+X17+AA17+AD17+AG17+AJ17+AM17+AP17+AS17","v":1},{"$f":"AV17/AU17","v":{"v":1,"d":"100.0%"}}]
["矿山安检复训",4,4,{"v":1,"d":"100.0%"},{"$nulls":42},{"$f":"B18+E18+H18+K18+N18+Q18+T18+W18+Z18+AC18+AF18+AI18+AL18+AO18+AR18","v":4},{"$f":"C18+F18+I18+L18+O18+R18+U18+X18+AA18+AD18+AG18+AJ18+AM18+AP18+AS18","v":4},{"$f":"AV18/AU18","v":{"v":1,"d":"100.0%"}}]
["电力电缆复训",4,3,{"v":0.75,"d":"75.0%"},8,4,{"$f":"F19/E19","v":{"v":0.5,"d":"50.0%"}},{"$nulls":39},{"$f":"B19+E19+H19+K19+N19+Q19+T19+W19+Z19+AC19+AF19+AI19+AL19+AO19+AR19","v":12},{"$f":"C19+F19+I19+L19+O19+R19+U19+X19+AA19+AD19+AG19+AJ19+AM19+AP19+AS19","v":7},{"$f":"AV19/AU19","v":{"v":0.583333333333333,"d":"58.3%"}}]
["电气试验复训",3,3,{"$f":"C20/B20","v":{"v":1,"d":"100.0%"}},6,5,{"$f":"F20/E20","v":{"v":0.833333333333333,"d":"83.3%"}},{"$nulls":3},1,1,{"$f":"L20/K20","v":{"v":1,"d":"100.0%"}},{"$nulls":33},10,9,{"v":0.9,"d":"90.0%"}]
["继电保护复训",2,2,{"v":1,"d":"100.0%"},3,3,{"$f":"F21/E21","v":{"v":1,"d":"100.0%"}},{"$nulls":39},5,5,{"v":1,"d":"100.0%"}]
["特种作业复训合计",{"$f":"SUM(B10:B21)","v":594},{"$f":"SUM(C10:C21)","v":570},{"v":0.95959595959596,"d":"96.0%"},{"$f":"SUM(E10:E21)","v":524},{"$f":"SUM(F10:F21)","v":495},{"$f":"F22/E22","v":{"v":0.944656488549618,"d":"94.5%"}},{"$nulls":3},{"$f":"SUM(K10:K21)","v":194},{"$f":"SUM(L10:L21)","v":181},{"$f":"L22/K22","v":{"v":0.93298969072165,"d":"93.3%"}},{"$f":"SUM(N10:N21)","v":145},{"$f":"SUM(O10:O21)","v":142},{"$f":"O22/N22","v":{"v":0.979310344827586,"d":"97.9%"}},{"$f":"SUM(Q10:Q21)","v":27},{"$f":"SUM(R10:R21)","v":25},{"$f":"R22/Q22","v":{"v":0.925925925925926,"d":"92.6%"}},{"$f":"SUM(T10:T21)","v":54},{"$f":"SUM(U10:U21)","v":53},{"$f":"U22/T22","v":{"v":0.981481481481482,"d":"98.1%"}},{"$nulls":3},{"$f":"SUM(Z10:Z21)","v":10},{"$f":"SUM(AA10:AA21)","v":8},{"$f":"AA22/Z22","v":{"v":0.8,"d":"80.0%"}},{"$f":"SUM(AC10:AC21)","v":180},{"$f":"SUM(AD10:AD21)","v":174},{"$f":"AD22/AC22","v":{"v":0.966666666666667,"d":"96.7%"}},{"$f":"SUM(AF10:AF21)","v":213},{"$f":"SUM(AG10:AG21)","v":205},{"$f":"AG22/AF22","v":{"v":0.962441314553991,"d":"96.2%"}},{"$f":"SUM(AI10:AI21)","v":42},{"$f":"SUM(AJ10:AJ21)","v":36},{"$f":"AJ22/AI22","v":{"v":0.857142857142857,"d":"85.7%"}},{"$f":"SUM(AL10:AL21)","v":77},{"$f":"SUM(AM10:AM21)","v":72},{"$f":"AM22/AL22","v":{"v":0.935064935064935,"d":"93.5%"}},{"$f":"SUM(AO10:AO21)","v":3},{"$f":"SUM(AP10:AP21)","v":3},{"$f":"AP22/AO22","v":{"v":1,"d":"100.0%"}},{"$nulls":3},2063,1964,{"v":0.952011633543383,"d":"95.2%"}]
["特种作业人员合计",{"$f":"B9+B22","v":662},{"$f":"C9+C22","v":631},{"v":0.953172205438066,"d":"95.3%"},{"$f":"E9+E22","v":627},{"$f":"F9+F22","v":578},{"$f":"F23/E23","v":{"v":0.921850079744817,"d":"92.2%"}},{"$nulls":3},{"$f":"K9+K22","v":332},{"$f":"L9+L22","v":308},{"$f":"L23/K23","v":{"v":0.927710843373494,"d":"92.8%"}},{"$f":"N9+N22","v":199},{"$f":"O9+O22","v":189},{"$f":"O23/N23","v":{"v":0.949748743718593,"d":"95.0%"}},{"$f":"Q9+Q22","v":27},{"$f":"R9+R22","v":25},{"$f":"R23/Q23","v":{"v":0.925925925925926,"d":"92.6%"}},{"$f":"T9+T22","v":54},{"$f":"U9+U22","v":53},{"$f":"U23/T23","v":{"v":0.981481481481482,"d":"98.1%"}},{"$f":"W9+W22","v":46},{"$f":"X9+X22","v":42},{"$f":"X23/W23","v":{"v":0.91304347826087,"d":"91.3%"}},{"$f":"Z9+Z22","v":162},{"$f":"AA9+AA22","v":119},{"$f":"AA23/Z23","v":{"v":0.734567901234568,"d":"73.5%"}},{"$f":"AC9+AC22","v":217},{"$f":"AD9+AD22","v":202},{"$f":"AD23/AC23","v":{"v":0.930875576036866,"d":"93.1%"}},{"$f":"AF9+AF22","v":263},{"$f":"AG9+AG22","v":250},{"$f":"AG23/AF23","v":{"v":0.950570342205323,"d":"95.1%"}},{"$f":"AI9+AI22","v":206},{"$f":"AJ9+AJ22","v":137},{"$f":"AJ23/AI23","v":{"v":0.66504854368932,"d":"66.5%"}},{"$f":"AL9+AL22","v":211},{"$f":"AM9+AM22","v":184},{"$f":"AM23/AL23","v":{"v":0.872037914691943,"d":"87.2%"}},{"$f":"AO9+AO22","v":15},{"$f":"AP9+AP22","v":10},{"$f":"AP23/AO23","v":{"v":0.666666666666667,"d":"66.7%"}},{"$nulls":3},3021,2728,{"v":0.903012247600132,"d":"90.3%"}]
["烟花爆竹经营负责人初训",2,1,{"v":0.5,"d":"50.0%"},{"$nulls":24},4,3,{"$f":"AD24/AC24","v":{"v":0.75,"d":"75.0%"}},11,10,{"$f":"AG24/AF24","v":{"v":0.909090909090909,"d":"90.9%"}},{"$nulls":12},17,14,{"v":0.823529411764706,"d":"82.4%"}]
["危化生产负责人初训",2,1,{"v":0.5,"d":"50.0%"},{"$nulls":27},3,3,{"$f":"AG25/AF25","v":{"v":1,"d":"100.0%"}},{"$nulls":12},5,4,{"v":0.8,"d":"80.0%"}]
["危化经营负责人初训",28,28,{"v":1,"d":"100.0%"},{"$nulls":6},5,5,{"$f":"L26/K26","v":{"v":1,"d":"100.0%"}},{"$nulls":15},1,1,{"$f":"AD26/AC26","v":{"v":1,"d":"100.0%"}},9,8,{"$f":"AG26/AF26","v":{"v":0.888888888888889,"d":"88.9%"}},{"$nulls":9},5,5,{"$f":"AS26/AR26","v":{"v":1,"d":"100.0%"}},48,47,{"v":0.979166666666667,"d":"97.9%"}]
["非煤矿山负责人初训"]
["金属冶炼负责人初训"]
["高危行业负责人初训合计",{"$f":"SUM(B24:B28)","v":32},{"$f":"SUM(C24:C28)","v":30},{"$f":"C29/B29","v":{"v":0.9375,"d":"93.8%"}},{"$nulls":6},{"$f":"SUM(K24:K28)","v":5},{"$f":"SUM(L24:L28)","v":5},{"v":1,"d":"100.0%"},{"$nulls":15},{"$f":"SUM(AC24:AC28)","v":5},{"$f":"SUM(AD24:AD28)","v":4},{"$f":"AD29/AC29","v":{"v":0.8,"d":"80.0%"}},{"$f":"SUM(AF24:AF28)","v":23},{"$f":"SUM(AG24:AG28)","v":21},{"$f":"AG29/AF29","v":{"v":0.91304347826087,"d":"91.3%"}},{"$nulls":9},{"$f":"SUM(AR24:AR28)","v":5},{"$f":"SUM(AS24:AS28)","v":5},{"$f":"AS29/AR29","v":{"v":1,"d":"100.0%"}},{"$f":"B29+E29+H29+K29+N29+Q29+T29+W29+Z29+AC29+AF29+AI29+AL29+AO29+AR29","v":70},{"$f":"C29+F29+I29+L29+O29+R29+U29+X29+AA29+AD29+AG29+AJ29+AM29+AP29+AS29","v":65},{"$f":"AV29/AU29","v":{"v":0.928571428571429,"d":"92.9%"}}]
["烟花爆竹经营负责人复训"]
["危化生产负责人复训",7,7,{"$f":"C31/B31","v":{"v":1,"d":"100.0%"}},{"$nulls":6},2,2,{"v":1,"d":"100.0%"},{"$nulls":18},18,18,{"$f":"AG31/AF31","v":{"v":1,"d":"100.0%"}},{"$nulls":12},{"$f":"B31+E31+H31+K31+N31+Q31+T31+W31+Z31+AC31+AF31+AI31+AL31+AO31+AR31","v":27},{"$f":"C31+F31+I31+L31+O31+R31+U31+X31+AA31+AD31+AG31+AJ31+AM31+AP31+AS31","v":27},{"$f":"AV31/AU31","v":{"v":1,"d":"100.0%"}}]
["危化经营负责人复训",71,69,{"$f":"C32/B32","v":{"v":0.971830985915493,"d":"97.2%"}},{"$nulls":6},3,3,{"v":1,"d":"100.0%"},{"$nulls":18},33,32,{"$f":"AG32/AF32","v":{"v":0.96969696969697,"d":"97.0%"}},{"$nulls":6},1,1,{"$f":"AP32/AO32","v":{"v":1,"d":"100.0%"}},{"$nulls":3},{"$f":"B32+E32+H32+K32+N32+Q32+T32+W32+Z32+AC32+AF32+AI32+AL32+AO32+AR32","v":108},{"$f":"C32+F32+I32+L32+O32+R32+U32+X32+AA32+AD32+AG32+AJ32+AM32+AP32+AS32","v":105},{"$f":"AV32/AU32","v":{"v":0.972222222222222,"d":"97.2%"}}]
["非煤矿山负责人复训"]
["金属冶炼负责人复训",{"$nulls":15},1,0,{"$f":"R34/Q34","v":{"v":0,"d":"0.0%"}},{"$nulls":27},{"$f":"B34+E34+H34+K34+N34+Q34+T34+W34+Z34+AC34+AF34+AI34+AL34+AO34+AR34","v":1},{"$f":"C34+F34+I34+L34+O34+R34+U34+X34+AA34+AD34+AG34+AJ34+AM34+AP34+AS34","v":0},{"$f":"AV34/AU34","v":{"v":0,"d":"0.0%"}}]
["高危行业负责人复训合计",{"$f":"SUM(B30:B34)","v":78},{"$f":"SUM(C30:C34)","v":76},{"$f":"C35/B35","v":{"v":0.974358974358974,"d":"97.4%"}},{"$nulls":6},{"$f":"SUM(K30:K34)","v":5},{"$f":"SUM(L30:L34)","v":5},{"$f":"L35/K35","v":{"v":1,"d":"100.0%"}},{"$nulls":3},{"$f":"SUM(Q30:Q34)","v":1},{"$f":"SUM(R30:R34)","v":0},{"$f":"R35/Q35","v":{"v":0,"d":"0.0%"}},{"$nulls":12},{"$f":"SUM(AF30:AF34)","v":51},{"$f":"SUM(AG30:AG34)","v":50},{"$f":"AG35/AF35","v":{"v":0.980392156862745,"d":"98.0%"}},{"$nulls":6},{"$f":"SUM(AO30:AO34)","v":1},{"$f":"SUM(AP30:AP34)","v":1},{"$f":"AP35/AO35","v":{"v":1,"d":"100.0%"}},{"$nulls":3},136,132,{"v":0.970588235294118,"d":"97.1%"}]
["高危行业主要负责人合计",{"$f":"B29+B35","v":110},{"$f":"C29+C35","v":106},{"$f":"C36/B36","v":{"v":0.963636363636364,"d":"96.4%"}},{"$nulls":6},{"$f":"K29+K35","v":10},{"$f":"L29+L35","v":10},{"$f":"L36/K36","v":{"v":1,"d":"100.0%"}},{"$nulls":3},{"$f":"Q29+Q35","v":1},{"$f":"R29+R35","v":0},{"$f":"R36/Q36","v":{"v":0,"d":"0.0%"}},{"$nulls":9},{"$f":"AC29+AC35","v":5},{"$f":"AD29+AD35","v":4},{"$f":"AD36/AC36","v":{"v":0.8,"d":"80.0%"}},{"$f":"AF29+AF35","v":74},{"$f":"AG29+AG35","v":71},{"v":0.959459459459459,"d":"95.9%"},{"$nulls":6},{"$f":"AO29+AO35","v":1},{"$f":"AP29+AP35","v":1},{"$f":"AP36/AO36","v":{"v":1,"d":"100.0%"}},{"$f":"AR29+AR35","v":5},{"$f":"AS29+AS35","v":5},{"$f":"AS36/AR36","v":{"v":1,"d":"100.0%"}},206,197,{"v":0.956310679611651,"d":"95.6%"}]
["烟花爆竹经营安管初训",{"$nulls":27},2,1,{"$f":"AD37/AC37","v":{"v":0.5,"d":"50.0%"}},12,8,{"v":0.666666666666667,"d":"66.7%"},{"$nulls":12},14,9,{"v":0.642857142857143,"d":"64.3%"}]
["危化生产安管初训",6,5,{"$f":"C38/B38","v":{"v":0.833333333333333,"d":"83.3%"}},{"$nulls":6},14,14,{"$f":"L38/K38","v":{"v":1,"d":"100.0%"}},{"$nulls":18},1,1,{"v":1,"d":"100.0%"},{"$nulls":12},21,20,{"v":0.952380952380952,"d":"95.2%"}]
["危化经营安管初训",12,11,{"$f":"C39/B39","v":{"v":0.916666666666667,"d":"91.7%"}},{"$nulls":6},10,10,{"$f":"L39/K39","v":{"v":1,"d":"100.0%"}},{"$nulls":15},8,6,{"$f":"AD39/AC39","v":{"v":0.75,"d":"75.0%"}},37,32,{"v":0.864864864864865,"d":"86.5%"},{"$nulls":6},2,2,{"$f":"AP39/AO39","v":{"v":1,"d":"100.0%"}},5,5,{"$f":"AS39/AR39","v":{"v":1,"d":"100.0%"}},74,66,{"v":0.891891891891892,"d":"89.2%"}]
["非煤矿山安管初训",{"$nulls":30},1,1,{"v":1,"d":"100.0%"},{"$nulls":12},1,1,{"v":1,"d":"100.0%"}]
["金属冶炼安管初训"]
["高危行业安管初训合计",{"$f":"SUM(B37:B41)","v":18},{"$f":"SUM(C37:C41)","v":16},{"$f":"C42/B42","v":{"v":0.888888888888889,"d":"88.9%"}},{"$nulls":6},{"$f":"SUM(K37:K41)","v":24},{"$f":"SUM(L37:L41)","v":24},{"$f":"L42/K42","v":{"v":1,"d":"100.0%"}},{"$nulls":15},{"$f":"SUM(AC37:AC41)","v":10},{"$f":"SUM(AD37:AD41)","v":7},{"$f":"AD42/AC42","v":{"v":0.7,"d":"70.0%"}},{"$f":"SUM(AF37:AF41)","v":51},{"$f":"SUM(AG37:AG41)","v":42},{"$f":"AG42/AF42","v":{"v":0.823529411764706,"d":"82.4%"}},{"$nulls":6},{"$f":"SUM(AO37:AO41)","v":2},{"$f":"SUM(AP37:AP41)","v":2},{"v":1,"d":"100.0%"},{"$f":"SUM(AR37:AR41)","v":5},{"$f":"SUM(AS37:AS41)","v":5},{"$f":"AS42/AR42","v":{"v":1,"d":"100.0%"}},{"$f":"B42+E42+H42+K42+N42+Q42+T42+W42+Z42+AC42+AF42+AI42+AL42+AO42+AR42","v":110},{"$f":"C42+F42+I42+L42+O42+R42+U42+X42+AA42+AD42+AG42+AJ42+AM42+AP42+AS42","v":96},{"$f":"AV42/AU42","v":{"v":0.872727272727273,"d":"87.3%"}}]
["烟花爆竹经营安管复训"]
["危化生产安管复训",13,13,{"$f":"C44/B44","v":{"v":1,"d":"100.0%"}},{"$nulls":6},1,1,{"$f":"L44/K44","v":{"v":1,"d":"100.0%"}},{"$nulls":18},47,41,{"$f":"AG44/AF44","v":{"v":0.872340425531915,"d":"87.2%"}},{"$nulls":6},1,1,{"v":1,"d":"100.0%"},{"$nulls":3},{"$f":"B44+E44+H44+K44+N44+Q44+T44+W44+Z44+AC44+AF44+AI44+AL44+AO44+AR44","v":62},{"$f":"C44+F44+I44+L44+O44+R44+U44+X44+AA44+AD44+AG44+AJ44+AM44+AP44+AS44","v":56},{"$f":"AV44/AU44","v":{"v":0.903225806451613,"d":"90.3%"}}]
["危化经营安管复训",123,112,{"$f":"C45/B45","v":{"v":0.910569105691057,"d":"91.1%"}},{"$nulls":6},19,18,{"$f":"L45/K45","v":{"v":0.947368421052632,"d":"94.7%"}},{"$nulls":18},46,44,{"$f":"AG45/AF45","v":{"v":0.956521739130435,"d":"95.7%"}},{"$nulls":12},{"$f":"B45+E45+H45+K45+N45+Q45+T45+W45+Z45+AC45+AF45+AI45+AL45+AO45+AR45","v":188},{"$f":"C45+F45+I45+L45+O45+R45+U45+X45+AA45+AD45+AG45+AJ45+AM45+AP45+AS45","v":174},{"$f":"AV45/AU45","v":{"v":0.925531914893617,"d":"92.6%"}}]
["非煤矿山安管复训"]
["金属冶炼安管复训"]
["高危行业安管复训合计",{"$f":"SUM(B43:B47)","v":136},{"$f":"SUM(C43:C47)","v":125},{"$f":"C48/B48","v":{"v":0.919117647058823,"d":"91.9%"}},{"$nulls":6},{"$f":"SUM(K43:K47)","v":20},{"$f":"SUM(L43:L47)","v":19},{"$f":"L48/K48","v":{"v":0.95,"d":"95.0%"}},{"$nulls":18},{"$f":"SUM(AF43:AF47)","v":93},{"$f":"SUM(AG43:AG47)","v":85},{"$f":"AG48/AF48","v":{"v":0.913978494623656,"d":"91.4%"}},{"$nulls":6},{"$f":"SUM(AO43:AO47)","v":1},{"$f":"SUM(AP43:AP47)","v":1},{"$f":"AP48/AO48","v":{"v":1,"d":"100.0%"}},{"$nulls":3},{"$f":"B48+E48+H48+K48+N48+Q48+T48+W48+Z48+AC48+AF48+AI48+AL48+AO48+AR48","v":250},230,{"$f":"AV48/AU48","v":{"v":0.92,"d":"92.0%"}}]
["高危行业安管人员合计",{"$f":"B42+B48","v":154},{"$f":"C42+C48","v":141},{"$f":"C49/B49","v":{"v":0.915584415584416,"d":"91.6%"}},{"$nulls":6},{"$f":"K42+K48","v":44},{"$f":"L42+L48","v":43},{"$f":"L49/K49","v":{"v":0.977272727272727,"d":"97.7%"}},{"$nulls":15},{"$f":"AC42+AC48","v":10},{"$f":"AD42+AD48","v":7},{"$f":"AD49/AC49","v":{"v":0.7,"d":"70.0%"}},{"$f":"AF42+AF48","v":144},{"$f":"AG42+AG48","v":127},{"$f":"AG49/AF49","v":{"v":0.881944444444444,"d":"88.2%"}},{"$nulls":6},{"$f":"AO42+AO48","v":3},{"$f":"AP42+AP48","v":3},{"$f":"AP49/AO49","v":{"v":1,"d":"100.0%"}},{"$f":"AR42+AR48","v":5},{"$f":"AS42+AS48","v":5},{"$f":"AS49/AR49","v":{"v":1,"d":"100.0%"}},360,326,{"$f":"AV49/AU49","v":{"v":0.905555555555556,"d":"90.6%"}}]
["高危行业负责人安管合计",{"$f":"B36+B49","v":264},{"$f":"C36+C49","v":247},{"$f":"C50/B50","v":{"v":0.935606060606061,"d":"93.6%"}},{"$nulls":6},{"$f":"K36+K49","v":54},{"$f":"L36+L49","v":53},{"$f":"L50/K50","v":{"v":0.981481481481482,"d":"98.1%"}},{"$nulls":3},{"$f":"Q36+Q49","v":1},{"$f":"R36+R49","v":0},{"$f":"R50/Q50","v":{"v":0,"d":"0.0%"}},{"$nulls":9},{"$f":"AC36+AC49","v":15},{"$f":"AD36+AD49","v":11},{"$f":"AD50/AC50","v":{"v":0.733333333333333,"d":"73.3%"}},{"$f":"AF36+AF49","v":218},{"$f":"AG36+AG49","v":198},{"$f":"AG50/AF50","v":{"v":0.908256880733945,"d":"90.8%"}},{"$nulls":6},{"$f":"AO36+AO49","v":4},{"$f":"AP36+AP49","v":4},{"$f":"AP50/AO50","v":{"v":1,"d":"100.0%"}},{"$f":"AR36+AR49","v":10},{"$f":"AS36+AS49","v":10},{"$f":"AS50/AR50","v":{"v":1,"d":"100.0%"}},566,523,{"$f":"AV50/AU50","v":{"v":0.924028268551237,"d":"92.4%"}}]
["全工种合计",{"$f":"B23+B50","v":926},{"$f":"C23+C50","v":878},{"$f":"C51/B51","v":{"v":0.948164146868251,"d":"94.8%"}},{"$f":"E23+E50","v":627},{"$f":"F23+F50","v":578},{"$f":"F51/E51","v":{"v":0.921850079744817,"d":"92.2%"}},{"$nulls":3},{"$f":"K23+K50","v":386},{"$f":"L23+L50","v":361},{"$f":"L51/K51","v":{"v":0.935233160621762,"d":"93.5%"}},{"$f":"N23+N50","v":199},{"$f":"O23+O50","v":189},{"$f":"O51/N51","v":{"v":0.949748743718593,"d":"95.0%"}},{"$f":"Q23+Q50","v":28},{"$f":"R23+R50","v":25},{"$f":"R51/Q51","v":{"v":0.892857142857143,"d":"89.3%"}},{"$f":"T23+T50","v":54},{"$f":"U23+U50","v":53},{"$f":"U51/T51","v":{"v":0.981481481481482,"d":"98.1%"}},{"$f":"W23+W50","v":46},{"$f":"X23+X50","v":42},{"$f":"X51/W51","v":{"v":0.91304347826087,"d":"91.3%"}},{"$f":"Z23+Z50","v":162},{"$f":"AA23+AA50","v":119},{"$f":"AA51/Z51","v":{"v":0.734567901234568,"d":"73.5%"}},{"$f":"AC23+AC50","v":232},{"$f":"AD23+AD50","v":213},{"$f":"AD51/AC51","v":{"v":0.918103448275862,"d":"91.8%"}},{"$f":"AF23+AF50","v":481},{"$f":"AG23+AG50","v":448},{"$f":"AG51/AF51","v":{"v":0.931392931392931,"d":"93.1%"}},{"$f":"AI23+AI50","v":206},{"$f":"AJ23+AJ50","v":137},{"$f":"AJ51/AI51","v":{"v":0.66504854368932,"d":"66.5%"}},{"$f":"AL23+AL50","v":211},{"$f":"AM23+AM50","v":184},{"$f":"AM51/AL51","v":{"v":0.872037914691943,"d":"87.2%"}},{"$f":"AO23+AO50","v":19},{"$f":"AP23+AP50","v":14},{"$f":"AP51/AO51","v":{"v":0.736842105263158,"d":"73.7%"}},{"$f":"AR23+AR50","v":10},{"$f":"AS23+AS50","v":10},{"$f":"AS51/AR51","v":{"v":1,"d":"100.0%"}},3587,3251,{"$f":"AV51/AU51","v":{"v":0.906328408140507,"d":"90.6%"}}]
["备注：\n1.培训机构名称以全国安全生产培训考试信息管理系统记录为准，按系统顺序排序；\n2.实考人数=报考总人数-正考补考均缺考人数-考试违规被取消成绩人数；\n3.仅统计已完成考试者，还有补考机会者不统计。"]

{"sheet":"6月","index":4,"n_rows":52,"n_cols":49,"rows_kept":52,"merged":[[0,0,0,48],[1,0,2,0],[1,1,1,3],[1,4,1,6],[1,7,1,9],[1,10,1,12],[1,13,1,15],[1,16,1,18],[1,19,1,21],[1,22,1,24],[1,25,1,27],[1,28,1,30],[1,31,1,33],[1,34,1,36],[1,37,1,39],[1,40,1,42],[1,43,1,45],[1,46,1,48],[51,0,51,48]]}
["2022年6月各安全培训机构考生通过率统计表"]
["            培训机构\n    工种","江门市安信职业安全培训有限公司",null,null,"广东四维培训有限公司",null,null,"江门市技师学院",null,null,"江门市江海区共升教育培训中心",null,null,"江门市侨都安全咨询服务有限公司",null,null,"江门市安全生产管理协会",null,null,"江门市新会技师学院",null,null,"江门市新会机电职业技术学校",null,null,"鹤山市优创职业培训学校有限公司",null,null,"台山市安全生产管理协会",null,null,"鹤山市安全生产管理协会",null,null,"江门市江海区万众职业培训学校",null,null,"开平市中邑安安全技术咨询有限公司",null,null,"江门市江海区安全生产管理协会",null,null,"江门市天晟安全事务有限公司",null,null,"全市合计"]
[null,"实考人数","合格人数","通过率","实考人数","合格人数","通过率","实考人数","合格人数","通过率","实考人数","合格人数","通过率","实考人数","合格人数","通过率","实考人数","合格人数","通过率","实考人数","合格人数","通过率","实考人数","合格人数","通过率","实考人数","合格人数","通过率","实考人数","合格人数","通过率","实考人数","合格人数","通过率","实考人数","合格人数","通过率","实考人数","合格人数","通过率","实考人数","合格人数","通过率","实考人数","合格人数","通过率","实考人数","合格人数","通过率"]
["低压电工初训",147,133,{"$f":"C4/B4","v":{"v":0.904761904761905,"d":"90.5%"}},41,36,{"$f":"F4/E4","v":{"v":0.878048780487805,"d":"87.8%"}},178,132,{"$f":"I4/H4","v":{"v":0.741573033707865,"d":"74.2%"}},39,33,{"$f":"L4/K4","v":{"v":0.846153846153846,"d":"84.6%"}},12,7,{"$f":"O4/N4","v":{"v":0.583333333333333,"d":"58.3%"}},{"$nulls":3},53,47,{"$f":"U4/T4","v":{"v":0.886792452830189,"d":"88.7%"}},106,87,{"$f":"X4/W4","v":{"v":0.820754716981132,"d":"82.1%"}},{"$nulls":3},30,25,{"$f":"AD4/AC4","v":{"v":0.833333333333333,"d":"83.3%"}},{"$nulls":3},65,42,{"$f":"AJ4/AI4","v":{"v":0.646153846153846,"d":"64.6%"}},{"$nulls":9},{"$f":"B4+E4+H4+K4+N4+Q4+T4+W4+Z4+AC4+AF4+AI4+AL4+AO4+AR4","v":671},{"$f":"C4+F4+I4+L4+O4+R4+U4+X4+AA4+AD4+AG4+AJ4+AM4+AP4+AS4","v":542},{"$f":"AV4/AU4","v":{"v":0.807749627421759,"d":"80.8%"}}]
["高压电工初训",{"$nulls":9},5,5,{"v":1,"d":"100.0%"},54,48,{"$f":"O5/N5","v":{"v":0.888888888888889,"d":"88.9%"}},6,6,{"$f":"R5/Q5","v":{"v":1,"d":"100.0%"}},2,2,{"$f":"U5/T5","v":{"v":1,"d":"100.0%"}},{"$nulls":24},67,61,{"v":0.91044776119403,"d":"91.0%"}]
["电力电缆初训"]
["熔化焊接与热切割初训",49,47,{"$f":"C7/B7","v":{"v":0.959183673469388,"d":"95.9%"}},{"$nulls":6},75,65,{"v":0.866666666666667,"d":"86.7%"},62,57,{"$f":"O7/N7","v":{"v":0.919354838709677,"d":"91.9%"}},{"$nulls":9},46,33,{"$f":"AA7/Z7","v":{"v":0.717391304347826,"d":"71.7%"}},{"$nulls":3},23,21,{"$f":"AG7/AF7","v":{"v":0.91304347826087,"d":"91.3%"}},46,31,{"v":0.673913043478261,"d":"67.4%"},18,16,{"$f":"AM7/AL7","v":{"v":0.888888888888889,"d":"88.9%"}},{"$nulls":6},319,270,{"v":0.846394984326019,"d":"84.6%"}]
["高处安装维护拆除初训",33,32,{"$f":"C8/B8","v":{"v":0.96969696969697,"d":"97.0%"}},{"$nulls":6},65,64,{"v":0.984615384615385,"d":"98.5%"},{"$nulls":3},6,6,{"$f":"R8/Q8","v":{"v":1,"d":"100.0%"}},{"$nulls":18},69,64,{"v":0.927536231884058,"d":"92.8%"},{"$nulls":6},173,166,{"v":0.959537572254335,"d":"96.0%"}]
["特种作业初训合计",{"$f":"SUM(B4:B8)","v":229},{"$f":"SUM(C4:C8)","v":212},{"v":0.925764192139738,"d":"92.6%"},{"$f":"SUM(E4:E8)","v":41},{"$f":"SUM(F4:F8)","v":36},{"v":0.878048780487805,"d":"87.8%"},{"$f":"SUM(H4:H8)","v":178},{"$f":"SUM(I4:I8)","v":132},{"$f":"I9/H9","v":{"v":0.741573033707865,"d":"74.2%"}},{"$f":"SUM(K4:K8)","v":184},{"$f":"SUM(L4:L8)","v":167},{"v":0.907608695652174,"d":"90.8%"},{"$f":"SUM(N4:N8)","v":128},{"$f":"SUM(O4:O8)","v":112},{"$f":"O9/N9","v":{"v":0.875,"d":"87.5%"}},{"$f":"SUM(Q4:Q8)","v":12},{"$f":"SUM(R4:R8)","v":12},{"$f":"R9/Q9","v":{"v":1,"d":"100.0%"}},{"$f":"SUM(T4:T8)","v":55},{"$f":"SUM(U4:U8)","v":49},{"$f":"U9/T9","v":{"v":0.890909090909091,"d":"89.1%"}},{"$f":"SUM(W4:W8)","v":106},{"$f":"SUM(X4:X8)","v":87},{"$f":"X9/W9","v":{"v":0.820754716981132,"d":"82.1%"}},{"$f":"SUM(Z4:Z8)","v":46},{"$f":"SUM(AA4:AA8)","v":33},{"$f":"AA9/Z9","v":{"v":0.717391304347826,"d":"71.7%"}},{"$f":"SUM(AC4:AC8)","v":30},{"$f":"SUM(AD4:AD8)","v":25},{"$f":"AD9/AC9","v":{"v":0.833333333333333,"d":"83.3%"}},{"$f":"SUM(AF4:AF8)","v":23},{"$f":"SUM(AG4:AG8)","v":21},{"v":0.91304347826087,"d":"91.3%"},{"$f":"SUM(AI4:AI8)","v":111},{"$f":"SUM(AJ4:AJ8)","v":73},{"v":0.657657657657658,"d":"65.8%"},{"$f":"SUM(AL4:AL8)","v":87},{"$f":"SUM(AM4:AM8)","v":80},{"v":0.919540229885057,"d":"92.0%"},{"$nulls":6},1230,1039,{"v":0.844715447154472,"d":"84.5%"}]
["低压电工复训",175,173,{"v":0.988571428571429,"d":"98.9%"},149,147,{"v":0.986577181208054,"d":"98.7%"},{"$nulls":3},45,43,{"v":0.955555555555556,"d":"95.6%"},75,74,{"$f":"O10/N10","v":{"v":0.986666666666667,"d":"98.7%"}},13,13,{"$f":"R10/Q10","v":{"v":1,"d":"100.0%"}},3,3,{"$f":"U10/T10","v":{"v":1,"d":"100.0%"}},{"$nulls":3},15,14,{"$f":"AA10/Z10","v":{"v":0.933333333333333,"d":"93.3%"}},109,108,{"$f":"AD10/AC10","v":{"v":0.990825688073395,"d":"99.1%"}},42,42,{"v":1,"d":"100.0%"},85,79,{"v":0.929411764705882,"d":"92.9%"},73,72,{"v":0.986301369863014,"d":"98.6%"},3,3,{"$f":"AP10/AO10","v":{"v":1,"d":"100.0%"}},{"$nulls":3},787,771,{"v":0.979669631512071,"d":"98.0%"}]
["高压电工复训",61,55,{"v":0.901639344262295,"d":"90.2%"},63,53,{"v":0.841269841269841,"d":"84.1%"},{"$nulls":3},7,5,{"v":0.714285714285714,"d":"71.4%"},8,8,{"$f":"O11/N11","v":{"v":1,"d":"100.0%"}},29,28,{"$f":"R11/Q11","v":{"v":0.96551724137931,"d":"96.6%"}},{"$nulls":9},15,15,{"$f":"AD11/AC11","v":{"v":1,"d":"100.0%"}},7,6,{"v":0.857142857142857,"d":"85.7%"},{"$nulls":3},1,1,{"v":1,"d":"100.0%"},{"$nulls":6},191,171,{"v":0.895287958115183,"d":"89.5%"}]
["熔化焊接与热切割复训",68,62,{"v":0.911764705882353,"d":"91.2%"},9,9,{"v":1,"d":"100.0%"},{"$nulls":3},32,32,{"v":1,"d":"100.0%"},7,7,{"$f":"O12/N12","v":{"v":1,"d":"100.0%"}},14,14,{"$f":"R12/Q12","v":{"v":1,"d":"100.0%"}},{"$nulls":6},1,1,{"$f":"AA12/Z12","v":{"v":1,"d":"100.0%"}},5,5,{"$f":"AD12/AC12","v":{"v":1,"d":"100.0%"}},14,14,{"v":1,"d":"100.0%"},14,14,{"$f":"AJ12/AI12","v":{"v":1,"d":"100.0%"}},7,7,{"v":1,"d":"100.0%"},{"$nulls":6},171,165,{"v":0.964912280701754,"d":"96.5%"}]
["钎焊复训"]
["高处安装维护拆除复训",27,25,{"$f":"C14/B14","v":{"v":0.925925925925926,"d":"92.6%"}},237,226,{"$f":"F14/E14","v":{"v":0.953586497890295,"d":"95.4%"}},{"$nulls":3},4,3,{"$f":"L14/K14","v":{"v":0.75,"d":"75.0%"}},{"$nulls":3},4,2,{"$f":"R14/Q14","v":{"v":0.5,"d":"50.0%"}},{"$nulls":27},{"$f":"B14+E14+H14+K14+N14+Q14+T14+W14+Z14+AC14+AF14+AI14+AL14+AO14+AR14","v":272},{"$f":"C14+F14+I14+L14+O14+R14+U14+X14+AA14+AD14+AG14+AJ14+AM14+AP14+AS14","v":256},{"$f":"AV14/AU14","v":{"v":0.941176470588235,"d":"94.1%"}}]
["登高架设复训",10,7,{"v":0.7,"d":"70.0%"},{"$nulls":42},10,7,{"v":0.7,"d":"70.0%"}]
["制冷与空调运行操作复训",1,1,{"v":1,"d":"100.0%"},{"$nulls":42},1,1,{"v":1,"d":"100.0%"}]
["制冷与空调安装修理复训",1,1,{"v":1,"d":"100.0%"},{"$nulls":42},1,1,{"v":1,"d":"100.0%"}]
["矿山安检复训",{"$nulls":15},3,3,{"$f":"R18/Q18","v":{"v":1,"d":"100.0%"}},{"$nulls":27},3,3,{"v":1,"d":"100.0%"}]
["电力电缆复训",5,3,{"v":0.6,"d":"60.0%"},2,2,{"v":1,"d":"100.0%"},{"$nulls":39},7,5,{"v":0.714285714285714,"d":"71.4%"}]
["电气试验复训",5,5,{"v":1,"d":"100.0%"},2,1,{"v":0.5,"d":"50.0%"},{"$nulls":3},1,1,{"$f":"L20/K20","v":{"v":1,"d":"100.0%"}},{"$nulls":33},8,7,{"v":0.875,"d":"87.5%"}]
["继电保护复训",6,6,{"v":1,"d":"100.0%"},2,1,{"v":0.5,"d":"50.0%"},{"$nulls":39},8,7,{"v":0.875,"d":"87.5%"}]
["特种作业复训合计",{"$f":"SUM(B10:B21)","v":359},{"$f":"SUM(C10:C21)","v":338},{"v":0.94150417827298,"d":"94.2%"},{"$f":"SUM(E10:E21)","v":464},{"$f":"SUM(F10:F21)","v":439},{"v":0.946120689655172,"d":"94.6%"},{"$nulls":3},{"$f":"SUM(K10:K21)","v":89},{"$f":"SUM(L10:L21)","v":84},{"v":0.943820224719101,"d":"94.4%"},{"$f":"SUM(N10:N21)","v":90},{"$f":"SUM(O10:O21)","v":89},{"$f":"O22/N22","v":{"v":0.988888888888889,"d":"98.9%"}},{"$f":"SUM(Q10:Q21)","v":63},{"$f":"SUM(R10:R21)","v":60},{"$f":"R22/Q22","v":{"v":0.952380952380952,"d":"95.2%"}},{"$f":"SUM(T10:T21)","v":3},{"$f":"SUM(U10:U21)","v":3},{"$f":"U22/T22","v":{"v":1,"d":"100.0%"}},{"$nulls":3},{"$f":"SUM(Z10:Z21)","v":16},{"$f":"SUM(AA10:AA21)","v":15},{"$f":"AA22/Z22","v":{"v":0.9375,"d":"93.8%"}},{"$f":"SUM(AC10:AC21)","v":129},{"$f":"SUM(AD10:AD21)","v":128},{"$f":"AD22/AC22","v":{"v":0.992248062015504,"d":"99.2%"}},{"$f":"SUM(AF10:AF21)","v":63},{"$f":"SUM(AG10:AG21)","v":62},{"$f":"AG22/AF22","v":{"v":0.984126984126984,"d":"98.4%"}},{"$f":"SUM(AI10:AI21)","v":99},{"$f":"SUM(AJ10:AJ21)","v":93},{"$f":"AJ22/AI22","v":{"v":0.939393939393939,"d":"93.9%"}},{"$f":"SUM(AL10:AL21)","v":81},{"$f":"SUM(AM10:AM21)","v":80},{"$f":"AM22/AL22","v":{"v":0.987654320987654,"d":"98.8%"}},{"$f":"SUM(AO10:AO21)","v":3},{"$f":"SUM(AP10:AP21)","v":3},{"$f":"AP22/AO22","v":{"v":1,"d":"100.0%"}},{"$nulls":3},1459,1394,{"v":0.955448937628513,"d":"95.5%"}]
["特种作业人员合计",{"$f":"B9+B22","v":588},{"$f":"C9+C22","v":550},{"v":0.935374149659864,"d":"93.5%"},{"$f":"E9+E22","v":505},{"$f":"F9+F22","v":475},{"v":0.940594059405941,"d":"94.1%"},{"$f":"H9+H22","v":178},{"$f":"I9+I22","v":132},{"$f":"I23/H23","v":{"v":0.741573033707865,"d":"74.2%"}},{"$f":"K9+K22","v":273},{"$f":"L9+L22","v":251},{"v":0.919413919413919,"d":"91.9%"},{"$f":"N9+N22","v":218},{"$f":"O9+O22","v":201},{"$f":"O23/N23","v":{"v":0.922018348623853,"d":"92.2%"}},{"$f":"Q9+Q22","v":75},{"$f":"R9+R22","v":72},{"$f":"R23/Q23","v":{"v":0.96,"d":"96.0%"}},{"$f":"T9+T22","v":58},{"$f":"U9+U22","v":52},{"$f":"U23/T23","v":{"v":0.896551724137931,"d":"89.7%"}},{"$f":"W9+W22","v":106},{"$f":"X9+X22","v":87},{"$f":"X23/W23","v":{"v":0.820754716981132,"d":"82.1%"}},{"$f":"Z9+Z22","v":62},{"$f":"AA9+AA22","v":48},{"$f":"AA23/Z23","v":{"v":0.774193548387097,"d":"77.4%"}},{"$f":"AC9+AC22","v":159},{"$f":"AD9+AD22","v":153},{"$f":"AD23/AC23","v":{"v":0.962264150943396,"d":"96.2%"}},{"$f":"AF9+AF22","v":86},{"$f":"AG9+AG22","v":83},{"$f":"AG23/AF23","v":{"v":0.965116279069767,"d":"96.5%"}},{"$f":"AI9+AI22","v":210},{"$f":"AJ9+AJ22","v":166},{"$f":"AJ23/AI23","v":{"v":0.79047619047619,"d":"79.0%"}},{"$f":"AL9+AL22","v":168},{"$f":"AM9+AM22","v":160},{"$f":"AM23/AL23","v":{"v":0.952380952380952,"d":"95.2%"}},{"$f":"AO9+AO22","v":3},{"$f":"AP9+AP22","v":3},{"$f":"AP23/AO23","v":{"v":1,"d":"100.0%"}},{"$nulls":3},2689,2433,{"v":0.904797322424693,"d":"90.5%"}]
["烟花爆竹经营负责人初训",1,1,{"v":1,"d":"100.0%"},{"$nulls":6},2,2,{"v":1,"d":"100.0%"},{"$nulls":15},2,1,{"$f":"AD24/AC24","v":{"v":0.5,"d":"50.0%"}},2,2,{"$f":"AG24/AF24","v":{"v":1,"d":"100.0%"}},{"$nulls":12},7,6,{"v":0.857142857142857,"d":"85.7%"}]
["危化生产负责人初训",1,1,{"v":1,"d":"100.0%"},{"$nulls":6},4,4,{"v":1,"d":"100.0%"},{"$nulls":18},1,1,{"$f":"AG25/AF25","v":{"v":1,"d":"100.0%"}},{"$nulls":12},6,6,{"v":1,"d":"100.0%"}]
["危化经营负责人初训",21,20,{"v":0.952380952380952,"d":"95.2%"},{"$nulls":6},9,8,{"$f":"L26/K26","v":{"v":0.888888888888889,"d":"88.9%"}},{"$nulls":15},3,3,{"$f":"AD26/AC26","v":{"v":1,"d":"100.0%"}},3,3,{"$f":"AG26/AF26","v":{"v":1,"d":"100.0%"}},{"$nulls":6},1,1,{"$f":"AP26/AO26","v":{"v":1,"d":"100.0%"}},{"$nulls":3},37,35,{"v":0.945945945945946,"d":"94.6%"}]
["非煤矿山负责人初训"]
["金属冶炼负责人初训",{"$nulls":15},5,5,{"$f":"R28/Q28","v":{"v":1,"d":"100.0%"}},{"$nulls":27},5,5,{"v":1,"d":"100.0%"}]
["高危行业负责人初训合计",{"$f":"SUM(B24:B28)","v":23},{"$f":"SUM(C24:C28)","v":22},{"$f":"C29/B29","v":{"v":0.956521739130435,"d":"95.7%"}},{"$nulls":6},{"$f":"SUM(K24:K28)","v":15},{"$f":"SUM(L24:L28)","v":14},{"v":0.933333333333333,"d":"93.3%"},{"$nulls":3},{"$f":"SUM(Q24:Q28)","v":5},{"$f":"SUM(R24:R28)","v":5},{"$f":"R29/Q29","v":{"v":1,"d":"100.0%"}},{"$nulls":9},{"$f":"SUM(AC24:AC28)","v":5},{"$f":"SUM(AD24:AD28)","v":4},{"$f":"AD29/AC29","v":{"v":0.8,"d":"80.0%"}},{"$f":"SUM(AF24:AF28)","v":6},{"$f":"SUM(AG24:AG28)","v":6},{"$f":"AG29/AF29","v":{"v":1,"d":"100.0%"}},{"$nulls":6},{"$f":"SUM(AO24:AO28)","v":1},{"$f":"SUM(AP24:AP28)","v":1},{"$f":"AP29/AO29","v":{"v":1,"d":"100.0%"}},{"$nulls":3},55,52,{"v":0.945454545454545,"d":"94.5%"}]
["烟花爆竹经营负责人复训"]
["危化生产负责人复训",16,16,{"$f":"C31/B31","v":{"v":1,"d":"100.0%"}},{"$nulls":6},11,11,{"v":1,"d":"100.0%"},{"$nulls":3},1,1,{"$f":"R31/Q31","v":{"v":1,"d":"100.0%"}},{"$nulls":12},5,5,{"$f":"AG31/AF31","v":{"v":1,"d":"100.0%"}},{"$nulls":6},1,1,{"$f":"AP31/AO31","v":{"v":1,"d":"100.0%"}},{"$nulls":3},{"$f":"B31+E31+H31+K31+N31+Q31+T31+W31+Z31+AC31+AF31+AI31+AL31+AO31+AR31","v":34},34,{"$f":"AV31/AU31","v":{"v":1,"d":"100.0%"}}]
["危化经营负责人复训",34,34,{"$f":"C32/B32","v":{"v":1,"d":"100.0%"}},{"$nulls":6},21,21,{"v":1,"d":"100.0%"},{"$nulls":3},1,1,{"$f":"R32/Q32","v":{"v":1,"d":"100.0%"}},{"$nulls":12},4,4,{"$f":"AG32/AF32","v":{"v":1,"d":"100.0%"}},{"$nulls":12},60,60,{"$f":"AV32/AU32","v":{"v":1,"d":"100.0%"}}]
["非煤矿山负责人复训",1,1,{"$f":"C33/B33","v":{"v":1,"d":"100.0%"}},{"$nulls":24},7,6,{"$f":"AD33/AC33","v":{"v":0.857142857142857,"d":"85.7%"}},{"$nulls":15},8,7,{"$f":"AV33/AU33","v":{"v":0.875,"d":"87.5%"}}]
["金属冶炼负责人复训",{"$nulls":15},1,1,{"$f":"R34/Q34","v":{"v":1,"d":"100.0%"}},{"$nulls":27},{"$f":"B34+E34+H34+K34+N34+Q34+T34+W34+Z34+AC34+AF34+AI34+AL34+AO34+AR34","v":1},{"$f":"C34+F34+I34+L34+O34+R34+U34+X34+AA34+AD34+AG34+AJ34+AM34+AP34+AS34","v":1},{"$f":"AV34/AU34","v":{"v":1,"d":"100.0%"}}]
["高危行业负责人复训合计",{"$f":"SUM(B30:B34)","v":51},{"$f":"SUM(C30:C34)","v":51},{"$f":"C35/B35","v":{"v":1,"d":"100.0%"}},{"$nulls":6},{"$f":"SUM(K30:K34)","v":32},{"$f":"SUM(L30:L34)","v":32},{"$f":"L35/K35","v":{"v":1,"d":"100.0%"}},{"$nulls":3},{"$f":"SUM(Q30:Q34)","v":3},{"$f":"SUM(R30:R34)","v":3},{"$f":"R35/Q35","v":{"v":1,"d":"100.0%"}},{"$nulls":9},{"$f":"SUM(AC30:AC34)","v":7},{"$f":"SUM(AD30:AD34)","v":6},{"$f":"AD35/AC35","v":{"v":0.857142857142857,"d":"85.7%"}},{"$f":"SUM(AF30:AF34)","v":9},{"$f":"SUM(AG30:AG34)","v":9},{"$f":"AG35/AF35","v":{"v":1,"d":"100.0%"}},{"$nulls":6},{"$f":"SUM(AO30:AO34)","v":1},{"$f":"SUM(AP30:AP34)","v":1},{"$f":"AP35/AO35","v":{"v":1,"d":"100.0%"}},{"$nulls":3},103,102,{"v":0.990291262135922,"d":"99.0%"}]
["高危行业主要负责人合计",{"$f":"B29+B35","v":74},{"$f":"C29+C35","v":73},{"v":0.986486486486487,"d":"98.6%"},{"$nulls":6},{"$f":"K29+K35","v":47},{"$f":"L29+L35","v":46},{"$f":"L36/K36","v":{"v":0.978723404255319,"d":"97.9%"}},{"$nulls":3},{"$f":"Q29+Q35","v":8},{"$f":"R29+R35","v":8},{"$f":"R36/Q36","v":{"v":1,"d":"100.0%"}},{"$nulls":9},{"$f":"AC29+AC35","v":12},{"$f":"AD29+AD35","v":10},{"$f":"AD36/AC36","v":{"v":0.833333333333333,"d":"83.3%"}},{"$f":"AF29+AF35","v":15},{"$f":"AG29+AG35","v":15},{"$f":"AG36/AF36","v":{"v":1,"d":"100.0%"}},{"$nulls":6},{"$f":"AO29+AO35","v":2},{"$f":"AP29+AP35","v":2},{"$f":"AP36/AO36","v":{"v":1,"d":"100.0%"}},{"$nulls":3},158,154,{"v":0.974683544303797,"d":"97.5%"}]
["烟花爆竹经营安管初训",{"$nulls":9},1,1,{"$f":"L37/K37","v":{"v":1,"d":"100.0%"}},{"$nulls":15},2,1,{"$f":"AD37/AC37","v":{"v":0.5,"d":"50.0%"}},5,3,{"$f":"AG37/AF37","v":{"v":0.6,"d":"60.0%"}},{"$nulls":12},8,5,{"v":0.625,"d":"62.5%"}]
["危化生产安管初训",7,7,{"v":1,"d":"100.0%"},{"$nulls":6},16,14,{"$f":"L38/K38","v":{"v":0.875,"d":"87.5%"}},{"$nulls":18},1,1,{"$f":"AG38/AF38","v":{"v":1,"d":"100.0%"}},{"$nulls":12},24,22,{"v":0.916666666666667,"d":"91.7%"}]
["危化经营安管初训",68,60,{"v":0.882352941176471,"d":"88.2%"},{"$nulls":6},17,15,{"$f":"L39/K39","v":{"v":0.882352941176471,"d":"88.2%"}},{"$nulls":3},1,1,{"$f":"R39/Q39","v":{"v":1,"d":"100.0%"}},{"$nulls":9},4,4,{"$f":"AD39/AC39","v":{"v":1,"d":"100.0%"}},2,1,{"$f":"AG39/AF39","v":{"v":0.5,"d":"50.0%"}},{"$nulls":12},92,81,{"v":0.880434782608696,"d":"88.0%"}]
["非煤矿山安管初训",1,1,{"v":1,"d":"100.0%"},{"$nulls":24},2,1,{"$f":"AD40/AC40","v":{"v":0.5,"d":"50.0%"}},{"$nulls":15},3,2,{"v":0.666666666666667,"d":"66.7%"}]
["金属冶炼安管初训",{"$nulls":15},6,4,{"$f":"R41/Q41","v":{"v":0.666666666666667,"d":"66.7%"}},{"$nulls":27},6,4,{"v":0.666666666666667,"d":"66.7%"}]
["高危行业安管初训合计",{"$f":"SUM(B37:B41)","v":76},{"$f":"SUM(C37:C41)","v":68},{"$f":"C42/B42","v":{"v":0.894736842105263,"d":"89.5%"}},{"$nulls":6},{"$f":"SUM(K37:K41)","v":34},{"$f":"SUM(L37:L41)","v":30},{"$f":"L42/K42","v":{"v":0.882352941176471,"d":"88.2%"}},{"$nulls":3},{"$f":"SUM(Q37:Q41)","v":7},{"$f":"SUM(R37:R41)","v":5},{"$f":"R42/Q42","v":{"v":0.714285714285714,"d":"71.4%"}},{"$nulls":9},{"$f":"SUM(AC37:AC41)","v":8},{"$f":"SUM(AD37:AD41)","v":6},{"$f":"AD42/AC42","v":{"v":0.75,"d":"75.0%"}},{"$f":"SUM(AF37:AF41)","v":8},{"$f":"SUM(AG37:AG41)","v":5},{"$f":"AG42/AF42","v":{"v":0.625,"d":"62.5%"}},{"$nulls":12},{"$f":"B42+E42+H42+K42+N42+Q42+T42+W42+Z42+AC42+AF42+AI42+AL42+AO42+AR42","v":133},{"$f":"C42+F42+I42+L42+O42+R42+U42+X42+AA42+AD42+AG42+AJ42+AM42+AP42+AS42","v":114},{"$f":"AV42/AU42","v":{"v":0.857142857142857,"d":"85.7%"}}]
["烟花爆竹经营安管复训",{"$nulls":30},1,1,{"$f":"AG43/AF43","v":{"v":1,"d":"100.0%"}},{"$nulls":12},1,1,{"v":1,"d":"100.0%"}]
["危化生产安管复训",35,35,{"$f":"C44/B44","v":{"v":1,"d":"100.0%"}},{"$nulls":6},24,23,{"$f":"L44/K44","v":{"v":0.958333333333333,"d":"95.8%"}},{"$nulls":3},2,2,{"$f":"R44/Q44","v":{"v":1,"d":"100.0%"}},{"$nulls":12},10,9,{"$f":"AG44/AF44","v":{"v":0.9,"d":"90.0%"}},{"$nulls":6},7,7,{"$f":"AP44/AO44","v":{"v":1,"d":"100.0%"}},{"$nulls":3},78,76,{"v":0.974358974358974,"d":"97.4%"}]
["危化经营安管复训",60,60,{"$f":"C45/B45","v":{"v":1,"d":"100.0%"}},{"$nulls":6},51,50,{"$f":"L45/K45","v":{"v":0.980392156862745,"d":"98.0%"}},{"$nulls":18},5,5,{"$f":"AG45/AF45","v":{"v":1,"d":"100.0%"}},{"$nulls":12},116,115,{"v":0.991379310344828,"d":"99.1%"}]
["非煤矿山安管复训",1,1,{"$f":"C46/B46","v":{"v":1,"d":"100.0%"}},{"$nulls":24},15,14,{"$f":"AD46/AC46","v":{"v":0.933333333333333,"d":"93.3%"}},{"$nulls":15},16,15,{"v":0.9375,"d":"93.8%"}]
["金属冶炼安管复训",{"$nulls":15},1,1,{"$f":"R47/Q47","v":{"v":1,"d":"100.0%"}},{"$nulls":27},1,1,{"v":1,"d":"100.0%"}]
["高危行业安管复训合计",{"$f":"SUM(B43:B47)","v":96},{"$f":"SUM(C43:C47)","v":96},{"$f":"C48/B48","v":{"v":1,"d":"100.0%"}},{"$nulls":6},{"$f":"SUM(K43:K47)","v":75},{"$f":"SUM(L43:L47)","v":73},{"$f":"L48/K48","v":{"v":0.973333333333333,"d":"97.3%"}},{"$nulls":3},{"$f":"SUM(Q43:Q47)","v":3},{"$f":"SUM(R43:R47)","v":3},{"$f":"R48/Q48","v":{"v":1,"d":"100.0%"}},{"$nulls":9},{"$f":"SUM(AC43:AC47)","v":15},{"$f":"SUM(AD43:AD47)","v":14},{"$f":"AD48/AC48","v":{"v":0.933333333333333,"d":"93.3%"}},{"$f":"SUM(AF43:AF47)","v":16},{"$f":"SUM(AG43:AG47)","v":15},{"$f":"AG48/AF48","v":{"v":0.9375,"d":"93.8%"}},{"$nulls":6},{"$f":"SUM(AO43:AO47)","v":7},{"$f":"SUM(AP43:AP47)","v":7},{"$f":"AP48/AO48","v":{"v":1,"d":"100.0%"}},{"$nulls":3},{"$f":"B48+E48+H48+K48+N48+Q48+T48+W48+Z48+AC48+AF48+AI48+AL48+AO48+AR48","v":212},208,{"v":0.981132075471698,"d":"98.1%"}]
["高危行业安管人员合计",{"$f":"B42+B48","v":172},{"$f":"C42+C48","v":164},{"$f":"C49/B49","v":{"v":0.953488372093023,"d":"95.3%"}},{"$nulls":6},{"$f":"K42+K48","v":109},{"$f":"L42+L48","v":103},{"$f":"L49/K49","v":{"v":0.944954128440367,"d":"94.5%"}},{"$nulls":3},{"$f":"Q42+Q48","v":10},{"$f":"R42+R48","v":8},{"$f":"R49/Q49","v":{"v":0.8,"d":"80.0%"}},{"$nulls":9},{"$f":"AC42+AC48","v":23},{"$f":"AD42+AD48","v":20},{"$f":"AD49/AC49","v":{"v":0.869565217391304,"d":"87.0%"}},{"$f":"AF42+AF48","v":24},{"$f":"AG42+AG48","v":20},{"$f":"AG49/AF49","v":{"v":0.833333333333333,"d":"83.3%"}},{"$nulls":6},{"$f":"AO42+AO48","v":7},{"$f":"AP42+AP48","v":7},{"$f":"AP49/AO49","v":{"v":1,"d":"100.0%"}},{"$nulls":3},345,322,{"v":0.933333333333333,"d":"93.3%"}]
["高危行业负责人安管合计",{"$f":"B36+B49","v":246},{"$f":"C36+C49","v":237},{"$f":"C50/B50","v":{"v":0.963414634146341,"d":"96.3%"}},{"$nulls":6},{"$f":"K36+K49","v":156},{"$f":"L36+L49","v":149},{"$f":"L50/K50","v":{"v":0.955128205128205,"d":"95.5%"}},{"$nulls":3},{"$f":"Q36+Q49","v":18},{"$f":"R36+R49","v":16},{"$f":"R50/Q50","v":{"v":0.888888888888889,"d":"88.9%"}},{"$nulls":9},{"$f":"AC36+AC49","v":35},{"$f":"AD36+AD49","v":30},{"$f":"AD50/AC50","v":{"v":0.857142857142857,"d":"85.7%"}},{"$f":"AF36+AF49","v":39},{"$f":"AG36+AG49","v":35},{"$f":"AG50/AF50","v":{"v":0.897435897435897,"d":"89.7%"}},{"$nulls":6},{"$f":"AO36+AO49","v":9},{"$f":"AP36+AP49","v":9},{"$f":"AP50/AO50","v":{"v":1,"d":"100.0%"}},{"$nulls":3},503,476,{"v":0.946322067594433,"d":"94.6%"}]
["全工种合计",{"$f":"B23+B50","v":834},{"$f":"C23+C50","v":787},{"$f":"C51/B51","v":{"v":0.943645083932854,"d":"94.4%"}},{"$f":"E23+E50","v":505},{"$f":"F23+F50","v":475},{"$f":"F51/E51","v":{"v":0.940594059405941,"d":"94.1%"}},{"$f":"H23+H50","v":178},{"$f":"I23+I50","v":132},{"$f":"I51/H51","v":{"v":0.741573033707865,"d":"74.2%"}},{"$f":"K23+K50","v":429},{"$f":"L23+L50","v":400},{"$f":"L51/K51","v":{"v":0.932400932400932,"d":"93.2%"}},{"$f":"N23+N50","v":218},{"$f":"O23+O50","v":201},{"$f":"O51/N51","v":{"v":0.922018348623853,"d":"92.2%"}},{"$f":"Q23+Q50","v":93},{"$f":"R23+R50","v":88},{"$f":"R51/Q51","v":{"v":0.946236559139785,"d":"94.6%"}},{"$f":"T23+T50","v":58},{"$f":"U23+U50","v":52},{"$f":"U51/T51","v":{"v":0.896551724137931,"d":"89.7%"}},{"$f":"W23+W50","v":106},{"$f":"X23+X50","v":87},{"$f":"X51/W51","v":{"v":0.820754716981132,"d":"82.1%"}},{"$f":"Z23+Z50","v":62},{"$f":"AA23+AA50","v":48},{"$f":"AA51/Z51","v":{"v":0.774193548387097,"d":"77.4%"}},{"$f":"AC23+AC50","v":194},{"$f":"AD23+AD50","v":183},{"$f":"AD51/AC51","v":{"v":0.943298969072165,"d":"94.3%"}},{"$f":"AF23+AF50","v":125},{"$f":"AG23+AG50","v":118},{"$f":"AG51/AF51","v":{"v":0.944,"d":"94.4%"}},{"$f":"AI23+AI50","v":210},{"$f":"AJ23+AJ50","v":166},{"$f":"AJ51/AI51","v":{"v":0.79047619047619,"d":"79.0%"}},{"$f":"AL23+AL50","v":168},{"$f":"AM23+AM50","v":160},{"$f":"AM51/AL51","v":{"v":0.952380952380952,"d":"95.2%"}},{"$f":"AO23+AO50","v":12},{"$f":"AP23+AP50","v":12},{"$f":"AP51/AO51","v":{"v":1,"d":"100.0%"}},{"$nulls":3},3192,2909,{"v":0.911340852130326,"d":"91.1%"}]
["备注：\n1.培训机构名称以全国安全生产培训考试信息管理系统记录为准，按系统顺序排序；\n2.实考人数=报考总人数-正考补考均缺考人数-考试违规被取消成绩人数；\n3.仅统计已完成考试者，还有补考机会者不统计。"]

{"sheet":"上半年","index":5,"n_rows":52,"n_cols":49,"rows_kept":52,"merged":[[0,0,0,48],[1,0,2,0],[1,1,1,3],[1,4,1,6],[1,7,1,9],[1,10,1,12],[1,13,1,15],[1,16,1,18],[1,19,1,21],[1,22,1,24],[1,25,1,27],[1,28,1,30],[1,31,1,33],[1,34,1,36],[1,37,1,39],[1,40,1,42],[1,43,1,45],[1,46,1,48],[51,0,51,48]]}
["2022年上半年各安全培训机构考生通过率统计表"]
["            培训机构\n    工种","江门市安信职业安全培训有限公司",null,null,"广东四维培训有限公司",null,null,"江门市技师学院",null,null,"江门市江海区共升教育培训中心",null,null,"江门市侨都安全咨询服务有限公司",null,null,"江门市安全生产管理协会",null,null,"江门市新会技师学院",null,null,"江门市新会机电职业技术学校",null,null,"鹤山市优创职业培训学校有限公司",null,null,"台山市安全生产管理协会",null,null,"鹤山市安全生产管理协会",null,null,"江门市江海区万众职业培训学校",null,null,"开平市中邑安安全技术咨询有限公司",null,null,"江门市江海区安全生产管理协会",null,null,"江门市天晟安全事务有限公司",null,null,"全市合计"]
[null,"实考人数","合格人数","通过率","实考人数","合格人数","通过率","实考人数","合格人数","通过率","实考人数","合格人数","通过率","实考人数","合格人数","通过率","实考人数","合格人数","通过率","实考人数","合格人数","通过率","实考人数","合格人数","通过率","实考人数","合格人数","通过率","实考人数","合格人数","通过率","实考人数","合格人数","通过率","实考人数","合格人数","通过率","实考人数","合格人数","通过率","实考人数","合格人数","通过率","实考人数","合格人数","通过率","实考人数","合格人数","通过率"]
["低压电工初训",{"$f":"'1月'!B4+'2月'!B4+'3月'!B4+'5月'!B4+'6月'!B4","v":296},{"$f":"'1月'!C4+'2月'!C4+'3月'!C4+'5月'!C4+'6月'!C4","v":262},{"$f":"C4/B4","v":{"v":0.885135135135135,"d":"88.5%"}},{"$f":"'1月'!E4+'2月'!E4+'3月'!E4+'5月'!E4+'6月'!E4","v":155},{"$f":"'1月'!F4+'2月'!F4+'3月'!F4+'5月'!F4+'6月'!F4","v":134},{"$f":"F4/E4","v":{"v":0.864516129032258,"d":"86.5%"}},{"$f":"'1月'!H4+'2月'!H4+'3月'!H4+'5月'!H4+'6月'!H4","v":198},{"$f":"'1月'!I4+'2月'!I4+'3月'!I4+'5月'!I4+'6月'!I4","v":150},{"$f":"I4/H4","v":{"v":0.757575757575758,"d":"75.8%"}},{"$f":"'1月'!K4+'2月'!K4+'3月'!K4+'5月'!K4+'6月'!K4","v":91},{"$f":"'1月'!L4+'2月'!L4+'3月'!L4+'5月'!L4+'6月'!L4","v":81},{"$f":"L4/K4","v":{"v":0.89010989010989,"d":"89.0%"}},{"$f":"'1月'!N4+'2月'!N4+'3月'!N4+'5月'!N4+'6月'!N4","v":85},{"$f":"'1月'!O4+'2月'!O4+'3月'!O4+'5月'!O4+'6月'!O4","v":64},{"$f":"O4/N4","v":{"v":0.752941176470588,"d":"75.3%"}},{"$f":"'1月'!Q4+'2月'!Q4+'3月'!Q4+'5月'!Q4+'6月'!Q4","v":1},{"$f":"'1月'!R4+'2月'!R4+'3月'!R4+'5月'!R4+'6月'!R4","v":0},{"$f":"R4/Q4","v":{"v":0,"d":"0.0%"}},{"$f":"'1月'!T4+'2月'!T4+'3月'!T4+'5月'!T4+'6月'!T4","v":80},{"$f":"'1月'!U4+'2月'!U4+'3月'!U4+'5月'!U4+'6月'!U4","v":64},{"$f":"U4/T4","v":{"v":0.8,"d":"80.0%"}},{"$f":"'1月'!W4+'2月'!W4+'3月'!W4+'5月'!W4+'6月'!W4","v":176},{"$f":"'1月'!X4+'2月'!X4+'3月'!X4+'5月'!X4+'6月'!X4","v":153},{"$f":"X4/W4","v":{"v":0.869318181818182,"d":"86.9%"}},{"$f":"'1月'!Z4+'2月'!Z4+'3月'!Z4+'5月'!Z4+'6月'!Z4","v":89},{"$f":"'1月'!AA4+'2月'!AA4+'3月'!AA4+'5月'!AA4+'6月'!AA4","v":74},{"$f":"AA4/Z4","v":{"v":0.831460674157303,"d":"83.1%"}},{"$f":"'1月'!AC4+'2月'!AC4+'3月'!AC4+'5月'!AC4+'6月'!AC4","v":109},{"$f":"'1月'!AD4+'2月'!AD4+'3月'!AD4+'5月'!AD4+'6月'!AD4","v":85},{"$f":"AD4/AC4","v":{"v":0.779816513761468,"d":"78.0%"}},{"$f":"'1月'!AF4+'2月'!AF4+'3月'!AF4+'5月'!AF4+'6月'!AF4","v":31},{"$f":"'1月'!AG4+'2月'!AG4+'3月'!AG4+'5月'!AG4+'6月'!AG4","v":26},{"$f":"AG4/AF4","v":{"v":0.838709677419355,"d":"83.9%"}},{"$f":"'1月'!AI4+'2月'!AI4+'3月'!AI4+'5月'!AI4+'6月'!AI4","v":300},{"$f":"'1月'!AJ4+'2月'!AJ4+'3月'!AJ4+'5月'!AJ4+'6月'!AJ4","v":204},{"$f":"AJ4/AI4","v":{"v":0.68,"d":"68.0%"}},{"$f":"'1月'!AL4+'2月'!AL4+'3月'!AL4+'5月'!AL4+'6月'!AL4","v":47},{"$f":"'1月'!AM4+'2月'!AM4+'3月'!AM4+'5月'!AM4+'6月'!AM4","v":36},{"$f":"AM4/AL4","v":{"v":0.765957446808511,"d":"76.6%"}},{"$f":"'1月'!AO4+'2月'!AO4+'3月'!AO4+'5月'!AO4+'6月'!AO4","v":16},{"$f":"'1月'!AP4+'2月'!AP4+'3月'!AP4+'5月'!AP4+'6月'!AP4","v":16},{"$f":"AP4/AO4","v":{"v":1,"d":"100.0%"}},{"$nulls":3},{"$f":"B4+E4+H4+K4+N4+Q4+T4+W4+Z4+AC4+AF4+AI4+AL4+AO4+AR4","v":1674},{"$f":"C4+F4+I4+L4+O4+R4+U4+X4+AA4+AD4+AG4+AJ4+AM4+AP4+AS4","v":1349},{"$f":"AV4/AU4","v":{"v":0.805854241338112,"d":"80.6%"}}]
["高压电工初训",{"$f":"'1月'!B5+'2月'!B5+'3月'!B5+'5月'!B5+'6月'!B5","v":36},{"$f":"'1月'!C5+'2月'!C5+'3月'!C5+'5月'!C5+'6月'!C5","v":34},{"v":0.944444444444444,"d":"94.4%"},{"$f":"'1月'!E5+'2月'!E5+'3月'!E5+'5月'!E5+'6月'!E5","v":31},{"$f":"'1月'!F5+'2月'!F5+'3月'!F5+'5月'!F5+'6月'!F5","v":22},{"v":0.709677419354839,"d":"71.0%"},{"$nulls":3},{"$f":"'1月'!K5+'2月'!K5+'3月'!K5+'5月'!K5+'6月'!K5","v":18},{"$f":"'1月'!L5+'2月'!L5+'3月'!L5+'5月'!L5+'6月'!L5","v":18},{"$f":"L5/K5","v":{"v":1,"d":"100.0%"}},{"$f":"'1月'!N5+'2月'!N5+'3月'!N5+'5月'!N5+'6月'!N5","v":67},{"$f":"'1月'!O5+'2月'!O5+'3月'!O5+'5月'!O5+'6月'!O5","v":60},{"$f":"O5/N5","v":{"v":0.895522388059702,"d":"89.6%"}},{"$f":"'1月'!Q5+'2月'!Q5+'3月'!Q5+'5月'!Q5+'6月'!Q5","v":6},{"$f":"'1月'!R5+'2月'!R5+'3月'!R5+'5月'!R5+'6月'!R5","v":6},{"v":1,"d":"100.0%"},{"$f":"'1月'!T5+'2月'!T5+'3月'!T5+'5月'!T5+'6月'!T5","v":2},{"$f":"'1月'!U5+'2月'!U5+'3月'!U5+'5月'!U5+'6月'!U5","v":2},{"v":1,"d":"100.0%"},{"$nulls":15},{"$f":"'1月'!AL5+'2月'!AL5+'3月'!AL5+'5月'!AL5+'6月'!AL5","v":13},{"$f":"'1月'!AM5+'2月'!AM5+'3月'!AM5+'5月'!AM5+'6月'!AM5","v":12},{"$f":"AM5/AL5","v":{"v":0.923076923076923,"d":"92.3%"}},{"$nulls":6},173,154,{"v":0.890173410404624,"d":"89.0%"}]
["电力电缆初训"]
["熔化焊接与热切割初训",{"$f":"'1月'!B7+'2月'!B7+'3月'!B7+'5月'!B7+'6月'!B7","v":105},{"$f":"'1月'!C7+'2月'!C7+'3月'!C7+'5月'!C7+'6月'!C7","v":94},{"v":0.895238095238095,"d":"89.5%"},{"$nulls":3},{"$f":"'1月'!H7+'2月'!H7+'3月'!H7+'5月'!H7+'6月'!H7","v":34},{"$f":"'1月'!I7+'2月'!I7+'3月'!I7+'5月'!I7+'6月'!I7","v":32},{"v":0.941176470588235,"d":"94.1%"},{"$f":"'1月'!K7+'2月'!K7+'3月'!K7+'5月'!K7+'6月'!K7","v":117},{"$f":"'1月'!L7+'2月'!L7+'3月'!L7+'5月'!L7+'6月'!L7","v":98},{"$f":"L7/K7","v":{"v":0.837606837606838,"d":"83.8%"}},{"$f":"'1月'!N7+'2月'!N7+'3月'!N7+'5月'!N7+'6月'!N7","v":101},{"$f":"'1月'!O7+'2月'!O7+'3月'!O7+'5月'!O7+'6月'!O7","v":85},{"$f":"O7/N7","v":{"v":0.841584158415842,"d":"84.2%"}},{"$f":"'1月'!Q7+'2月'!Q7+'3月'!Q7+'5月'!Q7+'6月'!Q7","v":12},{"$f":"'1月'!R7+'2月'!R7+'3月'!R7+'5月'!R7+'6月'!R7","v":10},{"v":0.833333333333333,"d":"83.3%"},{"$f":"'1月'!T7+'2月'!T7+'3月'!T7+'5月'!T7+'6月'!T7","v":82},{"$f":"'1月'!U7+'2月'!U7+'3月'!U7+'5月'!U7+'6月'!U7","v":71},{"v":0.865853658536585,"d":"86.6%"},{"$nulls":3},{"$f":"'1月'!Z7+'2月'!Z7+'3月'!Z7+'5月'!Z7+'6月'!Z7","v":167},{"$f":"'1月'!AA7+'2月'!AA7+'3月'!AA7+'5月'!AA7+'6月'!AA7","v":120},{"$f":"AA7/Z7","v":{"v":0.718562874251497,"d":"71.9%"}},{"$f":"'1月'!AC7+'2月'!AC7+'3月'!AC7+'5月'!AC7+'6月'!AC7","v":23},{"$f":"'1月'!AD7+'2月'!AD7+'3月'!AD7+'5月'!AD7+'6月'!AD7","v":12},{"$f":"AD7/AC7","v":{"v":0.521739130434783,"d":"52.2%"}},{"$f":"'1月'!AF7+'2月'!AF7+'3月'!AF7+'5月'!AF7+'6月'!AF7","v":88},{"$f":"'1月'!AG7+'2月'!AG7+'3月'!AG7+'5月'!AG7+'6月'!AG7","v":80},{"$f":"AG7/AF7","v":{"v":0.909090909090909,"d":"90.9%"}},{"$f":"'1月'!AI7+'2月'!AI7+'3月'!AI7+'5月'!AI7+'6月'!AI7","v":155},{"$f":"'1月'!AJ7+'2月'!AJ7+'3月'!AJ7+'5月'!AJ7+'6月'!AJ7","v":111},{"$f":"AJ7/AI7","v":{"v":0.716129032258065,"d":"71.6%"}},{"$f":"'1月'!AL7+'2月'!AL7+'3月'!AL7+'5月'!AL7+'6月'!AL7","v":74},{"$f":"'1月'!AM7+'2月'!AM7+'3月'!AM7+'5月'!AM7+'6月'!AM7","v":63},{"$f":"AM7/AL7","v":{"v":0.851351351351351,"d":"85.1%"}},{"$f":"'1月'!AO7+'2月'!AO7+'3月'!AO7+'5月'!AO7+'6月'!AO7","v":14},{"$f":"'1月'!AP7+'2月'!AP7+'3月'!AP7+'5月'!AP7+'6月'!AP7","v":9},{"$f":"AP7/AO7","v":{"v":0.642857142857143,"d":"64.3%"}},{"$nulls":3},972,785,{"v":0.80761316872428,"d":"80.8%"}]
["高处安装维护拆除初训",{"$f":"'1月'!B8+'2月'!B8+'3月'!B8+'5月'!B8+'6月'!B8","v":131},{"$f":"'1月'!C8+'2月'!C8+'3月'!C8+'5月'!C8+'6月'!C8","v":115},{"v":0.877862595419847,"d":"87.8%"},{"$nulls":6},{"$f":"'1月'!K8+'2月'!K8+'3月'!K8+'5月'!K8+'6月'!K8","v":183},{"$f":"'1月'!L8+'2月'!L8+'3月'!L8+'5月'!L8+'6月'!L8","v":169},{"$f":"L8/K8","v":{"v":0.923497267759563,"d":"92.3%"}},{"$nulls":3},{"$f":"'1月'!Q8+'2月'!Q8+'3月'!Q8+'5月'!Q8+'6月'!Q8","v":9},{"$f":"'1月'!R8+'2月'!R8+'3月'!R8+'5月'!R8+'6月'!R8","v":8},{"v":0.888888888888889,"d":"88.9%"},{"$nulls":18},{"$f":"'1月'!AL8+'2月'!AL8+'3月'!AL8+'5月'!AL8+'6月'!AL8","v":193},{"$f":"'1月'!AM8+'2月'!AM8+'3月'!AM8+'5月'!AM8+'6月'!AM8","v":178},{"$f":"AM8/AL8","v":{"v":0.922279792746114,"d":"92.2%"}},{"$nulls":6},516,470,{"v":0.910852713178295,"d":"91.1%"}]
["特种作业初训合计",{"$f":"SUM(B4:B8)","v":568},{"$f":"SUM(C4:C8)","v":505},{"v":0.889084507042254,"d":"88.9%"},{"$f":"SUM(E4:E8)","v":186},{"$f":"SUM(F4:F8)","v":156},{"v":0.838709677419355,"d":"83.9%"},{"$f":"SUM(H4:H8)","v":232},{"$f":"SUM(I4:I8)","v":182},{"v":0.78448275862069,"d":"78.4%"},{"$f":"SUM(K4:K8)","v":409},{"$f":"SUM(L4:L8)","v":366},{"$f":"L9/K9","v":{"v":0.894865525672372,"d":"89.5%"}},{"$f":"SUM(N4:N8)","v":253},{"$f":"SUM(O4:O8)","v":209},{"$f":"O9/N9","v":{"v":0.826086956521739,"d":"82.6%"}},{"$f":"SUM(Q4:Q8)","v":28},{"$f":"SUM(R4:R8)","v":24},{"v":0.857142857142857,"d":"85.7%"},{"$f":"SUM(T4:T8)","v":164},{"$f":"SUM(U4:U8)","v":137},{"v":0.835365853658537,"d":"83.5%"},{"$f":"SUM(W4:W8)","v":176},{"$f":"SUM(X4:X8)","v":153},{"$f":"X9/W9","v":{"v":0.869318181818182,"d":"86.9%"}},{"$f":"SUM(Z4:Z8)","v":256},{"$f":"SUM(AA4:AA8)","v":194},{"$f":"AA9/Z9","v":{"v":0.7578125,"d":"75.8%"}},{"$f":"SUM(AC4:AC8)","v":132},{"$f":"SUM(AD4:AD8)","v":97},{"$f":"AD9/AC9","v":{"v":0.734848484848485,"d":"73.5%"}},{"$f":"SUM(AF4:AF8)","v":119},{"$f":"SUM(AG4:AG8)","v":106},{"$f":"AG9/AF9","v":{"v":0.890756302521008,"d":"89.1%"}},{"$f":"SUM(AI4:AI8)","v":455},{"$f":"SUM(AJ4:AJ8)","v":315},{"$f":"AJ9/AI9","v":{"v":0.692307692307692,"d":"69.2%"}},{"$f":"SUM(AL4:AL8)","v":327},{"$f":"SUM(AM4:AM8)","v":289},{"$f":"AM9/AL9","v":{"v":0.883792048929664,"d":"88.4%"}},{"$f":"SUM(AO4:AO8)","v":30},{"$f":"SUM(AP4:AP8)","v":25},{"$f":"AP9/AO9","v":{"v":0.833333333333333,"d":"83.3%"}},{"$nulls":3},3335,2758,{"v":0.826986506746627,"d":"82.7%"}]
["低压电工复训",{"$f":"'1月'!B10+'2月'!B10+'3月'!B10+'5月'!B10+'6月'!B10","v":991},{"$f":"'1月'!C10+'2月'!C10+'3月'!C10+'5月'!C10+'6月'!C10","v":959},{"v":0.967709384460141,"d":"96.8%"},{"$f":"'1月'!E10+'2月'!E10+'3月'!E10+'5月'!E10+'6月'!E10","v":265},{"$f":"'1月'!F10+'2月'!F10+'3月'!F10+'5月'!F10+'6月'!F10","v":259},{"v":0.977358490566038,"d":"97.7%"},{"$nulls":3},{"$f":"'1月'!K10+'2月'!K10+'3月'!K10+'5月'!K10+'6月'!K10","v":190},{"$f":"'1月'!L10+'2月'!L10+'3月'!L10+'5月'!L10+'6月'!L10","v":185},{"v":0.973684210526316,"d":"97.4%"},{"$f":"'1月'!N10+'2月'!N10+'3月'!N10+'5月'!N10+'6月'!N10","v":214},{"$f":"'1月'!O10+'2月'!O10+'3月'!O10+'5月'!O10+'6月'!O10","v":210},{"$f":"O10/N10","v":{"v":0.981308411214953,"d":"98.1%"}},{"$f":"'1月'!Q10+'2月'!Q10+'3月'!Q10+'5月'!Q10+'6月'!Q10","v":31},{"$f":"'1月'!R10+'2月'!R10+'3月'!R10+'5月'!R10+'6月'!R10","v":31},{"$f":"R10/Q10","v":{"v":1,"d":"100.0%"}},{"$f":"'1月'!T10+'2月'!T10+'3月'!T10+'5月'!T10+'6月'!T10","v":60},{"$f":"'1月'!U10+'2月'!U10+'3月'!U10+'5月'!U10+'6月'!U10","v":58},{"v":0.966666666666667,"d":"96.7%"},{"$nulls":3},{"$f":"'1月'!Z10+'2月'!Z10+'3月'!Z10+'5月'!Z10+'6月'!Z10","v":24},{"$f":"'1月'!AA10+'2月'!AA10+'3月'!AA10+'5月'!AA10+'6月'!AA10","v":23},{"$f":"AA10/Z10","v":{"v":0.958333333333333,"d":"95.8%"}},{"$f":"'1月'!AC10+'2月'!AC10+'3月'!AC10+'5月'!AC10+'6月'!AC10","v":391},{"$f":"'1月'!AD10+'2月'!AD10+'3月'!AD10+'5月'!AD10+'6月'!AD10","v":380},{"$f":"AD10/AC10","v":{"v":0.971867007672634,"d":"97.2%"}},{"$f":"'1月'!AF10+'2月'!AF10+'3月'!AF10+'5月'!AF10+'6月'!AF10","v":270},{"$f":"'1月'!AG10+'2月'!AG10+'3月'!AG10+'5月'!AG10+'6月'!AG10","v":262},{"$f":"AG10/AF10","v":{"v":0.97037037037037,"d":"97.0%"}},{"$f":"'1月'!AI10+'2月'!AI10+'3月'!AI10+'5月'!AI10+'6月'!AI10","v":155},{"$f":"'1月'!AJ10+'2月'!AJ10+'3月'!AJ10+'5月'!AJ10+'6月'!AJ10","v":144},{"$f":"AJ10/AI10","v":{"v":0.929032258064516,"d":"92.9%"}},{"$f":"'1月'!AL10+'2月'!AL10+'3月'!AL10+'5月'!AL10+'6月'!AL10","v":172},{"$f":"'1月'!AM10+'2月'!AM10+'3月'!AM10+'5月'!AM10+'6月'!AM10","v":165},{"v":0.959302325581395,"d":"95.9%"},{"$f":"'1月'!AO10+'2月'!AO10+'3月'!AO10+'5月'!AO10+'6月'!AO10","v":10},{"$f":"'1月'!AP10+'2月'!AP10+'3月'!AP10+'5月'!AP10+'6月'!AP10","v":10},{"$f":"AP10/AO10","v":{"v":1,"d":"100.0%"}},{"$nulls":3},2773,2686,{"v":0.968626036783267,"d":"96.9%"}]
["高压电工复训",{"$f":"'1月'!B11+'2月'!B11+'3月'!B11+'5月'!B11+'6月'!B11","v":178},{"$f":"'1月'!C11+'2月'!C11+'3月'!C11+'5月'!C11+'6月'!C11","v":157},{"v":0.882022471910112,"d":"88.2%"},{"$f":"'1月'!E11+'2月'!E11+'3月'!E11+'5月'!E11+'6月'!E11","v":189},{"$f":"'1月'!F11+'2月'!F11+'3月'!F11+'5月'!F11+'6月'!F11","v":166},{"v":0.878306878306878,"d":"87.8%"},{"$nulls":3},{"$f":"'1月'!K11+'2月'!K11+'3月'!K11+'5月'!K11+'6月'!K11","v":77},{"$f":"'1月'!L11+'2月'!L11+'3月'!L11+'5月'!L11+'6月'!L11","v":68},{"v":0.883116883116883,"d":"88.3%"},{"$f":"'1月'!N11+'2月'!N11+'3月'!N11+'5月'!N11+'6月'!N11","v":18},{"$f":"'1月'!O11+'2月'!O11+'3月'!O11+'5月'!O11+'6月'!O11","v":18},{"$f":"O11/N11","v":{"v":1,"d":"100.0%"}},{"$f":"'1月'!Q11+'2月'!Q11+'3月'!Q11+'5月'!Q11+'6月'!Q11","v":33},{"$f":"'1月'!R11+'2月'!R11+'3月'!R11+'5月'!R11+'6月'!R11","v":32},{"v":0.96969696969697,"d":"97.0%"},{"$f":"'1月'!T11+'2月'!T11+'3月'!T11+'5月'!T11+'6月'!T11","v":3},{"$f":"'1月'!U11+'2月'!U11+'3月'!U11+'5月'!U11+'6月'!U11","v":3},{"v":1,"d":"100.0%"},{"$nulls":6},{"$f":"'1月'!AC11+'2月'!AC11+'3月'!AC11+'5月'!AC11+'6月'!AC11","v":32},{"$f":"'1月'!AD11+'2月'!AD11+'3月'!AD11+'5月'!AD11+'6月'!AD11","v":32},{"$f":"AD11/AC11","v":{"v":1,"d":"100.0%"}},{"$f":"'1月'!AF11+'2月'!AF11+'3月'!AF11+'5月'!AF11+'6月'!AF11","v":32},{"$f":"'1月'!AG11+'2月'!AG11+'3月'!AG11+'5月'!AG11+'6月'!AG11","v":29},{"$f":"AG11/AF11","v":{"v":0.90625,"d":"90.6%"}},{"$nulls":3},{"$f":"'1月'!AL11+'2月'!AL11+'3月'!AL11+'5月'!AL11+'6月'!AL11","v":12},{"$f":"'1月'!AM11+'2月'!AM11+'3月'!AM11+'5月'!AM11+'6月'!AM11","v":10},{"v":0.833333333333333,"d":"83.3%"},{"$nulls":6},574,515,{"v":0.897212543554007,"d":"89.7%"}]
["熔化焊接与热切割复训",{"$f":"'1月'!B12+'2月'!B12+'3月'!B12+'5月'!B12+'6月'!B12","v":205},{"$f":"'1月'!C12+'2月'!C12+'3月'!C12+'5月'!C12+'6月'!C12","v":190},{"v":0.926829268292683,"d":"92.7%"},{"$f":"'1月'!E12+'2月'!E12+'3月'!E12+'5月'!E12+'6月'!E12","v":26},{"$f":"'1月'!F12+'2月'!F12+'3月'!F12+'5月'!F12+'6月'!F12","v":24},{"v":0.923076923076923,"d":"92.3%"},{"$nulls":3},{"$f":"'1月'!K12+'2月'!K12+'3月'!K12+'5月'!K12+'6月'!K12","v":113},{"$f":"'1月'!L12+'2月'!L12+'3月'!L12+'5月'!L12+'6月'!L12","v":106},{"v":0.938053097345133,"d":"93.8%"},{"$f":"'1月'!N12+'2月'!N12+'3月'!N12+'5月'!N12+'6月'!N12","v":34},{"$f":"'1月'!O12+'2月'!O12+'3月'!O12+'5月'!O12+'6月'!O12","v":31},{"$f":"O12/N12","v":{"v":0.911764705882353,"d":"91.2%"}},{"$f":"'1月'!Q12+'2月'!Q12+'3月'!Q12+'5月'!Q12+'6月'!Q12","v":18},{"$f":"'1月'!R12+'2月'!R12+'3月'!R12+'5月'!R12+'6月'!R12","v":17},{"v":0.944444444444444,"d":"94.4%"},{"$f":"'1月'!T12+'2月'!T12+'3月'!T12+'5月'!T12+'6月'!T12","v":23},{"$f":"'1月'!U12+'2月'!U12+'3月'!U12+'5月'!U12+'6月'!U12","v":23},{"v":1,"d":"100.0%"},{"$nulls":3},{"$f":"'1月'!Z12+'2月'!Z12+'3月'!Z12+'5月'!Z12+'6月'!Z12","v":4},{"$f":"'1月'!AA12+'2月'!AA12+'3月'!AA12+'5月'!AA12+'6月'!AA12","v":2},{"$f":"AA12/Z12","v":{"v":0.5,"d":"50.0%"}},{"$f":"'1月'!AC12+'2月'!AC12+'3月'!AC12+'5月'!AC12+'6月'!AC12","v":51},{"$f":"'1月'!AD12+'2月'!AD12+'3月'!AD12+'5月'!AD12+'6月'!AD12","v":47},{"$f":"AD12/AC12","v":{"v":0.92156862745098,"d":"92.2%"}},{"$f":"'1月'!AF12+'2月'!AF12+'3月'!AF12+'5月'!AF12+'6月'!AF12","v":65},{"$f":"'1月'!AG12+'2月'!AG12+'3月'!AG12+'5月'!AG12+'6月'!AG12","v":62},{"$f":"AG12/AF12","v":{"v":0.953846153846154,"d":"95.4%"}},{"$f":"'1月'!AI12+'2月'!AI12+'3月'!AI12+'5月'!AI12+'6月'!AI12","v":32},{"$f":"'1月'!AJ12+'2月'!AJ12+'3月'!AJ12+'5月'!AJ12+'6月'!AJ12","v":29},{"$f":"AJ12/AI12","v":{"v":0.90625,"d":"90.6%"}},{"$f":"'1月'!AL12+'2月'!AL12+'3月'!AL12+'5月'!AL12+'6月'!AL12","v":14},{"$f":"'1月'!AM12+'2月'!AM12+'3月'!AM12+'5月'!AM12+'6月'!AM12","v":14},{"v":1,"d":"100.0%"},{"$f":"'1月'!AO12+'2月'!AO12+'3月'!AO12+'5月'!AO12+'6月'!AO12","v":2},{"$f":"'1月'!AP12+'2月'!AP12+'3月'!AP12+'5月'!AP12+'6月'!AP12","v":0},{"$f":"AP12/AO12","v":{"v":0,"d":"0.0%"}},{"$nulls":3},587,545,{"v":0.928449744463373,"d":"92.8%"}]
["钎焊复训"]
["高处安装维护拆除复训",{"$f":"'1月'!B14+'2月'!B14+'3月'!B14+'5月'!B14+'6月'!B14","v":150},{"$f":"'1月'!C14+'2月'!C14+'3月'!C14+'5月'!C14+'6月'!C14","v":145},{"$f":"C14/B14","v":{"v":0.966666666666667,"d":"96.7%"}},{"$f":"'1月'!E14+'2月'!E14+'3月'!E14+'5月'!E14+'6月'!E14","v":635},{"$f":"'1月'!F14+'2月'!F14+'3月'!F14+'5月'!F14+'6月'!F14","v":611},{"v":0.962204724409449,"d":"96.2%"},{"$nulls":3},{"$f":"'1月'!K14+'2月'!K14+'3月'!K14+'5月'!K14+'6月'!K14","v":20},{"$f":"'1月'!L14+'2月'!L14+'3月'!L14+'5月'!L14+'6月'!L14","v":18},{"v":0.9,"d":"90.0%"},{"$nulls":3},{"$f":"'1月'!Q14+'2月'!Q14+'3月'!Q14+'5月'!Q14+'6月'!Q14","v":9},{"$f":"'1月'!R14+'2月'!R14+'3月'!R14+'5月'!R14+'6月'!R14","v":6},{"v":0.666666666666667,"d":"66.7%"},{"$nulls":18},{"$f":"'1月'!AL14+'2月'!AL14+'3月'!AL14+'5月'!AL14+'6月'!AL14","v":2},{"$f":"'1月'!AM14+'2月'!AM14+'3月'!AM14+'5月'!AM14+'6月'!AM14","v":2},{"v":1,"d":"100.0%"},{"$nulls":6},{"$f":"B14+E14+H14+K14+N14+Q14+T14+W14+Z14+AC14+AF14+AI14+AL14+AO14+AR14","v":816},{"$f":"C14+F14+I14+L14+O14+R14+U14+X14+AA14+AD14+AG14+AJ14+AM14+AP14+AS14","v":782},{"$f":"AV14/AU14","v":{"v":0.958333333333333,"d":"95.8%"}}]
["登高架设复训",{"$f":"'1月'!B15+'2月'!B15+'3月'!B15+'5月'!B15+'6月'!B15","v":12},{"$f":"'1月'!C15+'2月'!C15+'3月'!C15+'5月'!C15+'6月'!C15","v":9},{"v":0.75,"d":"75.0%"},{"$f":"'1月'!E15+'2月'!E15+'3月'!E15+'5月'!E15+'6月'!E15","v":5},{"$f":"'1月'!F15+'2月'!F15+'3月'!F15+'5月'!F15+'6月'!F15","v":4},{"v":0.8,"d":"80.0%"},{"$nulls":9},{"$f":"'1月'!Q15+'2月'!Q15+'3月'!Q15+'5月'!Q15+'6月'!Q15","v":1},{"$f":"'1月'!R15+'2月'!R15+'3月'!R15+'5月'!R15+'6月'!R15","v":1},{"v":1,"d":"100.0%"},{"$nulls":27},18,14,{"v":0.777777777777778,"d":"77.8%"}]
["制冷与空调运行操作复训",{"$f":"'1月'!B16+'2月'!B16+'3月'!B16+'5月'!B16+'6月'!B16","v":2},{"$f":"'1月'!C16+'2月'!C16+'3月'!C16+'5月'!C16+'6月'!C16","v":2},{"v":1,"d":"100.0%"},{"$nulls":42},2,2,{"v":1,"d":"100.0%"}]
["制冷与空调安装修理复训",{"$f":"'1月'!B17+'2月'!B17+'3月'!B17+'5月'!B17+'6月'!B17","v":3},{"$f":"'1月'!C17+'2月'!C17+'3月'!C17+'5月'!C17+'6月'!C17","v":3},{"v":1,"d":"100.0%"},{"$nulls":42},3,3,{"v":1,"d":"100.0%"}]
["矿山安检复训",{"$f":"'1月'!B18+'2月'!B18+'3月'!B18+'5月'!B18+'6月'!B18","v":4},{"$f":"'1月'!C18+'2月'!C18+'3月'!C18+'5月'!C18+'6月'!C18","v":4},{"v":1,"d":"100.0%"},{"$nulls":12},{"$f":"'1月'!Q18+'2月'!Q18+'3月'!Q18+'5月'!Q18+'6月'!Q18","v":3},{"$f":"'1月'!R18+'2月'!R18+'3月'!R18+'5月'!R18+'6月'!R18","v":3},{"v":1,"d":"100.0%"},{"$nulls":27},7,7,{"v":1,"d":"100.0%"}]
["电力电缆复训",{"$f":"'1月'!B19+'2月'!B19+'3月'!B19+'5月'!B19+'6月'!B19","v":9},{"$f":"'1月'!C19+'2月'!C19+'3月'!C19+'5月'!C19+'6月'!C19","v":6},{"v":0.666666666666667,"d":"66.7%"},{"$f":"'1月'!E19+'2月'!E19+'3月'!E19+'5月'!E19+'6月'!E19","v":29},{"$f":"'1月'!F19+'2月'!F19+'3月'!F19+'5月'!F19+'6月'!F19","v":13},{"v":0.448275862068966,"d":"44.8%"},{"$nulls":3},{"$f":"'1月'!K19+'2月'!K19+'3月'!K19+'5月'!K19+'6月'!K19","v":1},{"$f":"'1月'!L19+'2月'!L19+'3月'!L19+'5月'!L19+'6月'!L19","v":1},{"v":1,"d":"100.0%"},{"$nulls":33},39,20,{"v":0.512820512820513,"d":"51.3%"}]
["电气试验复训",{"$f":"'1月'!B20+'2月'!B20+'3月'!B20+'5月'!B20+'6月'!B20","v":9},{"$f":"'1月'!C20+'2月'!C20+'3月'!C20+'5月'!C20+'6月'!C20","v":8},{"v":0.888888888888889,"d":"88.9%"},{"$f":"'1月'!E20+'2月'!E20+'3月'!E20+'5月'!E20+'6月'!E20","v":17},{"$f":"'1月'!F20+'2月'!F20+'3月'!F20+'5月'!F20+'6月'!F20","v":15},{"v":0.882352941176471,"d":"88.2%"},{"$nulls":3},{"$f":"'1月'!K20+'2月'!K20+'3月'!K20+'5月'!K20+'6月'!K20","v":3},{"$f":"'1月'!L20+'2月'!L20+'3月'!L20+'5月'!L20+'6月'!L20","v":3},{"v":1,"d":"100.0%"},{"$nulls":33},29,26,{"v":0.896551724137931,"d":"89.7%"}]
["继电保护复训",{"$f":"'1月'!B21+'2月'!B21+'3月'!B21+'5月'!B21+'6月'!B21","v":10},{"$f":"'1月'!C21+'2月'!C21+'3月'!C21+'5月'!C21+'6月'!C21","v":9},{"v":0.9,"d":"90.0%"},{"$f":"'1月'!E21+'2月'!E21+'3月'!E21+'5月'!E21+'6月'!E21","v":9},{"$f":"'1月'!F21+'2月'!F21+'3月'!F21+'5月'!F21+'6月'!F21","v":7},{"v":0.777777777777778,"d":"77.8%"},{"$nulls":39},19,16,{"v":0.842105263157895,"d":"84.2%"}]
["特种作业复训合计",{"$f":"SUM(B10:B21)","v":1573},{"$f":"SUM(C10:C21)","v":1492},{"v":0.94850603941513,"d":"94.9%"},{"$f":"SUM(E10:E21)","v":1175},{"$f":"SUM(F10:F21)","v":1099},{"v":0.93531914893617,"d":"93.5%"},{"$nulls":3},{"$f":"SUM(K10:K21)","v":404},{"$f":"SUM(L10:L21)","v":381},{"$f":"L22/K22","v":{"v":0.943069306930693,"d":"94.3%"}},{"$f":"SUM(N10:N21)","v":266},{"$f":"SUM(O10:O21)","v":259},{"$f":"O22/N22","v":{"v":0.973684210526316,"d":"97.4%"}},{"$f":"SUM(Q10:Q21)","v":95},{"$f":"SUM(R10:R21)","v":90},{"$f":"R22/Q22","v":{"v":0.947368421052632,"d":"94.7%"}},{"$f":"SUM(T10:T21)","v":86},{"$f":"SUM(U10:U21)","v":84},{"$f":"U22/T22","v":{"v":0.976744186046512,"d":"97.7%"}},{"$nulls":3},{"$f":"SUM(Z10:Z21)","v":28},{"$f":"SUM(AA10:AA21)","v":25},{"$f":"AA22/Z22","v":{"v":0.892857142857143,"d":"89.3%"}},{"$f":"SUM(AC10:AC21)","v":474},{"$f":"SUM(AD10:AD21)","v":459},{"$f":"AD22/AC22","v":{"v":0.968354430379747,"d":"96.8%"}},{"$f":"SUM(AF10:AF21)","v":367},{"$f":"SUM(AG10:AG21)","v":353},{"$f":"AG22/AF22","v":{"v":0.961852861035422,"d":"96.2%"}},{"$f":"SUM(AI10:AI21)","v":187},{"$f":"SUM(AJ10:AJ21)","v":173},{"$f":"AJ22/AI22","v":{"v":0.925133689839572,"d":"92.5%"}},{"$f":"SUM(AL10:AL21)","v":200},{"$f":"SUM(AM10:AM21)","v":191},{"v":0.955,"d":"95.5%"},{"$f":"SUM(AO10:AO21)","v":12},{"$f":"SUM(AP10:AP21)","v":10},{"$f":"AP22/AO22","v":{"v":0.833333333333333,"d":"83.3%"}},{"$nulls":3},4867,4616,{"v":0.94842818985001,"d":"94.8%"}]
["特种作业人员合计",{"$f":"B9+B22","v":2141},{"$f":"C9+C22","v":1997},{"v":0.932741709481551,"d":"93.3%"},{"$f":"E9+E22","v":1361},{"$f":"F9+F22","v":1255},{"v":0.922116091109478,"d":"92.2%"},{"$f":"H9+H22","v":232},{"$f":"I9+I22","v":182},{"$f":"I23/H23","v":{"v":0.78448275862069,"d":"78.4%"}},{"$f":"K9+K22","v":813},{"$f":"L9+L22","v":747},{"$f":"L23/K23","v":{"v":0.918819188191882,"d":"91.9%"}},{"$f":"N9+N22","v":519},{"$f":"O9+O22","v":468},{"$f":"O23/N23","v":{"v":0.901734104046243,"d":"90.2%"}},{"$f":"Q9+Q22","v":123},{"$f":"R9+R22","v":114},{"v":0.926829268292683,"d":"92.7%"},{"$f":"T9+T22","v":250},{"$f":"U9+U22","v":221},{"$f":"U23/T23","v":{"v":0.884,"d":"88.4%"}},{"$f":"W9+W22","v":176},{"$f":"X9+X22","v":153},{"$f":"X23/W23","v":{"v":0.869318181818182,"d":"86.9%"}},{"$f":"Z9+Z22","v":284},{"$f":"AA9+AA22","v":219},{"$f":"AA23/Z23","v":{"v":0.77112676056338,"d":"77.1%"}},{"$f":"AC9+AC22","v":606},{"$f":"AD9+AD22","v":556},{"$f":"AD23/AC23","v":{"v":0.917491749174917,"d":"91.7%"}},{"$f":"AF9+AF22","v":486},{"$f":"AG9+AG22","v":459},{"$f":"AG23/AF23","v":{"v":0.944444444444444,"d":"94.4%"}},{"$f":"AI9+AI22","v":642},{"$f":"AJ9+AJ22","v":488},{"$f":"AJ23/AI23","v":{"v":0.7601246105919,"d":"76.0%"}},{"$f":"AL9+AL22","v":527},{"$f":"AM9+AM22","v":480},{"v":0.910815939278937,"d":"91.1%"},{"$f":"AO9+AO22","v":42},{"$f":"AP9+AP22","v":35},{"v":0.833333333333333,"d":"83.3%"},{"$nulls":3},8202,7374,{"v":0.899049012435991,"d":"89.9%"}]
["烟花爆竹经营负责人初训",{"$f":"'1月'!B24+'2月'!B24+'3月'!B24+'5月'!B24+'6月'!B24","v":5},{"$f":"'1月'!C24+'2月'!C24+'3月'!C24+'5月'!C24+'6月'!C24","v":3},{"v":0.6,"d":"60.0%"},{"$nulls":6},{"$f":"'1月'!K24+'2月'!K24+'3月'!K24+'5月'!K24+'6月'!K24","v":2},{"$f":"'1月'!L24+'2月'!L24+'3月'!L24+'5月'!L24+'6月'!L24","v":2},{"$f":"L24/K24","v":{"v":1,"d":"100.0%"}},{"$nulls":15},{"$f":"'1月'!AC24+'2月'!AC24+'3月'!AC24+'5月'!AC24+'6月'!AC24","v":8},{"$f":"'1月'!AD24+'2月'!AD24+'3月'!AD24+'5月'!AD24+'6月'!AD24","v":6},{"$f":"AD24/AC24","v":{"v":0.75,"d":"75.0%"}},{"$f":"'1月'!AF24+'2月'!AF24+'3月'!AF24+'5月'!AF24+'6月'!AF24","v":14},{"$f":"'1月'!AG24+'2月'!AG24+'3月'!AG24+'5月'!AG24+'6月'!AG24","v":13},{"$f":"AG24/AF24","v":{"v":0.928571428571429,"d":"92.9%"}},{"$nulls":12},29,24,{"v":0.827586206896552,"d":"82.8%"}]
["危化生产负责人初训",{"$f":"'1月'!B25+'2月'!B25+'3月'!B25+'5月'!B25+'6月'!B25","v":7},{"$f":"'1月'!C25+'2月'!C25+'3月'!C25+'5月'!C25+'6月'!C25","v":5},{"v":0.714285714285714,"d":"71.4%"},{"$nulls":6},{"$f":"'1月'!K25+'2月'!K25+'3月'!K25+'5月'!K25+'6月'!K25","v":8},{"$f":"'1月'!L25+'2月'!L25+'3月'!L25+'5月'!L25+'6月'!L25","v":8},{"$f":"L25/K25","v":{"v":1,"d":"100.0%"}},{"$nulls":18},{"$f":"'1月'!AF25+'2月'!AF25+'3月'!AF25+'5月'!AF25+'6月'!AF25","v":4},{"$f":"'1月'!AG25+'2月'!AG25+'3月'!AG25+'5月'!AG25+'6月'!AG25","v":4},{"$f":"AG25/AF25","v":{"v":1,"d":"100.0%"}},{"$nulls":12},19,17,{"v":0.894736842105263,"d":"89.5%"}]
["危化经营负责人初训",{"$f":"'1月'!B26+'2月'!B26+'3月'!B26+'5月'!B26+'6月'!B26","v":79},{"$f":"'1月'!C26+'2月'!C26+'3月'!C26+'5月'!C26+'6月'!C26","v":76},{"v":0.962025316455696,"d":"96.2%"},{"$nulls":6},{"$f":"'1月'!K26+'2月'!K26+'3月'!K26+'5月'!K26+'6月'!K26","v":20},{"$f":"'1月'!L26+'2月'!L26+'3月'!L26+'5月'!L26+'6月'!L26","v":18},{"$f":"L26/K26","v":{"v":0.9,"d":"90.0%"}},{"$nulls":15},{"$f":"'1月'!AC26+'2月'!AC26+'3月'!AC26+'5月'!AC26+'6月'!AC26","v":6},{"$f":"'1月'!AD26+'2月'!AD26+'3月'!AD26+'5月'!AD26+'6月'!AD26","v":5},{"$f":"AD26/AC26","v":{"v":0.833333333333333,"d":"83.3%"}},{"$f":"'1月'!AF26+'2月'!AF26+'3月'!AF26+'5月'!AF26+'6月'!AF26","v":13},{"$f":"'1月'!AG26+'2月'!AG26+'3月'!AG26+'5月'!AG26+'6月'!AG26","v":12},{"$f":"AG26/AF26","v":{"v":0.923076923076923,"d":"92.3%"}},{"$nulls":6},{"$f":"'1月'!AO26+'2月'!AO26+'3月'!AO26+'5月'!AO26+'6月'!AO26","v":2},{"$f":"'1月'!AP26+'2月'!AP26+'3月'!AP26+'5月'!AP26+'6月'!AP26","v":2},{"v":1,"d":"100.0%"},{"$f":"'1月'!AR26+'2月'!AR26+'3月'!AR26+'5月'!AR26+'6月'!AR26","v":6},{"$f":"'1月'!AS26+'2月'!AS26+'3月'!AS26+'5月'!AS26+'6月'!AS26","v":6},{"$f":"AS26/AR26","v":{"v":1,"d":"100.0%"}},126,119,{"v":0.944444444444444,"d":"94.4%"}]
["非煤矿山负责人初训"]
["金属冶炼负责人初训",{"$nulls":15},{"$f":"'1月'!Q28+'2月'!Q28+'3月'!Q28+'5月'!Q28+'6月'!Q28","v":6},{"$f":"'1月'!R28+'2月'!R28+'3月'!R28+'5月'!R28+'6月'!R28","v":6},{"v":1,"d":"100.0%"},{"$nulls":27},6,6,{"v":1,"d":"100.0%"}]
["高危行业负责人初训合计",{"$f":"SUM(B24:B28)","v":91},{"$f":"SUM(C24:C28)","v":84},{"$f":"C29/B29","v":{"v":0.923076923076923,"d":"92.3%"}},{"$nulls":6},{"$f":"SUM(K24:K28)","v":30},{"$f":"SUM(L24:L28)","v":28},{"$f":"L29/K29","v":{"v":0.933333333333333,"d":"93.3%"}},{"$nulls":3},{"$f":"SUM(Q24:Q28)","v":6},{"$f":"SUM(R24:R28)","v":6},{"v":1,"d":"100.0%"},{"$nulls":9},{"$f":"SUM(AC24:AC28)","v":14},{"$f":"SUM(AD24:AD28)","v":11},{"$f":"AD29/AC29","v":{"v":0.785714285714286,"d":"78.6%"}},{"$f":"SUM(AF24:AF28)","v":31},{"$f":"SUM(AG24:AG28)","v":29},{"$f":"AG29/AF29","v":{"v":0.935483870967742,"d":"93.5%"}},{"$nulls":6},{"$f":"SUM(AO24:AO28)","v":2},{"$f":"SUM(AP24:AP28)","v":2},{"v":1,"d":"100.0%"},{"$f":"SUM(AR24:AR28)","v":6},{"$f":"SUM(AS24:AS28)","v":6},{"$f":"AS29/AR29","v":{"v":1,"d":"100.0%"}},{"$f":"B29+E29+H29+K29+N29+Q29+T29+W29+Z29+AC29+AF29+AI29+AL29+AO29+AR29","v":180},{"$f":"C29+F29+I29+L29+O29+R29+U29+X29+AA29+AD29+AG29+AJ29+AM29+AP29+AS29","v":166},{"$f":"AV29/AU29","v":{"v":0.922222222222222,"d":"92.2%"}}]
["烟花爆竹经营负责人复训",{"$nulls":30},{"$f":"'1月'!AF30+'2月'!AF30+'3月'!AF30+'5月'!AF30+'6月'!AF30","v":6},{"$f":"'1月'!AG30+'2月'!AG30+'3月'!AG30+'5月'!AG30+'6月'!AG30","v":6},{"$f":"AG30/AF30","v":{"v":1,"d":"100.0%"}},{"$nulls":12},6,6,{"v":1,"d":"100.0%"}]
["危化生产负责人复训",{"$f":"'1月'!B31+'2月'!B31+'3月'!B31+'5月'!B31+'6月'!B31","v":25},{"$f":"'1月'!C31+'2月'!C31+'3月'!C31+'5月'!C31+'6月'!C31","v":25},{"$f":"C31/B31","v":{"v":1,"d":"100.0%"}},{"$nulls":6},{"$f":"'1月'!K31+'2月'!K31+'3月'!K31+'5月'!K31+'6月'!K31","v":14},{"$f":"'1月'!L31+'2月'!L31+'3月'!L31+'5月'!L31+'6月'!L31","v":14},{"$f":"L31/K31","v":{"v":1,"d":"100.0%"}},{"$nulls":3},{"$f":"'1月'!Q31+'2月'!Q31+'3月'!Q31+'5月'!Q31+'6月'!Q31","v":1},{"$f":"'1月'!R31+'2月'!R31+'3月'!R31+'5月'!R31+'6月'!R31","v":1},{"$f":"R31/Q31","v":{"v":1,"d":"100.0%"}},{"$nulls":12},{"$f":"'1月'!AF31+'2月'!AF31+'3月'!AF31+'5月'!AF31+'6月'!AF31","v":23},{"$f":"'1月'!AG31+'2月'!AG31+'3月'!AG31+'5月'!AG31+'6月'!AG31","v":23},{"$f":"AG31/AF31","v":{"v":1,"d":"100.0%"}},{"$nulls":6},{"$f":"'1月'!AO31+'2月'!AO31+'3月'!AO31+'5月'!AO31+'6月'!AO31","v":1},{"$f":"'1月'!AP31+'2月'!AP31+'3月'!AP31+'5月'!AP31+'6月'!AP31","v":1},{"$f":"AP31/AO31","v":{"v":1,"d":"100.0%"}},{"$nulls":3},64,64,{"v":1,"d":"100.0%"}]
["危化经营负责人复训",{"$f":"'1月'!B32+'2月'!B32+'3月'!B32+'5月'!B32+'6月'!B32","v":212},{"$f":"'1月'!C32+'2月'!C32+'3月'!C32+'5月'!C32+'6月'!C32","v":210},{"$f":"C32/B32","v":{"v":0.990566037735849,"d":"99.1%"}},{"$nulls":6},{"$f":"'1月'!K32+'2月'!K32+'3月'!K32+'5月'!K32+'6月'!K32","v":42},{"$f":"'1月'!L32+'2月'!L32+'3月'!L32+'5月'!L32+'6月'!L32","v":41},{"$f":"L32/K32","v":{"v":0.976190476190476,"d":"97.6%"}},{"$nulls":3},{"$f":"'1月'!Q32+'2月'!Q32+'3月'!Q32+'5月'!Q32+'6月'!Q32","v":1},{"$f":"'1月'!R32+'2月'!R32+'3月'!R32+'5月'!R32+'6月'!R32","v":1},{"$f":"R32/Q32","v":{"v":1,"d":"100.0%"}},{"$nulls":9},{"$f":"'1月'!AC32+'2月'!AC32+'3月'!AC32+'5月'!AC32+'6月'!AC32","v":2},{"$f":"'1月'!AD32+'2月'!AD32+'3月'!AD32+'5月'!AD32+'6月'!AD32","v":1},{"v":0.5,"d":"50.0%"},{"$f":"'1月'!AF32+'2月'!AF32+'3月'!AF32+'5月'!AF32+'6月'!AF32","v":46},{"$f":"'1月'!AG32+'2月'!AG32+'3月'!AG32+'5月'!AG32+'6月'!AG32","v":45},{"$f":"AG32/AF32","v":{"v":0.978260869565217,"d":"97.8%"}},{"$nulls":6},{"$f":"'1月'!AO32+'2月'!AO32+'3月'!AO32+'5月'!AO32+'6月'!AO32","v":2},{"$f":"'1月'!AP32+'2月'!AP32+'3月'!AP32+'5月'!AP32+'6月'!AP32","v":2},{"$f":"AP32/AO32","v":{"v":1,"d":"100.0%"}},{"$f":"'1月'!AR32+'2月'!AR32+'3月'!AR32+'5月'!AR32+'6月'!AR32","v":1},{"$f":"'1月'!AS32+'2月'!AS32+'3月'!AS32+'5月'!AS32+'6月'!AS32","v":1},{"v":1,"d":"100.0%"},306,301,{"v":0.983660130718954,"d":"98.4%"}]
["非煤矿山负责人复训",{"$f":"'1月'!B33+'2月'!B33+'3月'!B33+'5月'!B33+'6月'!B33","v":1},{"$f":"'1月'!C33+'2月'!C33+'3月'!C33+'5月'!C33+'6月'!C33","v":1},{"$f":"C33/B33","v":{"v":1,"d":"100.0%"}},{"$nulls":24},{"$f":"'1月'!AC33+'2月'!AC33+'3月'!AC33+'5月'!AC33+'6月'!AC33","v":7},{"$f":"'1月'!AD33+'2月'!AD33+'3月'!AD33+'5月'!AD33+'6月'!AD33","v":6},{"v":0.857142857142857,"d":"85.7%"},{"$nulls":15},8,7,{"v":0.875,"d":"87.5%"}]
["金属冶炼负责人复训",{"$nulls":15},{"$f":"'1月'!Q34+'2月'!Q34+'3月'!Q34+'5月'!Q34+'6月'!Q34","v":7},{"$f":"'1月'!R34+'2月'!R34+'3月'!R34+'5月'!R34+'6月'!R34","v":6},{"$f":"R34/Q34","v":{"v":0.857142857142857,"d":"85.7%"}},{"$nulls":27},7,6,{"v":0.857142857142857,"d":"85.7%"}]
["高危行业负责人复训合计",{"$f":"SUM(B30:B34)","v":238},{"$f":"SUM(C30:C34)","v":236},{"$f":"C35/B35","v":{"v":0.991596638655462,"d":"99.2%"}},{"$nulls":6},{"$f":"SUM(K30:K34)","v":56},{"$f":"SUM(L30:L34)","v":55},{"$f":"L35/K35","v":{"v":0.982142857142857,"d":"98.2%"}},{"$nulls":3},{"$f":"SUM(Q30:Q34)","v":9},{"$f":"SUM(R30:R34)","v":8},{"$f":"R35/Q35","v":{"v":0.888888888888889,"d":"88.9%"}},{"$nulls":9},{"$f":"SUM(AC30:AC34)","v":9},{"$f":"SUM(AD30:AD34)","v":7},{"v":0.777777777777778,"d":"77.8%"},{"$f":"SUM(AF30:AF34)","v":75},{"$f":"SUM(AG30:AG34)","v":74},{"$f":"AG35/AF35","v":{"v":0.986666666666667,"d":"98.7%"}},{"$nulls":6},{"$f":"SUM(AO30:AO34)","v":3},{"$f":"SUM(AP30:AP34)","v":3},{"$f":"AP35/AO35","v":{"v":1,"d":"100.0%"}},{"$f":"SUM(AR30:AR34)","v":1},{"$f":"SUM(AS30:AS34)","v":1},{"v":1,"d":"100.0%"},391,384,{"v":0.982097186700767,"d":"98.2%"}]
["高危行业主要负责人合计",{"$f":"B29+B35","v":329},{"$f":"C29+C35","v":320},{"v":0.972644376899696,"d":"97.3%"},{"$nulls":6},{"$f":"K29+K35","v":86},{"$f":"L29+L35","v":83},{"$f":"L36/K36","v":{"v":0.965116279069767,"d":"96.5%"}},{"$nulls":3},{"$f":"Q29+Q35","v":15},{"$f":"R29+R35","v":14},{"v":0.933333333333333,"d":"93.3%"},{"$nulls":9},{"$f":"AC29+AC35","v":23},{"$f":"AD29+AD35","v":18},{"v":0.782608695652174,"d":"78.3%"},{"$f":"AF29+AF35","v":106},{"$f":"AG29+AG35","v":103},{"v":0.971698113207547,"d":"97.2%"},{"$nulls":6},{"$f":"AO29+AO35","v":5},{"$f":"AP29+AP35","v":5},{"$f":"AP36/AO36","v":{"v":1,"d":"100.0%"}},{"$f":"AR29+AR35","v":7},{"$f":"AS29+AS35","v":7},{"v":1,"d":"100.0%"},571,550,{"v":0.963222416812609,"d":"96.3%"}]
["烟花爆竹经营安管初训",{"$f":"'1月'!B37+'2月'!B37+'3月'!B37+'5月'!B37+'6月'!B37","v":1},{"$f":"'1月'!C37+'2月'!C37+'3月'!C37+'5月'!C37+'6月'!C37","v":1},{"v":1,"d":"100.0%"},{"$nulls":6},{"$f":"'1月'!K37+'2月'!K37+'3月'!K37+'5月'!K37+'6月'!K37","v":1},{"$f":"'1月'!L37+'2月'!L37+'3月'!L37+'5月'!L37+'6月'!L37","v":1},{"$f":"L37/K37","v":{"v":1,"d":"100.0%"}},{"$nulls":15},{"$f":"'1月'!AC37+'2月'!AC37+'3月'!AC37+'5月'!AC37+'6月'!AC37","v":4},{"$f":"'1月'!AD37+'2月'!AD37+'3月'!AD37+'5月'!AD37+'6月'!AD37","v":2},{"v":0.5,"d":"50.0%"},{"$f":"'1月'!AF37+'2月'!AF37+'3月'!AF37+'5月'!AF37+'6月'!AF37","v":17},{"$f":"'1月'!AG37+'2月'!AG37+'3月'!AG37+'5月'!AG37+'6月'!AG37","v":11},{"v":0.647058823529412,"d":"64.7%"},{"$nulls":12},23,15,{"v":0.652173913043478,"d":"65.2%"}]
["危化生产安管初训",{"$f":"'1月'!B38+'2月'!B38+'3月'!B38+'5月'!B38+'6月'!B38","v":17},{"$f":"'1月'!C38+'2月'!C38+'3月'!C38+'5月'!C38+'6月'!C38","v":16},{"v":0.941176470588235,"d":"94.1%"},{"$nulls":6},{"$f":"'1月'!K38+'2月'!K38+'3月'!K38+'5月'!K38+'6月'!K38","v":31},{"$f":"'1月'!L38+'2月'!L38+'3月'!L38+'5月'!L38+'6月'!L38","v":29},{"$f":"L38/K38","v":{"v":0.935483870967742,"d":"93.5%"}},{"$nulls":18},{"$f":"'1月'!AF38+'2月'!AF38+'3月'!AF38+'5月'!AF38+'6月'!AF38","v":11},{"$f":"'1月'!AG38+'2月'!AG38+'3月'!AG38+'5月'!AG38+'6月'!AG38","v":11},{"v":1,"d":"100.0%"},{"$nulls":6},{"$f":"'1月'!AO38+'2月'!AO38+'3月'!AO38+'5月'!AO38+'6月'!AO38","v":1},{"$f":"'1月'!AP38+'2月'!AP38+'3月'!AP38+'5月'!AP38+'6月'!AP38","v":1},{"$f":"AP38/AO38","v":{"v":1,"d":"100.0%"}},{"$nulls":3},60,57,{"v":0.95,"d":"95.0%"}]
["危化经营安管初训",{"$f":"'1月'!B39+'2月'!B39+'3月'!B39+'5月'!B39+'6月'!B39","v":119},{"$f":"'1月'!C39+'2月'!C39+'3月'!C39+'5月'!C39+'6月'!C39","v":108},{"v":0.907563025210084,"d":"90.8%"},{"$nulls":6},{"$f":"'1月'!K39+'2月'!K39+'3月'!K39+'5月'!K39+'6月'!K39","v":39},{"$f":"'1月'!L39+'2月'!L39+'3月'!L39+'5月'!L39+'6月'!L39","v":34},{"$f":"L39/K39","v":{"v":0.871794871794872,"d":"87.2%"}},{"$nulls":3},{"$f":"'1月'!Q39+'2月'!Q39+'3月'!Q39+'5月'!Q39+'6月'!Q39","v":1},{"$f":"'1月'!R39+'2月'!R39+'3月'!R39+'5月'!R39+'6月'!R39","v":1},{"v":1,"d":"100.0%"},{"$nulls":9},{"$f":"'1月'!AC39+'2月'!AC39+'3月'!AC39+'5月'!AC39+'6月'!AC39","v":20},{"$f":"'1月'!AD39+'2月'!AD39+'3月'!AD39+'5月'!AD39+'6月'!AD39","v":15},{"$f":"AD39/AC39","v":{"v":0.75,"d":"75.0%"}},{"$f":"'1月'!AF39+'2月'!AF39+'3月'!AF39+'5月'!AF39+'6月'!AF39","v":40},{"$f":"'1月'!AG39+'2月'!AG39+'3月'!AG39+'5月'!AG39+'6月'!AG39","v":34},{"v":0.85,"d":"85.0%"},{"$nulls":6},{"$f":"'1月'!AO39+'2月'!AO39+'3月'!AO39+'5月'!AO39+'6月'!AO39","v":4},{"$f":"'1月'!AP39+'2月'!AP39+'3月'!AP39+'5月'!AP39+'6月'!AP39","v":4},{"$f":"AP39/AO39","v":{"v":1,"d":"100.0%"}},{"$f":"'1月'!AR39+'2月'!AR39+'3月'!AR39+'5月'!AR39+'6月'!AR39","v":7},{"$f":"'1月'!AS39+'2月'!AS39+'3月'!AS39+'5月'!AS39+'6月'!AS39","v":6},{"$f":"AS39/AR39","v":{"v":0.857142857142857,"d":"85.7%"}},230,202,{"v":0.878260869565217,"d":"87.8%"}]
["非煤矿山安管初训",{"$f":"'1月'!B40+'2月'!B40+'3月'!B40+'5月'!B40+'6月'!B40","v":1},{"$f":"'1月'!C40+'2月'!C40+'3月'!C40+'5月'!C40+'6月'!C40","v":1},{"v":1,"d":"100.0%"},{"$nulls":24},{"$f":"'1月'!AC40+'2月'!AC40+'3月'!AC40+'5月'!AC40+'6月'!AC40","v":2},{"$f":"'1月'!AD40+'2月'!AD40+'3月'!AD40+'5月'!AD40+'6月'!AD40","v":1},{"$f":"AD40/AC40","v":{"v":0.5,"d":"50.0%"}},{"$f":"'1月'!AF40+'2月'!AF40+'3月'!AF40+'5月'!AF40+'6月'!AF40","v":1},{"$f":"'1月'!AG40+'2月'!AG40+'3月'!AG40+'5月'!AG40+'6月'!AG40","v":1},{"v":1,"d":"100.0%"},{"$nulls":12},4,3,{"v":0.75,"d":"75.0%"}]
["金属冶炼安管初训",{"$nulls":15},{"$f":"'1月'!Q41+'2月'!Q41+'3月'!Q41+'5月'!Q41+'6月'!Q41","v":10},{"$f":"'1月'!R41+'2月'!R41+'3月'!R41+'5月'!R41+'6月'!R41","v":8},{"v":0.8,"d":"80.0%"},{"$nulls":27},10,8,{"v":0.8,"d":"80.0%"}]
["高危行业安管初训合计",{"$f":"SUM(B37:B41)","v":138},{"$f":"SUM(C37:C41)","v":126},{"$f":"C42/B42","v":{"v":0.91304347826087,"d":"91.3%"}},{"$nulls":6},{"$f":"SUM(K37:K41)","v":71},{"$f":"SUM(L37:L41)","v":64},{"$f":"L42/K42","v":{"v":0.901408450704225,"d":"90.1%"}},{"$nulls":3},{"$f":"SUM(Q37:Q41)","v":11},{"$f":"SUM(R37:R41)","v":9},{"v":0.818181818181818,"d":"81.8%"},{"$nulls":9},{"$f":"SUM(AC37:AC41)","v":26},{"$f":"SUM(AD37:AD41)","v":18},{"$f":"AD42/AC42","v":{"v":0.692307692307692,"d":"69.2%"}},{"$f":"SUM(AF37:AF41)","v":69},{"$f":"SUM(AG37:AG41)","v":57},{"$f":"AG42/AF42","v":{"v":0.826086956521739,"d":"82.6%"}},{"$nulls":6},{"$f":"SUM(AO37:AO41)","v":5},{"$f":"SUM(AP37:AP41)","v":5},{"$f":"AP42/AO42","v":{"v":1,"d":"100.0%"}},{"$f":"SUM(AR37:AR41)","v":7},{"$f":"SUM(AS37:AS41)","v":6},{"$f":"AS42/AR42","v":{"v":0.857142857142857,"d":"85.7%"}},{"$f":"B42+E42+H42+K42+N42+Q42+T42+W42+Z42+AC42+AF42+AI42+AL42+AO42+AR42","v":327},{"$f":"C42+F42+I42+L42+O42+R42+U42+X42+AA42+AD42+AG42+AJ42+AM42+AP42+AS42","v":285},{"$f":"AV42/AU42","v":{"v":0.871559633027523,"d":"87.2%"}}]
["烟花爆竹经营安管复训",{"$nulls":30},{"$f":"'1月'!AF43+'2月'!AF43+'3月'!AF43+'5月'!AF43+'6月'!AF43","v":2},{"$f":"'1月'!AG43+'2月'!AG43+'3月'!AG43+'5月'!AG43+'6月'!AG43","v":2},{"$f":"AG43/AF43","v":{"v":1,"d":"100.0%"}},{"$nulls":12},2,2,{"v":1,"d":"100.0%"}]
["危化生产安管复训",{"$f":"'1月'!B44+'2月'!B44+'3月'!B44+'5月'!B44+'6月'!B44","v":62},{"$f":"'1月'!C44+'2月'!C44+'3月'!C44+'5月'!C44+'6月'!C44","v":62},{"$f":"C44/B44","v":{"v":1,"d":"100.0%"}},{"$nulls":6},{"$f":"'1月'!K44+'2月'!K44+'3月'!K44+'5月'!K44+'6月'!K44","v":28},{"$f":"'1月'!L44+'2月'!L44+'3月'!L44+'5月'!L44+'6月'!L44","v":27},{"$f":"L44/K44","v":{"v":0.964285714285714,"d":"96.4%"}},{"$nulls":3},{"$f":"'1月'!Q44+'2月'!Q44+'3月'!Q44+'5月'!Q44+'6月'!Q44","v":2},{"$f":"'1月'!R44+'2月'!R44+'3月'!R44+'5月'!R44+'6月'!R44","v":2},{"$f":"R44/Q44","v":{"v":1,"d":"100.0%"}},{"$nulls":12},{"$f":"'1月'!AF44+'2月'!AF44+'3月'!AF44+'5月'!AF44+'6月'!AF44","v":57},{"$f":"'1月'!AG44+'2月'!AG44+'3月'!AG44+'5月'!AG44+'6月'!AG44","v":50},{"$f":"AG44/AF44","v":{"v":0.87719298245614,"d":"87.7%"}},{"$nulls":6},{"$f":"'1月'!AO44+'2月'!AO44+'3月'!AO44+'5月'!AO44+'6月'!AO44","v":11},{"$f":"'1月'!AP44+'2月'!AP44+'3月'!AP44+'5月'!AP44+'6月'!AP44","v":11},{"$f":"AP44/AO44","v":{"v":1,"d":"100.0%"}},{"$nulls":3},160,152,{"v":0.95,"d":"95.0%"}]
["危化经营安管复训",{"$f":"'1月'!B45+'2月'!B45+'3月'!B45+'5月'!B45+'6月'!B45","v":297},{"$f":"'1月'!C45+'2月'!C45+'3月'!C45+'5月'!C45+'6月'!C45","v":280},{"$f":"C45/B45","v":{"v":0.942760942760943,"d":"94.3%"}},{"$nulls":6},{"$f":"'1月'!K45+'2月'!K45+'3月'!K45+'5月'!K45+'6月'!K45","v":99},{"$f":"'1月'!L45+'2月'!L45+'3月'!L45+'5月'!L45+'6月'!L45","v":96},{"$f":"L45/K45","v":{"v":0.96969696969697,"d":"97.0%"}},{"$nulls":15},{"$f":"'1月'!AC45+'2月'!AC45+'3月'!AC45+'5月'!AC45+'6月'!AC45","v":3},{"$f":"'1月'!AD45+'2月'!AD45+'3月'!AD45+'5月'!AD45+'6月'!AD45","v":3},{"v":1,"d":"100.0%"},{"$f":"'1月'!AF45+'2月'!AF45+'3月'!AF45+'5月'!AF45+'6月'!AF45","v":51},{"$f":"'1月'!AG45+'2月'!AG45+'3月'!AG45+'5月'!AG45+'6月'!AG45","v":49},{"$f":"AG45/AF45","v":{"v":0.96078431372549,"d":"96.1%"}},{"$nulls":9},{"$f":"'1月'!AR45+'2月'!AR45+'3月'!AR45+'5月'!AR45+'6月'!AR45","v":2},{"$f":"'1月'!AS45+'2月'!AS45+'3月'!AS45+'5月'!AS45+'6月'!AS45","v":2},{"v":1,"d":"100.0%"},452,430,{"v":0.951327433628319,"d":"95.1%"}]
["非煤矿山安管复训",{"$f":"'1月'!B46+'2月'!B46+'3月'!B46+'5月'!B46+'6月'!B46","v":1},{"$f":"'1月'!C46+'2月'!C46+'3月'!C46+'5月'!C46+'6月'!C46","v":1},{"$f":"C46/B46","v":{"v":1,"d":"100.0%"}},{"$nulls":24},{"$f":"'1月'!AC46+'2月'!AC46+'3月'!AC46+'5月'!AC46+'6月'!AC46","v":15},{"$f":"'1月'!AD46+'2月'!AD46+'3月'!AD46+'5月'!AD46+'6月'!AD46","v":14},{"v":0.933333333333333,"d":"93.3%"},{"$nulls":15},16,15,{"v":0.9375,"d":"93.8%"}]
["金属冶炼安管复训",{"$nulls":15},{"$f":"'1月'!Q47+'2月'!Q47+'3月'!Q47+'5月'!Q47+'6月'!Q47","v":12},{"$f":"'1月'!R47+'2月'!R47+'3月'!R47+'5月'!R47+'6月'!R47","v":12},{"v":1,"d":"100.0%"},{"$nulls":27},12,12,{"v":1,"d":"100.0%"}]
["高危行业安管复训合计",{"$f":"SUM(B43:B47)","v":360},{"$f":"SUM(C43:C47)","v":343},{"$f":"C48/B48","v":{"v":0.952777777777778,"d":"95.3%"}},{"$nulls":6},{"$f":"SUM(K43:K47)","v":127},{"$f":"SUM(L43:L47)","v":123},{"$f":"L48/K48","v":{"v":0.968503937007874,"d":"96.9%"}},{"$nulls":3},{"$f":"SUM(Q43:Q47)","v":14},{"$f":"SUM(R43:R47)","v":14},{"v":1,"d":"100.0%"},{"$nulls":9},{"$f":"SUM(AC43:AC47)","v":18},{"$f":"SUM(AD43:AD47)","v":17},{"v":0.944444444444444,"d":"94.4%"},{"$f":"SUM(AF43:AF47)","v":110},{"$f":"SUM(AG43:AG47)","v":101},{"$f":"AG48/AF48","v":{"v":0.918181818181818,"d":"91.8%"}},{"$nulls":6},{"$f":"SUM(AO43:AO47)","v":11},{"$f":"SUM(AP43:AP47)","v":11},{"$f":"AP48/AO48","v":{"v":1,"d":"100.0%"}},{"$f":"SUM(AR43:AR47)","v":2},{"$f":"SUM(AS43:AS47)","v":2},{"v":1,"d":"100.0%"},{"$f":"B48+E48+H48+K48+N48+Q48+T48+W48+Z48+AC48+AF48+AI48+AL48+AO48+AR48","v":642},611,{"v":0.951713395638629,"d":"95.2%"}]
["高危行业安管人员合计",{"$f":"B42+B48","v":498},{"$f":"C42+C48","v":469},{"$f":"C49/B49","v":{"v":0.941767068273092,"d":"94.2%"}},{"$nulls":6},{"$f":"K42+K48","v":198},{"$f":"L42+L48","v":187},{"$f":"L49/K49","v":{"v":0.944444444444444,"d":"94.4%"}},{"$nulls":3},{"$f":"Q42+Q48","v":25},{"$f":"R42+R48","v":23},{"v":0.92,"d":"92.0%"},{"$nulls":9},{"$f":"AC42+AC48","v":44},{"$f":"AD42+AD48","v":35},{"v":0.795454545454545,"d":"79.5%"},{"$f":"AF42+AF48","v":179},{"$f":"AG42+AG48","v":158},{"$f":"AG49/AF49","v":{"v":0.88268156424581,"d":"88.3%"}},{"$nulls":6},{"$f":"AO42+AO48","v":16},{"$f":"AP42+AP48","v":16},{"$f":"AP49/AO49","v":{"v":1,"d":"100.0%"}},{"$f":"AR42+AR48","v":9},{"$f":"AS42+AS48","v":8},{"v":0.888888888888889,"d":"88.9%"},969,896,{"v":0.924664602683179,"d":"92.5%"}]
["高危行业负责人安管合计",{"$f":"B36+B49","v":827},{"$f":"C36+C49","v":789},{"$f":"C50/B50","v":{"v":0.954050785973398,"d":"95.4%"}},{"$nulls":6},{"$f":"K36+K49","v":284},{"$f":"L36+L49","v":270},{"$f":"L50/K50","v":{"v":0.950704225352113,"d":"95.1%"}},{"$nulls":3},{"$f":"Q36+Q49","v":40},{"$f":"R36+R49","v":37},{"v":0.925,"d":"92.5%"},{"$nulls":9},{"$f":"AC36+AC49","v":67},{"$f":"AD36+AD49","v":53},{"v":0.791044776119403,"d":"79.1%"},{"$f":"AF36+AF49","v":285},{"$f":"AG36+AG49","v":261},{"$f":"AG50/AF50","v":{"v":0.91578947368421,"d":"91.6%"}},{"$nulls":6},{"$f":"AO36+AO49","v":21},{"$f":"AP36+AP49","v":21},{"$f":"AP50/AO50","v":{"v":1,"d":"100.0%"}},{"$f":"AR36+AR49","v":16},{"$f":"AS36+AS49","v":15},{"v":0.9375,"d":"93.8%"},1540,1446,{"v":0.938961038961039,"d":"93.9%"}]
["全工种合计",{"$f":"B23+B50","v":2968},{"$f":"C23+C50","v":2786},{"$f":"C51/B51","v":{"v":0.938679245283019,"d":"93.9%"}},{"$f":"E23+E50","v":1361},{"$f":"F23+F50","v":1255},{"$f":"F51/E51","v":{"v":0.922116091109478,"d":"92.2%"}},{"$f":"H23+H50","v":232},{"$f":"I23+I50","v":182},{"$f":"I51/H51","v":{"v":0.78448275862069,"d":"78.4%"}},{"$f":"K23+K50","v":1097},{"$f":"L23+L50","v":1017},{"$f":"L51/K51","v":{"v":0.927073837739289,"d":"92.7%"}},{"$f":"N23+N50","v":519},{"$f":"O23+O50","v":468},{"$f":"O51/N51","v":{"v":0.901734104046243,"d":"90.2%"}},{"$f":"Q23+Q50","v":163},{"$f":"R23+R50","v":151},{"v":0.926380368098159,"d":"92.6%"},{"$f":"T23+T50","v":250},{"$f":"U23+U50","v":221},{"$f":"U51/T51","v":{"v":0.884,"d":"88.4%"}},{"$f":"W23+W50","v":176},{"$f":"X23+X50","v":153},{"$f":"X51/W51","v":{"v":0.869318181818182,"d":"86.9%"}},{"$f":"Z23+Z50","v":284},{"$f":"AA23+AA50","v":219},{"$f":"AA51/Z51","v":{"v":0.77112676056338,"d":"77.1%"}},{"$f":"AC23+AC50","v":673},{"$f":"AD23+AD50","v":609},{"v":0.904903417533432,"d":"90.5%"},{"$f":"AF23+AF50","v":771},{"$f":"AG23+AG50","v":720},{"$f":"AG51/AF51","v":{"v":0.933852140077821,"d":"93.4%"}},{"$f":"AI23+AI50","v":642},{"$f":"AJ23+AJ50","v":488},{"$f":"AJ51/AI51","v":{"v":0.7601246105919,"d":"76.0%"}},{"$f":"AL23+AL50","v":527},{"$f":"AM23+AM50","v":480},{"$f":"AM51/AL51","v":{"v":0.910815939278937,"d":"91.1%"}},{"$f":"AO23+AO50","v":63},{"$f":"AP23+AP50","v":56},{"$f":"AP51/AO51","v":{"v":0.888888888888889,"d":"88.9%"}},{"$f":"AR23+AR50","v":16},{"$f":"AS23+AS50","v":15},{"v":0.9375,"d":"93.8%"},9742,8820,{"v":0.905358242660645,"d":"90.5%"}]
["备注：\n1.培训机构名称以全国安全生产培训考试信息管理系统记录为准，按系统顺序排序；\n2.实考人数=报考总人数-正考补考均缺考人数-考试违规被取消成绩人数；\n3.仅统计已完成考试者，还有补考机会者不统计。"]

{"sheet":"7月","index":6,"n_rows":52,"n_cols":49,"rows_kept":52,"merged":[[0,0,0,48],[1,0,2,0],[1,1,1,3],[1,4,1,6],[1,7,1,9],[1,10,1,12],[1,13,1,15],[1,16,1,18],[1,19,1,21],[1,22,1,24],[1,25,1,27],[1,28,1,30],[1,31,1,33],[1,34,1,36],[1,37,1,39],[1,40,1,42],[1,43,1,45],[1,46,1,48],[51,0,51,48]]}
["2022年7月各安全培训机构考生通过率统计表"]
["            培训机构\n    工种","江门市安信职业安全培训有限公司",null,null,"广东四维培训有限公司",null,null,"江门市技师学院",null,null,"江门市江海区共升教育培训中心",null,null,"江门市侨都安全咨询服务有限公司",null,null,"江门市安全生产管理协会",null,null,"江门市新会技师学院",null,null,"江门市新会机电职业技术学校",null,null,"鹤山市优创职业培训学校有限公司",null,null,"台山市安全生产管理协会",null,null,"鹤山市安全生产管理协会",null,null,"江门市江海区万众职业培训学校",null,null,"开平市中邑安安全技术咨询有限公司",null,null,"江门市江海区安全生产管理协会",null,null,"江门市天晟安全事务有限公司",null,null,"全市合计"]
[null,"实考人数","合格人数","通过率","实考人数","合格人数","通过率","实考人数","合格人数","通过率","实考人数","合格人数","通过率","实考人数","合格人数","通过率","实考人数","合格人数","通过率","实考人数","合格人数","通过率","实考人数","合格人数","通过率","实考人数","合格人数","通过率","实考人数","合格人数","通过率","实考人数","合格人数","通过率","实考人数","合格人数","通过率","实考人数","合格人数","通过率","实考人数","合格人数","通过率","实考人数","合格人数","通过率","实考人数","合格人数","通过率"]
["低压电工初训",41,34,{"$f":"C4/B4","v":{"v":0.829268292682927,"d":"82.9%"}},{"$nulls":3},25,17,{"$f":"I4/H4","v":{"v":0.68,"d":"68.0%"}},5,4,{"$f":"L4/K4","v":{"v":0.8,"d":"80.0%"}},65,50,{"$f":"O4/N4","v":{"v":0.769230769230769,"d":"76.9%"}},4,2,{"$f":"R4/Q4","v":{"v":0.5,"d":"50.0%"}},44,37,{"$f":"U4/T4","v":{"v":0.840909090909091,"d":"84.1%"}},96,87,{"$f":"X4/W4","v":{"v":0.90625,"d":"90.6%"}},42,19,{"$f":"AA4/Z4","v":{"v":0.452380952380952,"d":"45.2%"}},40,32,{"$f":"AD4/AC4","v":{"v":0.8,"d":"80.0%"}},{"$nulls":3},58,35,{"$f":"AJ4/AI4","v":{"v":0.603448275862069,"d":"60.3%"}},58,43,{"$f":"AM4/AL4","v":{"v":0.741379310344828,"d":"74.1%"}},{"$nulls":6},{"$f":"B4+E4+H4+K4+N4+Q4+T4+W4+Z4+AC4+AF4+AI4+AL4+AO4+AR4","v":478},{"$f":"C4+F4+I4+L4+O4+R4+U4+X4+AA4+AD4+AG4+AJ4+AM4+AP4+AS4","v":360},{"$f":"AV4/AU4","v":{"v":0.753138075313807,"d":"75.3%"}}]
["高压电工初训",{"$nulls":3},35,32,{"$f":"F5/E5","v":{"v":0.914285714285714,"d":"91.4%"}},{"$nulls":3},8,8,{"v":1,"d":"100.0%"},36,27,{"$f":"O5/N5","v":{"v":0.75,"d":"75.0%"}},12,8,{"$f":"R5/Q5","v":{"v":0.666666666666667,"d":"66.7%"}},{"$nulls":27},91,75,{"v":0.824175824175824,"d":"82.4%"}]
["电力电缆初训"]
["熔化焊接与热切割初训",1,0,{"v":0,"d":"0.0%"},{"$nulls":15},35,24,{"$f":"U7/T7","v":{"v":0.685714285714286,"d":"68.6%"}},{"$nulls":3},3,2,{"$f":"AA7/Z7","v":{"v":0.666666666666667,"d":"66.7%"}},56,43,{"$f":"AD7/AC7","v":{"v":0.767857142857143,"d":"76.8%"}},54,52,{"$f":"AG7/AF7","v":{"v":0.962962962962963,"d":"96.3%"}},86,71,{"v":0.825581395348837,"d":"82.6%"},{"$nulls":3},10,9,{"$f":"AP7/AO7","v":{"v":0.9,"d":"90.0%"}},{"$nulls":3},245,201,{"v":0.820408163265306,"d":"82.0%"}]
["高处安装维护拆除初训",54,44,{"v":0.814814814814815,"d":"81.5%"},{"$nulls":6},34,31,{"v":0.911764705882353,"d":"91.2%"},{"$nulls":6},22,20,{"$f":"U8/T8","v":{"v":0.909090909090909,"d":"90.9%"}},{"$nulls":15},13,13,{"$f":"AM8/AL8","v":{"v":1,"d":"100.0%"}},{"$nulls":6},123,108,{"v":0.878048780487805,"d":"87.8%"}]
["特种作业初训合计",{"$f":"SUM(B4:B8)","v":96},{"$f":"SUM(C4:C8)","v":78},{"v":0.8125,"d":"81.3%"},{"$f":"SUM(E4:E8)","v":35},{"$f":"SUM(F4:F8)","v":32},{"$f":"F9/E9","v":{"v":0.914285714285714,"d":"91.4%"}},{"$f":"SUM(H4:H8)","v":25},{"$f":"SUM(I4:I8)","v":17},{"$f":"I9/H9","v":{"v":0.68,"d":"68.0%"}},{"$f":"SUM(K4:K8)","v":47},{"$f":"SUM(L4:L8)","v":43},{"v":0.914893617021277,"d":"91.5%"},{"$f":"SUM(N4:N8)","v":101},{"$f":"SUM(O4:O8)","v":77},{"$f":"O9/N9","v":{"v":0.762376237623762,"d":"76.2%"}},{"$f":"SUM(Q4:Q8)","v":16},{"$f":"SUM(R4:R8)","v":10},{"v":0.625,"d":"62.5%"},{"$f":"SUM(T4:T8)","v":101},{"$f":"SUM(U4:U8)","v":81},{"v":0.801980198019802,"d":"80.2%"},{"$f":"SUM(W4:W8)","v":96},{"$f":"SUM(X4:X8)","v":87},{"$f":"X9/W9","v":{"v":0.90625,"d":"90.6%"}},{"$f":"SUM(Z4:Z8)","v":45},{"$f":"SUM(AA4:AA8)","v":21},{"$f":"AA9/Z9","v":{"v":0.466666666666667,"d":"46.7%"}},{"$f":"SUM(AC4:AC8)","v":96},{"$f":"SUM(AD4:AD8)","v":75},{"$f":"AD9/AC9","v":{"v":0.78125,"d":"78.1%"}},{"$f":"SUM(AF4:AF8)","v":54},{"$f":"SUM(AG4:AG8)","v":52},{"v":0.962962962962963,"d":"96.3%"},{"$f":"SUM(AI4:AI8)","v":144},{"$f":"SUM(AJ4:AJ8)","v":106},{"v":0.736111111111111,"d":"73.6%"},{"$f":"SUM(AL4:AL8)","v":71},{"$f":"SUM(AM4:AM8)","v":56},{"$f":"AM9/AL9","v":{"v":0.788732394366197,"d":"78.9%"}},{"$f":"SUM(AO4:AO8)","v":10},{"$f":"SUM(AP4:AP8)","v":9},{"$f":"AP9/AO9","v":{"v":0.9,"d":"90.0%"}},{"$nulls":3},937,744,{"v":0.794023479188901,"d":"79.4%"}]
["低压电工复训",305,301,{"v":0.986885245901639,"d":"98.7%"},69,67,{"$f":"F10/E10","v":{"v":0.971014492753623,"d":"97.1%"}},{"$nulls":3},1,1,{"v":1,"d":"100.0%"},50,48,{"$f":"O10/N10","v":{"v":0.96,"d":"96.0%"}},5,5,{"v":1,"d":"100.0%"},24,23,{"v":0.958333333333333,"d":"95.8%"},{"$nulls":6},68,68,{"$f":"AD10/AC10","v":{"v":1,"d":"100.0%"}},{"$nulls":6},21,21,{"$f":"AM10/AL10","v":{"v":1,"d":"100.0%"}},2,2,{"$f":"AP10/AO10","v":{"v":1,"d":"100.0%"}},{"$nulls":3},545,536,{"v":0.98348623853211,"d":"98.3%"}]
["高压电工复训",68,56,{"v":0.823529411764706,"d":"82.4%"},52,45,{"$f":"F11/E11","v":{"v":0.865384615384615,"d":"86.5%"}},{"$nulls":6},3,3,{"$f":"O11/N11","v":{"v":1,"d":"100.0%"}},15,15,{"v":1,"d":"100.0%"},19,19,{"v":1,"d":"100.0%"},{"$nulls":6},10,10,{"$f":"AD11/AC11","v":{"v":1,"d":"100.0%"}},{"$nulls":6},6,5,{"$f":"AM11/AL11","v":{"v":0.833333333333333,"d":"83.3%"}},{"$nulls":6},173,153,{"v":0.884393063583815,"d":"88.4%"}]
["熔化焊接与热切割复训",81,77,{"v":0.950617283950617,"d":"95.1%"},1,1,{"$f":"F12/E12","v":{"v":1,"d":"100.0%"}},{"$nulls":6},11,7,{"$f":"O12/N12","v":{"v":0.636363636363636,"d":"63.6%"}},1,1,{"v":1,"d":"100.0%"},18,18,{"v":1,"d":"100.0%"},{"$nulls":3},3,3,{"$f":"AA12/Z12","v":{"v":1,"d":"100.0%"}},13,10,{"$f":"AD12/AC12","v":{"v":0.769230769230769,"d":"76.9%"}},3,3,{"v":1,"d":"100.0%"},{"$nulls":3},8,4,{"$f":"AM12/AL12","v":{"v":0.5,"d":"50.0%"}},1,1,{"$f":"AP12/AO12","v":{"v":1,"d":"100.0%"}},{"$nulls":3},140,125,{"v":0.892857142857143,"d":"89.3%"}]
["钎焊复训"]
["高处安装维护拆除复训",14,14,{"$f":"C14/B14","v":{"v":1,"d":"100.0%"}},266,253,{"$f":"F14/E14","v":{"v":0.951127819548872,"d":"95.1%"}},{"$nulls":3},7,7,{"$f":"L14/K14","v":{"v":1,"d":"100.0%"}},{"$nulls":6},1,1,{"$f":"U14/T14","v":{"v":1,"d":"100.0%"}},{"$nulls":24},{"$f":"B14+E14+H14+K14+N14+Q14+T14+W14+Z14+AC14+AF14+AI14+AL14+AO14+AR14","v":288},{"$f":"C14+F14+I14+L14+O14+R14+U14+X14+AA14+AD14+AG14+AJ14+AM14+AP14+AS14","v":275},{"$f":"AV14/AU14","v":{"v":0.954861111111111,"d":"95.5%"}}]
["登高架设复训"]
["制冷与空调运行操作复训"]
["制冷与空调安装修理复训"]
["矿山安检复训"]
["电力电缆复训",2,2,{"$f":"C19/B19","v":{"v":1,"d":"100.0%"}},3,3,{"$f":"F19/E19","v":{"v":1,"d":"100.0%"}},{"$nulls":39},5,5,{"v":1,"d":"100.0%"}]
["电气试验复训",1,0,{"v":0,"d":"0.0%"},11,10,{"$f":"F20/E20","v":{"v":0.909090909090909,"d":"90.9%"}},{"$nulls":3},2,2,{"$f":"L20/K20","v":{"v":1,"d":"100.0%"}},{"$nulls":33},14,12,{"v":0.857142857142857,"d":"85.7%"}]
["继电保护复训",2,2,{"v":1,"d":"100.0%"},13,13,{"$f":"F21/E21","v":{"v":1,"d":"100.0%"}},{"$nulls":39},15,15,{"v":1,"d":"100.0%"}]
["特种作业复训合计",{"$f":"SUM(B10:B21)","v":473},{"$f":"SUM(C10:C21)","v":452},{"v":0.955602536997886,"d":"95.6%"},{"$f":"SUM(E10:E21)","v":415},{"$f":"SUM(F10:F21)","v":392},{"$f":"F22/E22","v":{"v":0.944578313253012,"d":"94.5%"}},{"$nulls":3},{"$f":"SUM(K10:K21)","v":10},{"$f":"SUM(L10:L21)","v":10},{"v":1,"d":"100.0%"},{"$f":"SUM(N10:N21)","v":64},{"$f":"SUM(O10:O21)","v":58},{"$f":"O22/N22","v":{"v":0.90625,"d":"90.6%"}},{"$f":"SUM(Q10:Q21)","v":21},{"$f":"SUM(R10:R21)","v":21},{"$f":"R22/Q22","v":{"v":1,"d":"100.0%"}},{"$f":"SUM(T10:T21)","v":62},{"$f":"SUM(U10:U21)","v":61},{"$f":"U22/T22","v":{"v":0.983870967741935,"d":"98.4%"}},{"$nulls":3},{"$f":"SUM(Z10:Z21)","v":3},{"$f":"SUM(AA10:AA21)","v":3},{"$f":"AA22/Z22","v":{"v":1,"d":"100.0%"}},{"$f":"SUM(AC10:AC21)","v":91},{"$f":"SUM(AD10:AD21)","v":88},{"$f":"AD22/AC22","v":{"v":0.967032967032967,"d":"96.7%"}},{"$f":"SUM(AF10:AF21)","v":3},{"$f":"SUM(AG10:AG21)","v":3},{"$f":"AG22/AF22","v":{"v":1,"d":"100.0%"}},{"$nulls":3},{"$f":"SUM(AL10:AL21)","v":35},{"$f":"SUM(AM10:AM21)","v":30},{"$f":"AM22/AL22","v":{"v":0.857142857142857,"d":"85.7%"}},{"$f":"SUM(AO10:AO21)","v":3},{"$f":"SUM(AP10:AP21)","v":3},{"$f":"AP22/AO22","v":{"v":1,"d":"100.0%"}},{"$nulls":3},1180,1121,{"v":0.95,"d":"95.0%"}]
["特种作业人员合计",{"$f":"B9+B22","v":569},{"$f":"C9+C22","v":530},{"v":0.931458699472759,"d":"93.1%"},{"$f":"E9+E22","v":450},{"$f":"F9+F22","v":424},{"$f":"F23/E23","v":{"v":0.942222222222222,"d":"94.2%"}},{"$f":"H9+H22","v":25},{"$f":"I9+I22","v":17},{"$f":"I23/H23","v":{"v":0.68,"d":"68.0%"}},{"$f":"K9+K22","v":57},{"$f":"L9+L22","v":53},{"v":0.929824561403509,"d":"93.0%"},{"$f":"N9+N22","v":165},{"$f":"O9+O22","v":135},{"$f":"O23/N23","v":{"v":0.818181818181818,"d":"81.8%"}},{"$f":"Q9+Q22","v":37},{"$f":"R9+R22","v":31},{"$f":"R23/Q23","v":{"v":0.837837837837838,"d":"83.8%"}},{"$f":"T9+T22","v":163},{"$f":"U9+U22","v":142},{"$f":"U23/T23","v":{"v":0.871165644171779,"d":"87.1%"}},{"$f":"W9+W22","v":96},{"$f":"X9+X22","v":87},{"$f":"X23/W23","v":{"v":0.90625,"d":"90.6%"}},{"$f":"Z9+Z22","v":48},{"$f":"AA9+AA22","v":24},{"$f":"AA23/Z23","v":{"v":0.5,"d":"50.0%"}},{"$f":"AC9+AC22","v":187},{"$f":"AD9+AD22","v":163},{"$f":"AD23/AC23","v":{"v":0.871657754010695,"d":"87.2%"}},{"$f":"AF9+AF22","v":57},{"$f":"AG9+AG22","v":55},{"$f":"AG23/AF23","v":{"v":0.964912280701754,"d":"96.5%"}},{"$f":"AI9+AI22","v":144},{"$f":"AJ9+AJ22","v":106},{"$f":"AJ23/AI23","v":{"v":0.736111111111111,"d":"73.6%"}},{"$f":"AL9+AL22","v":106},{"$f":"AM9+AM22","v":86},{"$f":"AM23/AL23","v":{"v":0.811320754716981,"d":"81.1%"}},{"$f":"AO9+AO22","v":13},{"$f":"AP9+AP22","v":12},{"$f":"AP23/AO23","v":{"v":0.923076923076923,"d":"92.3%"}},{"$nulls":3},2117,1865,{"v":0.880963627775153,"d":"88.1%"}]
["烟花爆竹经营负责人初训",42,32,{"v":0.761904761904762,"d":"76.2%"},{"$nulls":6},15,11,{"v":0.733333333333333,"d":"73.3%"},{"$nulls":15},3,2,{"$f":"AD24/AC24","v":{"v":0.666666666666667,"d":"66.7%"}},2,2,{"$f":"AG24/AF24","v":{"v":1,"d":"100.0%"}},{"$nulls":12},62,47,{"v":0.758064516129032,"d":"75.8%"}]
["危化生产负责人初训",2,2,{"v":1,"d":"100.0%"},{"$nulls":42},2,2,{"v":1,"d":"100.0%"}]
["危化经营负责人初训",4,4,{"v":1,"d":"100.0%"},{"$nulls":6},1,1,{"v":1,"d":"100.0%"},{"$nulls":3},3,2,{"$f":"R26/Q26","v":{"v":0.666666666666667,"d":"66.7%"}},{"$nulls":21},1,1,{"$f":"AP26/AO26","v":{"v":1,"d":"100.0%"}},{"$nulls":3},9,8,{"v":0.888888888888889,"d":"88.9%"}]
["非煤矿山负责人初训"]
["金属冶炼负责人初训",1,1,{"$f":"C28/B28","v":{"v":1,"d":"100.0%"}},{"$nulls":42},{"$f":"B28+E28+H28+K28+N28+Q28+T28+W28+Z28+AC28+AF28+AI28+AL28+AO28+AR28","v":1},{"$f":"C28+F28+I28+L28+O28+R28+U28+X28+AA28+AD28+AG28+AJ28+AM28+AP28+AS28","v":1},{"$f":"AV28/AU28","v":{"v":1,"d":"100.0%"}}]
["高危行业负责人初训合计",{"$f":"SUM(B24:B28)","v":49},{"$f":"SUM(C24:C28)","v":39},{"$f":"C29/B29","v":{"v":0.795918367346939,"d":"79.6%"}},{"$nulls":6},{"$f":"SUM(K24:K28)","v":16},{"$f":"SUM(L24:L28)","v":12},{"$f":"L29/K29","v":{"v":0.75,"d":"75.0%"}},{"$nulls":3},{"$f":"SUM(Q24:Q28)","v":3},{"$f":"SUM(R24:R28)","v":2},{"v":0.666666666666667,"d":"66.7%"},{"$nulls":9},{"$f":"SUM(AC24:AC28)","v":3},{"$f":"SUM(AD24:AD28)","v":2},{"$f":"AD29/AC29","v":{"v":0.666666666666667,"d":"66.7%"}},{"$f":"SUM(AF24:AF28)","v":2},{"$f":"SUM(AG24:AG28)","v":2},{"$f":"AG29/AF29","v":{"v":1,"d":"100.0%"}},{"$nulls":6},{"$f":"SUM(AO24:AO28)","v":1},{"$f":"SUM(AP24:AP28)","v":1},{"$f":"AP29/AO29","v":{"v":1,"d":"100.0%"}},{"$nulls":3},74,58,{"v":0.783783783783784,"d":"78.4%"}]
["烟花爆竹经营负责人复训",11,11,{"$f":"C30/B30","v":{"v":1,"d":"100.0%"}},{"$nulls":6},20,19,{"$f":"L30/K30","v":{"v":0.95,"d":"95.0%"}},{"$nulls":18},1,1,{"$f":"AG30/AF30","v":{"v":1,"d":"100.0%"}}]
["危化生产负责人复训",6,6,{"$f":"C31/B31","v":{"v":1,"d":"100.0%"}},{"$nulls":6},5,5,{"$f":"L31/K31","v":{"v":1,"d":"100.0%"}},{"$nulls":33},11,11,{"v":1,"d":"100.0%"}]
["危化经营负责人复训",4,4,{"$f":"C32/B32","v":{"v":1,"d":"100.0%"}},{"$nulls":12},1,1,{"v":1,"d":"100.0%"},{"$nulls":24},2,2,{"$f":"AS32/AR32","v":{"v":1,"d":"100.0%"}},7,7,{"v":1,"d":"100.0%"}]
["非煤矿山负责人复训"]
["金属冶炼负责人复训"]
["高危行业负责人复训合计",{"$f":"SUM(B30:B34)","v":21},{"$f":"SUM(C30:C34)","v":21},{"$f":"C35/B35","v":{"v":1,"d":"100.0%"}},{"$nulls":6},{"$f":"SUM(K30:K34)","v":25},{"$f":"SUM(L30:L34)","v":24},{"$f":"L35/K35","v":{"v":0.96,"d":"96.0%"}},{"$nulls":3},{"$f":"SUM(Q30:Q34)","v":1},{"$f":"SUM(R30:R34)","v":1},{"$f":"R35/Q35","v":{"v":1,"d":"100.0%"}},{"$nulls":12},{"$f":"SUM(AF30:AF34)","v":1},{"$f":"SUM(AG30:AG34)","v":1},{"$f":"AG35/AF35","v":{"v":1,"d":"100.0%"}},{"$nulls":9},{"$f":"SUM(AR30:AR34)","v":2},{"$f":"SUM(AS30:AS34)","v":2},{"$f":"AS35/AR35","v":{"v":1,"d":"100.0%"}},50,49,{"v":0.98,"d":"98.0%"}]
["高危行业主要负责人合计",{"$f":"B29+B35","v":70},{"$f":"C29+C35","v":60},{"v":0.857142857142857,"d":"85.7%"},{"$nulls":6},{"$f":"K29+K35","v":41},{"$f":"L29+L35","v":36},{"$f":"L36/K36","v":{"v":0.878048780487805,"d":"87.8%"}},{"$nulls":3},{"$f":"Q29+Q35","v":4},{"$f":"R29+R35","v":3},{"$f":"R36/Q36","v":{"v":0.75,"d":"75.0%"}},{"$nulls":9},{"$f":"AC29+AC35","v":3},{"$f":"AD29+AD35","v":2},{"$f":"AD36/AC36","v":{"v":0.666666666666667,"d":"66.7%"}},{"$f":"AF29+AF35","v":3},{"$f":"AG29+AG35","v":3},{"$f":"AG36/AF36","v":{"v":1,"d":"100.0%"}},{"$nulls":6},{"$f":"AO29+AO35","v":1},{"$f":"AP29+AP35","v":1},{"$f":"AP36/AO36","v":{"v":1,"d":"100.0%"}},{"$f":"AR29+AR35","v":2},{"$f":"AS29+AS35","v":2},{"$f":"AS36/AR36","v":{"v":1,"d":"100.0%"}},124,107,{"v":0.862903225806452,"d":"86.3%"}]
["烟花爆竹经营安管初训",46,38,{"v":0.826086956521739,"d":"82.6%"},{"$nulls":6},12,10,{"$f":"L37/K37","v":{"v":0.833333333333333,"d":"83.3%"}},{"$nulls":15},3,2,{"$f":"AD37/AC37","v":{"v":0.666666666666667,"d":"66.7%"}},3,3,{"$f":"AG37/AF37","v":{"v":1,"d":"100.0%"}},{"$nulls":12},64,53,{"v":0.828125,"d":"82.8%"}]
["危化生产安管初训"]
["危化经营安管初训",3,2,{"v":0.666666666666667,"d":"66.7%"},{"$nulls":6},4,3,{"$f":"L39/K39","v":{"v":0.75,"d":"75.0%"}},{"$nulls":3},3,3,{"$f":"R39/Q39","v":{"v":1,"d":"100.0%"}},{"$nulls":21},2,2,{"$f":"AP39/AO39","v":{"v":1,"d":"100.0%"}},{"$nulls":3},12,10,{"v":0.833333333333333,"d":"83.3%"}]
["非煤矿山安管初训",4,4,{"v":1,"d":"100.0%"},{"$nulls":24},1,0,{"$f":"AD40/AC40","v":{"v":0,"d":"0.0%"}},{"$nulls":15},5,4,{"v":0.8,"d":"80.0%"}]
["金属冶炼安管初训",1,1,{"v":1,"d":"100.0%"},{"$nulls":42},1,1,{"v":1,"d":"100.0%"}]
["高危行业安管初训合计",{"$f":"SUM(B37:B41)","v":54},{"$f":"SUM(C37:C41)","v":45},{"v":0.833333333333333,"d":"83.3%"},{"$nulls":6},{"$f":"SUM(K37:K41)","v":16},{"$f":"SUM(L37:L41)","v":13},{"$f":"L42/K42","v":{"v":0.8125,"d":"81.3%"}},{"$nulls":3},{"$f":"SUM(Q37:Q41)","v":3},{"$f":"SUM(R37:R41)","v":3},{"$f":"R42/Q42","v":{"v":1,"d":"100.0%"}},{"$nulls":9},{"$f":"SUM(AC37:AC41)","v":4},{"$f":"SUM(AD37:AD41)","v":2},{"$f":"AD42/AC42","v":{"v":0.5,"d":"50.0%"}},{"$f":"SUM(AF37:AF41)","v":3},{"$f":"SUM(AG37:AG41)","v":3},{"$f":"AG42/AF42","v":{"v":1,"d":"100.0%"}},{"$nulls":6},{"$f":"SUM(AO37:AO41)","v":2},{"$f":"SUM(AP37:AP41)","v":2},{"$f":"AP42/AO42","v":{"v":1,"d":"100.0%"}},{"$nulls":3},82,68,{"v":0.829268292682927,"d":"82.9%"}]
["烟花爆竹经营安管复训",15,14,{"v":0.933333333333333,"d":"93.3%"},{"$nulls":6},24,21,{"$f":"L43/K43","v":{"v":0.875,"d":"87.5%"}},{"$nulls":18},1,1,{"$f":"AG43/AF43","v":{"v":1,"d":"100.0%"}},{"$nulls":12},40,36,{"v":0.9,"d":"90.0%"}]
["危化生产安管复训",22,21,{"v":0.954545454545455,"d":"95.5%"},{"$nulls":42},22,21,{"v":0.954545454545455,"d":"95.5%"}]
["危化经营安管复训",6,3,{"v":0.5,"d":"50.0%"},{"$nulls":12},1,1,{"$f":"R45/Q45","v":{"v":1,"d":"100.0%"}},{"$nulls":12},15,15,{"$f":"AG45/AF45","v":{"v":1,"d":"100.0%"}},{"$nulls":6},1,1,{"$f":"AP45/AO45","v":{"v":1,"d":"100.0%"}},2,2,{"$f":"AS45/AR45","v":{"v":1,"d":"100.0%"}},25,22,{"v":0.88,"d":"88.0%"}]
["非煤矿山安管复训",{"$nulls":9},1,1,{"$f":"L46/K46","v":{"v":1,"d":"100.0%"}},{"$nulls":15},1,1,{"$f":"AD46/AC46","v":{"v":1,"d":"100.0%"}},{"$nulls":15},2,2,{"v":1,"d":"100.0%"}]
["金属冶炼安管复训"]
["高危行业安管复训合计",{"$f":"SUM(B43:B47)","v":43},{"$f":"SUM(C43:C47)","v":38},{"$f":"C48/B48","v":{"v":0.883720930232558,"d":"88.4%"}},{"$nulls":6},{"$f":"SUM(K43:K47)","v":25},{"$f":"SUM(L43:L47)","v":22},{"$f":"L48/K48","v":{"v":0.88,"d":"88.0%"}},{"$nulls":3},{"$f":"SUM(Q43:Q47)","v":1},{"$f":"SUM(R43:R47)","v":1},{"v":1,"d":"100.0%"},{"$nulls":9},{"$f":"SUM(AC43:AC47)","v":1},{"$f":"SUM(AD43:AD47)","v":1},{"v":1,"d":"100.0%"},{"$f":"SUM(AF43:AF47)","v":16},{"$f":"SUM(AG43:AG47)","v":16},{"$f":"AG48/AF48","v":{"v":1,"d":"100.0%"}},{"$nulls":6},{"$f":"SUM(AO43:AO47)","v":1},{"$f":"SUM(AP43:AP47)","v":1},{"v":1,"d":"100.0%"},{"$f":"SUM(AR43:AR47)","v":2},{"$f":"SUM(AS43:AS47)","v":2},{"$f":"AS48/AR48","v":{"v":1,"d":"100.0%"}},89,81,{"v":0.910112359550562,"d":"91.0%"}]
["高危行业安管人员合计",{"$f":"B42+B48","v":97},{"$f":"C42+C48","v":83},{"$f":"C49/B49","v":{"v":0.855670103092783,"d":"85.6%"}},{"$nulls":6},{"$f":"K42+K48","v":41},{"$f":"L42+L48","v":35},{"$f":"L49/K49","v":{"v":0.853658536585366,"d":"85.4%"}},{"$nulls":3},{"$f":"Q42+Q48","v":4},{"$f":"R42+R48","v":4},{"v":1,"d":"100.0%"},{"$nulls":9},{"$f":"AC42+AC48","v":5},{"$f":"AD42+AD48","v":3},{"v":0.6,"d":"60.0%"},{"$f":"AF42+AF48","v":19},{"$f":"AG42+AG48","v":19},{"$f":"AG49/AF49","v":{"v":1,"d":"100.0%"}},{"$nulls":6},{"$f":"AO42+AO48","v":3},{"$f":"AP42+AP48","v":3},{"v":1,"d":"100.0%"},{"$f":"AR42+AR48","v":2},{"$f":"AS42+AS48","v":2},{"$f":"AS49/AR49","v":{"v":1,"d":"100.0%"}},171,149,{"v":0.871345029239766,"d":"87.1%"}]
["高危行业负责人安管合计",{"$f":"B36+B49","v":167},{"$f":"C36+C49","v":143},{"$f":"C50/B50","v":{"v":0.856287425149701,"d":"85.6%"}},{"$nulls":6},{"$f":"K36+K49","v":82},{"$f":"L36+L49","v":71},{"$f":"L50/K50","v":{"v":0.865853658536585,"d":"86.6%"}},{"$nulls":3},{"$f":"Q36+Q49","v":8},{"$f":"R36+R49","v":7},{"v":0.875,"d":"87.5%"},{"$nulls":9},{"$f":"AC36+AC49","v":8},{"$f":"AD36+AD49","v":5},{"v":0.625,"d":"62.5%"},{"$f":"AF36+AF49","v":22},{"$f":"AG36+AG49","v":22},{"$f":"AG50/AF50","v":{"v":1,"d":"100.0%"}},{"$nulls":6},{"$f":"AO36+AO49","v":4},{"$f":"AP36+AP49","v":4},{"v":1,"d":"100.0%"},{"$f":"AR36+AR49","v":4},{"$f":"AS36+AS49","v":4},{"$f":"AS50/AR50","v":{"v":1,"d":"100.0%"}},295,256,{"v":0.867796610169491,"d":"86.8%"}]
["全工种合计",{"$f":"B23+B50","v":736},{"$f":"C23+C50","v":673},{"$f":"C51/B51","v":{"v":0.914402173913043,"d":"91.4%"}},{"$f":"E23+E50","v":450},{"$f":"F23+F50","v":424},{"$f":"F51/E51","v":{"v":0.942222222222222,"d":"94.2%"}},{"$f":"H23+H50","v":25},{"$f":"I23+I50","v":17},{"$f":"I51/H51","v":{"v":0.68,"d":"68.0%"}},{"$f":"K23+K50","v":139},{"$f":"L23+L50","v":124},{"$f":"L51/K51","v":{"v":0.892086330935252,"d":"89.2%"}},{"$f":"N23+N50","v":165},{"$f":"O23+O50","v":135},{"$f":"O51/N51","v":{"v":0.818181818181818,"d":"81.8%"}},{"$f":"Q23+Q50","v":45},{"$f":"R23+R50","v":38},{"v":0.844444444444444,"d":"84.4%"},{"$f":"T23+T50","v":163},{"$f":"U23+U50","v":142},{"$f":"U51/T51","v":{"v":0.871165644171779,"d":"87.1%"}},{"$f":"W23+W50","v":96},{"$f":"X23+X50","v":87},{"$f":"X51/W51","v":{"v":0.90625,"d":"90.6%"}},{"$f":"Z23+Z50","v":48},{"$f":"AA23+AA50","v":24},{"$f":"AA51/Z51","v":{"v":0.5,"d":"50.0%"}},{"$f":"AC23+AC50","v":195},{"$f":"AD23+AD50","v":168},{"v":0.861538461538462,"d":"86.2%"},{"$f":"AF23+AF50","v":79},{"$f":"AG23+AG50","v":77},{"$f":"AG51/AF51","v":{"v":0.974683544303797,"d":"97.5%"}},{"$f":"AI23+AI50","v":144},{"$f":"AJ23+AJ50","v":106},{"$f":"AJ51/AI51","v":{"v":0.736111111111111,"d":"73.6%"}},{"$f":"AL23+AL50","v":106},{"$f":"AM23+AM50","v":86},{"$f":"AM51/AL51","v":{"v":0.811320754716981,"d":"81.1%"}},{"$f":"AO23+AO50","v":17},{"$f":"AP23+AP50","v":16},{"v":0.941176470588235,"d":"94.1%"},{"$f":"AR23+AR50","v":4},{"$f":"AS23+AS50","v":4},{"$f":"AS51/AR51","v":{"v":1,"d":"100.0%"}},2412,2121,{"v":0.879353233830846,"d":"87.9%"}]
["备注：\n1.培训机构名称以全国安全生产培训考试信息管理系统记录为准，按系统顺序排序；\n2.实考人数=报考总人数-正考补考均缺考人数-考试违规被取消成绩人数；\n3.仅统计已完成考试者，还有补考机会者不统计。"]

{"sheet":"8月","index":7,"n_rows":52,"n_cols":52,"rows_kept":52,"merged":[[0,0,0,51],[1,0,2,0],[1,1,1,3],[1,4,1,6],[1,7,1,9],[1,10,1,12],[1,13,1,15],[1,16,1,18],[1,19,1,21],[1,22,1,24],[1,25,1,27],[1,28,1,30],[1,31,1,33],[1,34,1,36],[1,37,1,39],[1,40,1,42],[1,43,1,45],[1,46,1,48],[1,49,1,51],[51,0,51,51]]}
["2022年8月各安全培训机构考生通过率统计表"]
["            培训机构\n    工种","江门市安信职业安全培训有限公司",null,null,"广东四维培训有限公司",null,null,"江门市技师学院",null,null,"江门市江海区共升教育培训中心",null,null,"江门市侨都安全咨询服务有限公司",null,null,"江门市安全生产管理协会",null,null,"江门市新会技师学院",null,null,"江门市新会机电职业技术学校",null,null,"鹤山市优创职业培训学校有限公司",null,null,"台山市安全生产管理协会",null,null,"鹤山市安全生产管理协会",null,null,"江门市江海区万众职业培训学校",null,null,"开平市中邑安安全技术咨询有限公司",null,null,"江门市江海区安全生产管理协会",null,null,"江门市天晟安全事务有限公司",null,null,"恩平市科瑞职业技术培训学校",null,null,"全市合计"]
[null,"实考人数","合格人数","通过率","实考人数","合格人数","通过率","实考人数","合格人数","通过率","实考人数","合格人数","通过率","实考人数","合格人数","通过率","实考人数","合格人数","通过率","实考人数","合格人数","通过率","实考人数","合格人数","通过率","实考人数","合格人数","通过率","实考人数","合格人数","通过率","实考人数","合格人数","通过率","实考人数","合格人数","通过率","实考人数","合格人数","通过率","实考人数","合格人数","通过率","实考人数","合格人数","通过率","实考人数","合格人数","通过率","实考人数","合格人数","通过率"]
["低压电工初训",23,23,{"$f":"C4/B4","v":{"v":1,"d":"100.0%"}},{"$nulls":3},31,18,{"$f":"I4/H4","v":{"v":0.580645161290323,"d":"58.1%"}},102,66,{"$f":"L4/K4","v":{"v":0.647058823529412,"d":"64.7%"}},102,82,{"$f":"O4/N4","v":{"v":0.803921568627451,"d":"80.4%"}},9,8,{"$f":"R4/Q4","v":{"v":0.888888888888889,"d":"88.9%"}},45,35,{"$f":"U4/T4","v":{"v":0.777777777777778,"d":"77.8%"}},5,1,{"$f":"X4/W4","v":{"v":0.2,"d":"20.0%"}},47,31,{"$f":"AA4/Z4","v":{"v":0.659574468085106,"d":"66.0%"}},{"$nulls":3},19,12,{"$f":"AG4/AF4","v":{"v":0.631578947368421,"d":"63.2%"}},129,89,{"$f":"AJ4/AI4","v":{"v":0.689922480620155,"d":"69.0%"}},23,20,{"$f":"AM4/AL4","v":{"v":0.869565217391304,"d":"87.0%"}},1,1,{"$f":"AP4/AO4","v":{"v":1,"d":"100.0%"}},{"$nulls":3},6,2,{"$f":"AV4/AU4","v":{"v":0.333333333333333,"d":"33.3%"}},{"$f":"B4+E4+H4+K4+N4+Q4+T4+W4+Z4+AC4+AF4+AI4+AL4+AO4+AR4+AU4","v":542},{"$f":"C4+F4+I4+L4+O4+R4+U4+X4+AA4+AD4+AG4+AJ4+AM4+AP4+AS4+AV4","v":388},{"$f":"AY4/AX4","v":{"v":0.715867158671587,"d":"71.6%"}}]
["高压电工初训",{"$nulls":9},24,16,{"v":0.666666666666667,"d":"66.7%"},20,17,{"$f":"O5/N5","v":{"v":0.85,"d":"85.0%"}},5,3,{"$f":"R5/Q5","v":{"v":0.6,"d":"60.0%"}},{"$nulls":30},49,36,{"v":0.73469387755102,"d":"73.5%"}]
["电力电缆初训"]
["熔化焊接与热切割初训",24,13,{"v":0.541666666666667,"d":"54.2%"},{"$nulls":3},18,17,{"$f":"I7/H7","v":{"v":0.944444444444444,"d":"94.4%"}},74,66,{"$f":"L7/K7","v":{"v":0.891891891891892,"d":"89.2%"}},24,24,{"$f":"O7/N7","v":{"v":1,"d":"100.0%"}},6,6,{"$f":"R7/Q7","v":{"v":1,"d":"100.0%"}},{"$nulls":6},126,101,{"$f":"AA7/Z7","v":{"v":0.801587301587302,"d":"80.2%"}},48,36,{"$f":"AD7/AC7","v":{"v":0.75,"d":"75.0%"}},{"$nulls":3},67,53,{"v":0.791044776119403,"d":"79.1%"},16,15,{"$f":"AM7/AL7","v":{"v":0.9375,"d":"93.8%"}},12,7,{"$f":"AP7/AO7","v":{"v":0.583333333333333,"d":"58.3%"}},{"$nulls":6},415,338,{"v":0.814457831325301,"d":"81.4%"}]
["高处安装维护拆除初训",31,31,{"v":1,"d":"100.0%"},{"$nulls":6},134,126,{"v":0.940298507462687,"d":"94.0%"},{"$nulls":3},1,1,{"$f":"R8/Q8","v":{"v":1,"d":"100.0%"}},12,7,{"$f":"U8/T8","v":{"v":0.583333333333333,"d":"58.3%"}},{"$nulls":15},1,1,{"v":1,"d":"100.0%"},{"$nulls":9},179,166,{"v":0.927374301675978,"d":"92.7%"}]
["特种作业初训合计",{"$f":"SUM(B4:B8)","v":78},{"$f":"SUM(C4:C8)","v":67},{"v":0.858974358974359,"d":"85.9%"},{"$nulls":3},{"$f":"SUM(H4:H8)","v":49},{"$f":"SUM(I4:I8)","v":35},{"$f":"I9/H9","v":{"v":0.714285714285714,"d":"71.4%"}},{"$f":"SUM(K4:K8)","v":334},{"$f":"SUM(L4:L8)","v":274},{"v":0.820359281437126,"d":"82.0%"},{"$f":"SUM(N4:N8)","v":146},{"$f":"SUM(O4:O8)","v":123},{"$f":"O9/N9","v":{"v":0.842465753424658,"d":"84.2%"}},{"$f":"SUM(Q4:Q8)","v":21},{"$f":"SUM(R4:R8)","v":18},{"v":0.857142857142857,"d":"85.7%"},{"$f":"SUM(T4:T8)","v":57},{"$f":"SUM(U4:U8)","v":42},{"$f":"U9/T9","v":{"v":0.736842105263158,"d":"73.7%"}},{"$f":"SUM(W4:W8)","v":5},{"$f":"SUM(X4:X8)","v":1},{"$f":"X9/W9","v":{"v":0.2,"d":"20.0%"}},{"$f":"SUM(Z4:Z8)","v":173},{"$f":"SUM(AA4:AA8)","v":132},{"$f":"AA9/Z9","v":{"v":0.763005780346821,"d":"76.3%"}},{"$f":"SUM(AC4:AC8)","v":48},{"$f":"SUM(AD4:AD8)","v":36},{"$f":"AD9/AC9","v":{"v":0.75,"d":"75.0%"}},{"$f":"SUM(AF4:AF8)","v":19},{"$f":"SUM(AG4:AG8)","v":12},{"$f":"AG9/AF9","v":{"v":0.631578947368421,"d":"63.2%"}},{"$f":"SUM(AI4:AI8)","v":196},{"$f":"SUM(AJ4:AJ8)","v":142},{"v":0.724489795918367,"d":"72.4%"},{"$f":"SUM(AL4:AL8)","v":40},{"$f":"SUM(AM4:AM8)","v":36},{"v":0.9,"d":"90.0%"},{"$f":"SUM(AO4:AO8)","v":13},{"$f":"SUM(AP4:AP8)","v":8},{"$f":"AP9/AO9","v":{"v":0.615384615384615,"d":"61.5%"}},{"$nulls":3},{"$f":"SUM(AU4:AU8)","v":6},{"$f":"SUM(AV4:AV8)","v":2},{"$f":"AV9/AU9","v":{"v":0.333333333333333,"d":"33.3%"}},1185,928,{"v":0.783122362869198,"d":"78.3%"}]
["低压电工复训",254,252,{"v":0.992125984251969,"d":"99.2%"},52,52,{"$f":"F10/E10","v":{"v":1,"d":"100.0%"}},44,43,{"$f":"I10/H10","v":{"v":0.977272727272727,"d":"97.7%"}},116,111,{"v":0.956896551724138,"d":"95.7%"},94,90,{"$f":"O10/N10","v":{"v":0.957446808510638,"d":"95.7%"}},9,9,{"v":1,"d":"100.0%"},{"$nulls":6},21,20,{"$f":"AA10/Z10","v":{"v":0.952380952380952,"d":"95.2%"}},65,61,{"$f":"AD10/AC10","v":{"v":0.938461538461538,"d":"93.8%"}},184,182,{"$f":"AG10/AF10","v":{"v":0.989130434782609,"d":"98.9%"}},49,48,{"v":0.979591836734694,"d":"98.0%"},10,9,{"v":0.9,"d":"90.0%"},4,4,{"$f":"AP10/AO10","v":{"v":1,"d":"100.0%"}},{"$nulls":3},4,4,{"$f":"AV10/AU10","v":{"v":1,"d":"100.0%"}},906,885,{"v":0.97682119205298,"d":"97.7%"}]
["高压电工复训",73,70,{"v":0.958904109589041,"d":"95.9%"},40,35,{"$f":"F11/E11","v":{"v":0.875,"d":"87.5%"}},{"$nulls":3},57,57,{"v":1,"d":"100.0%"},14,12,{"$f":"O11/N11","v":{"v":0.857142857142857,"d":"85.7%"}},10,10,{"v":1,"d":"100.0%"},{"$nulls":9},188,187,{"$f":"AD11/AC11","v":{"v":0.99468085106383,"d":"99.5%"}},24,24,{"$f":"AG11/AF11","v":{"v":1,"d":"100.0%"}},{"$nulls":3},1,1,{"v":1,"d":"100.0%"},{"$nulls":9},407,396,{"v":0.972972972972973,"d":"97.3%"}]
["熔化焊接与热切割复训",92,86,{"v":0.934782608695652,"d":"93.5%"},1,1,{"$f":"F12/E12","v":{"v":1,"d":"100.0%"}},{"$nulls":3},43,42,{"v":0.976744186046512,"d":"97.7%"},15,14,{"$f":"O12/N12","v":{"v":0.933333333333333,"d":"93.3%"}},17,16,{"v":0.941176470588235,"d":"94.1%"},{"$nulls":6},1,1,{"$f":"AA12/Z12","v":{"v":1,"d":"100.0%"}},3,3,{"$f":"AD12/AC12","v":{"v":1,"d":"100.0%"}},46,44,{"$f":"AG12/AF12","v":{"v":0.956521739130435,"d":"95.7%"}},24,21,{"v":0.875,"d":"87.5%"},5,5,{"v":1,"d":"100.0%"},{"$nulls":6},4,4,{"$f":"AV12/AU12","v":{"v":1,"d":"100.0%"}},251,237,{"v":0.944223107569721,"d":"94.4%"}]
["钎焊复训"]
["高处安装维护拆除复训",104,96,{"$f":"C14/B14","v":{"v":0.923076923076923,"d":"92.3%"}},156,152,{"$f":"F14/E14","v":{"v":0.974358974358974,"d":"97.4%"}},{"$nulls":42},260,248,{"$f":"AY14/AX14","v":{"v":0.953846153846154,"d":"95.4%"}}]
["登高架设复训",4,4,{"$f":"C15/B15","v":{"v":1,"d":"100.0%"}},{"$nulls":45},4,4,{"v":1,"d":"100.0%"}]
["制冷与空调运行操作复训"]
["制冷与空调安装修理复训"]
["矿山安检复训",3,3,{"$f":"C18/B18","v":{"v":1,"d":"100.0%"}},{"$nulls":45},3,3,{"$f":"AY18/AX18","v":{"v":1,"d":"100.0%"}}]
["电力电缆复训",1,1,{"$f":"C19/B19","v":{"v":1,"d":"100.0%"}},{"$nulls":6},1,1,{"$f":"L19/K19","v":{"v":1,"d":"100.0%"}},{"$nulls":36},2,2,{"v":1,"d":"100.0%"}]
["电气试验复训",{"$nulls":3},9,8,{"$f":"F20/E20","v":{"v":0.888888888888889,"d":"88.9%"}},{"$nulls":3},3,3,{"v":1,"d":"100.0%"},{"$nulls":36},12,11,{"v":0.916666666666667,"d":"91.7%"}]
["继电保护复训",{"$nulls":3},5,2,{"$f":"F21/E21","v":{"v":0.4,"d":"40.0%"}},{"$nulls":6},1,1,{"$f":"O21/N21","v":{"v":1,"d":"100.0%"}},{"$nulls":33},6,3,{"v":0.5,"d":"50.0%"}]
["特种作业复训合计",{"$f":"SUM(B10:B21)","v":531},512,{"v":0.964218455743879,"d":"96.4%"},263,250,{"$f":"F22/E22","v":{"v":0.950570342205323,"d":"95.1%"}},44,43,{"$f":"I22/H22","v":{"v":0.977272727272727,"d":"97.7%"}},{"$f":"SUM(K10:K21)","v":220},{"$f":"SUM(L10:L21)","v":214},{"v":0.972727272727273,"d":"97.3%"},{"$f":"SUM(N10:N21)","v":124},{"$f":"SUM(O10:O21)","v":117},{"$f":"O22/N22","v":{"v":0.943548387096774,"d":"94.4%"}},{"$f":"SUM(Q10:Q21)","v":36},{"$f":"SUM(R10:R21)","v":35},{"$f":"R22/Q22","v":{"v":0.972222222222222,"d":"97.2%"}},{"$nulls":6},{"$f":"SUM(Z10:Z21)","v":22},{"$f":"SUM(AA10:AA21)","v":21},{"$f":"AA22/Z22","v":{"v":0.954545454545455,"d":"95.5%"}},{"$f":"SUM(AC10:AC21)","v":256},{"$f":"SUM(AD10:AD21)","v":251},{"$f":"AD22/AC22","v":{"v":0.98046875,"d":"98.0%"}},{"$f":"SUM(AF10:AF21)","v":254},{"$f":"SUM(AG10:AG21)","v":250},{"$f":"AG22/AF22","v":{"v":0.984251968503937,"d":"98.4%"}},{"$f":"SUM(AI10:AI21)","v":73},{"$f":"SUM(AJ10:AJ21)","v":69},{"$f":"AJ22/AI22","v":{"v":0.945205479452055,"d":"94.5%"}},{"$f":"SUM(AL10:AL21)","v":16},{"$f":"SUM(AM10:AM21)","v":15},{"$f":"AM22/AL22","v":{"v":0.9375,"d":"93.8%"}},{"$f":"SUM(AO10:AO21)","v":4},{"$f":"SUM(AP10:AP21)","v":4},{"$f":"AP22/AO22","v":{"v":1,"d":"100.0%"}},{"$nulls":3},{"$f":"SUM(AU10:AU21)","v":8},{"$f":"SUM(AV10:AV21)","v":8},{"$f":"AV22/AU22","v":{"v":1,"d":"100.0%"}},1851,1789,{"v":0.966504592112372,"d":"96.7%"}]
["特种作业人员合计",{"$f":"B9+B22","v":609},{"$f":"C9+C22","v":579},{"v":0.950738916256158,"d":"95.1%"},{"$f":"E9+E22","v":263},{"$f":"F9+F22","v":250},{"$f":"F23/E23","v":{"v":0.950570342205323,"d":"95.1%"}},{"$f":"H9+H22","v":93},{"$f":"I9+I22","v":78},{"$f":"I23/H23","v":{"v":0.838709677419355,"d":"83.9%"}},{"$f":"K9+K22","v":554},{"$f":"L9+L22","v":488},{"v":0.88086642599278,"d":"88.1%"},{"$f":"N9+N22","v":270},{"$f":"O9+O22","v":240},{"$f":"O23/N23","v":{"v":0.888888888888889,"d":"88.9%"}},{"$f":"Q9+Q22","v":57},{"$f":"R9+R22","v":53},{"$f":"R23/Q23","v":{"v":0.929824561403509,"d":"93.0%"}},{"$f":"T9+T22","v":57},{"$f":"U9+U22","v":42},{"$f":"U23/T23","v":{"v":0.736842105263158,"d":"73.7%"}},{"$f":"W9+W22","v":5},{"$f":"X9+X22","v":1},{"$f":"X23/W23","v":{"v":0.2,"d":"20.0%"}},{"$f":"Z9+Z22","v":195},{"$f":"AA9+AA22","v":153},{"$f":"AA23/Z23","v":{"v":0.784615384615385,"d":"78.5%"}},{"$f":"AC9+AC22","v":304},{"$f":"AD9+AD22","v":287},{"$f":"AD23/AC23","v":{"v":0.944078947368421,"d":"94.4%"}},{"$f":"AF9+AF22","v":273},{"$f":"AG9+AG22","v":262},{"$f":"AG23/AF23","v":{"v":0.95970695970696,"d":"96.0%"}},{"$f":"AI9+AI22","v":269},{"$f":"AJ9+AJ22","v":211},{"$f":"AJ23/AI23","v":{"v":0.784386617100372,"d":"78.4%"}},{"$f":"AL9+AL22","v":56},{"$f":"AM9+AM22","v":51},{"v":0.910714285714286,"d":"91.1%"},{"$f":"AO9+AO22","v":17},{"$f":"AP9+AP22","v":12},{"$f":"AP23/AO23","v":{"v":0.705882352941177,"d":"70.6%"}},{"$nulls":3},{"$f":"AU9+AU22","v":14},{"$f":"AV9+AV22","v":10},{"$f":"AV23/AU23","v":{"v":0.714285714285714,"d":"71.4%"}},3036,2717,{"v":0.894927536231884,"d":"89.5%"}]
["烟花爆竹经营负责人初训",9,9,{"v":1,"d":"100.0%"},{"$nulls":45},9,9,{"v":1,"d":"100.0%"}]
["危化生产负责人初训",1,1,{"v":1,"d":"100.0%"},{"$nulls":6},1,1,{"v":1,"d":"100.0%"},{"$nulls":18},1,1,{"$f":"AG25/AF25","v":{"v":1,"d":"100.0%"}},{"$nulls":15},3,3,{"v":1,"d":"100.0%"}]
["危化经营负责人初训",19,19,{"v":1,"d":"100.0%"},{"$nulls":6},12,12,{"v":1,"d":"100.0%"},{"$nulls":3},1,1,{"$f":"R26/Q26","v":{"v":1,"d":"100.0%"}},{"$nulls":9},1,1,{"$f":"AD26/AC26","v":{"v":1,"d":"100.0%"}},2,2,{"$f":"AG26/AF26","v":{"v":1,"d":"100.0%"}},{"$nulls":6},1,1,{"$f":"AP26/AO26","v":{"v":1,"d":"100.0%"}},4,3,{"$f":"AS26/AR26","v":{"v":0.75,"d":"75.0%"}},{"$nulls":3},40,39,{"v":0.975,"d":"97.5%"}]
["非煤矿山负责人初训",{"$nulls":36},3,3,{"v":1,"d":"100.0%"},{"$nulls":9},3,3,{"v":1,"d":"100.0%"}]
["金属冶炼负责人初训",{"$nulls":9},2,2,{"v":1,"d":"100.0%"},{"$nulls":3},1,1,{"$f":"R28/Q28","v":{"v":1,"d":"100.0%"}},{"$nulls":30},3,3,{"$f":"AY28/AX28","v":{"v":1,"d":"100.0%"}}]
["高危行业负责人初训合计",{"$f":"SUM(B24:B28)","v":29},{"$f":"SUM(C24:C28)","v":29},{"$f":"C29/B29","v":{"v":1,"d":"100.0%"}},{"$nulls":6},{"$f":"SUM(K24:K28)","v":15},{"$f":"SUM(L24:L28)","v":15},{"v":1,"d":"100.0%"},{"$nulls":3},{"$f":"SUM(Q24:Q28)","v":2},{"$f":"SUM(R24:R28)","v":2},{"$f":"R29/Q29","v":{"v":1,"d":"100.0%"}},{"$nulls":9},{"$f":"SUM(AC24:AC28)","v":1},{"$f":"SUM(AD24:AD28)","v":1},{"$f":"AD29/AC29","v":{"v":1,"d":"100.0%"}},{"$f":"SUM(AF24:AF28)","v":3},{"$f":"SUM(AG24:AG28)","v":3},{"$f":"AG29/AF29","v":{"v":1,"d":"100.0%"}},{"$nulls":3},{"$f":"SUM(AL24:AL28)","v":3},{"$f":"SUM(AM24:AM28)","v":3},{"$f":"AM29/AL29","v":{"v":1,"d":"100.0%"}},{"$f":"SUM(AO24:AO28)","v":1},{"$f":"SUM(AP24:AP28)","v":1},{"$f":"AP29/AO29","v":{"v":1,"d":"100.0%"}},{"$f":"SUM(AR24:AR28)","v":4},{"$f":"SUM(AS24:AS28)","v":3},{"$f":"AS29/AR29","v":{"v":0.75,"d":"75.0%"}},{"$nulls":3},58,57,{"v":0.982758620689655,"d":"98.3%"}]
["烟花爆竹经营负责人复训",2,2,{"$f":"C30/B30","v":{"v":1,"d":"100.0%"}},{"$nulls":45},2,2,{"v":1,"d":"100.0%"}]
["危化生产负责人复训",6,6,{"$f":"C31/B31","v":{"v":1,"d":"100.0%"}},{"$nulls":6},2,2,{"$f":"L31/K31","v":{"v":1,"d":"100.0%"}},{"$nulls":15},7,6,{"$f":"AD31/AC31","v":{"v":0.857142857142857,"d":"85.7%"}},15,15,{"$f":"AG31/AF31","v":{"v":1,"d":"100.0%"}},{"$nulls":15},30,29,{"v":0.966666666666667,"d":"96.7%"}]
["危化经营负责人复训",58,56,{"$f":"C32/B32","v":{"v":0.96551724137931,"d":"96.6%"}},{"$nulls":6},82,79,{"$f":"L32/K32","v":{"v":0.963414634146341,"d":"96.3%"}},{"$nulls":15},31,29,{"$f":"AD32/AC32","v":{"v":0.935483870967742,"d":"93.5%"}},11,11,{"$f":"AG32/AF32","v":{"v":1,"d":"100.0%"}},{"$nulls":3},4,4,{"$f":"AM32/AL32","v":{"v":1,"d":"100.0%"}},1,1,{"$f":"AP32/AO32","v":{"v":1,"d":"100.0%"}},{"$nulls":6},187,180,{"v":0.962566844919786,"d":"96.3%"}]
["非煤矿山负责人复训",34,34,{"$f":"C33/B33","v":{"v":1,"d":"100.0%"}},{"$nulls":12},4,4,{"$f":"R33/Q33","v":{"v":1,"d":"100.0%"}},{"$nulls":30},38,38,{"v":1,"d":"100.0%"}]
["金属冶炼负责人复训"]
["高危行业负责人复训合计",{"$f":"SUM(B30:B34)","v":100},{"$f":"SUM(C30:C34)","v":98},{"$f":"C35/B35","v":{"v":0.98,"d":"98.0%"}},{"$nulls":6},{"$f":"SUM(K30:K34)","v":84},{"$f":"SUM(L30:L34)","v":81},{"$f":"L35/K35","v":{"v":0.964285714285714,"d":"96.4%"}},{"$nulls":3},{"$f":"SUM(Q30:Q34)","v":4},{"$f":"SUM(R30:R34)","v":4},{"$f":"R35/Q35","v":{"v":1,"d":"100.0%"}},{"$nulls":9},{"$f":"SUM(AC30:AC34)","v":38},{"$f":"SUM(AD30:AD34)","v":35},{"$f":"AD35/AC35","v":{"v":0.921052631578947,"d":"92.1%"}},{"$f":"SUM(AF30:AF34)","v":26},{"$f":"SUM(AG30:AG34)","v":26},{"$f":"AG35/AF35","v":{"v":1,"d":"100.0%"}},{"$nulls":3},{"$f":"SUM(AL30:AL34)","v":4},{"$f":"SUM(AM30:AM34)","v":4},{"$f":"AM35/AL35","v":{"v":1,"d":"100.0%"}},{"$f":"SUM(AO30:AO34)","v":1},{"$f":"SUM(AP30:AP34)","v":1},{"$f":"AP35/AO35","v":{"v":1,"d":"100.0%"}},{"$nulls":6},257,249,{"v":0.968871595330739,"d":"96.9%"}]
["高危行业主要负责人合计",{"$f":"B29+B35","v":129},{"$f":"C29+C35","v":127},{"v":0.984496124031008,"d":"98.4%"},{"$nulls":6},{"$f":"K29+K35","v":99},{"$f":"L29+L35","v":96},{"$f":"L36/K36","v":{"v":0.96969696969697,"d":"97.0%"}},{"$nulls":3},{"$f":"Q29+Q35","v":6},{"$f":"R29+R35","v":6},{"$f":"R36/Q36","v":{"v":1,"d":"100.0%"}},{"$nulls":9},{"$f":"AC29+AC35","v":39},{"$f":"AD29+AD35","v":36},{"$f":"AD36/AC36","v":{"v":0.923076923076923,"d":"92.3%"}},{"$f":"AF29+AF35","v":29},{"$f":"AG29+AG35","v":29},{"v":1,"d":"100.0%"},{"$nulls":3},{"$f":"AL29+AL35","v":7},{"$f":"AM29+AM35","v":7},{"$f":"AM36/AL36","v":{"v":1,"d":"100.0%"}},{"$f":"AO29+AO35","v":2},{"$f":"AP29+AP35","v":2},{"$f":"AP36/AO36","v":{"v":1,"d":"100.0%"}},{"$f":"AR29+AR35","v":4},{"$f":"AS29+AS35","v":3},{"$f":"AS36/AR36","v":{"v":0.75,"d":"75.0%"}},{"$nulls":3},315,306,{"v":0.971428571428571,"d":"97.1%"}]
["烟花爆竹经营安管初训",4,2,{"v":0.5,"d":"50.0%"},{"$nulls":45},4,2,{"v":0.5,"d":"50.0%"}]
["危化生产安管初训",2,2,{"v":1,"d":"100.0%"},{"$nulls":6},13,11,{"$f":"L38/K38","v":{"v":0.846153846153846,"d":"84.6%"}},{"$nulls":18},5,5,{"v":1,"d":"100.0%"},{"$nulls":3},8,5,{"$f":"AM38/AL38","v":{"v":0.625,"d":"62.5%"}},{"$nulls":9},28,23,{"v":0.821428571428571,"d":"82.1%"}]
["危化经营安管初训",80,54,{"v":0.675,"d":"67.5%"},{"$nulls":6},57,51,{"$f":"L39/K39","v":{"v":0.894736842105263,"d":"89.5%"}},{"$nulls":3},2,2,{"$f":"R39/Q39","v":{"v":1,"d":"100.0%"}},{"$nulls":9},1,1,{"$f":"AD39/AC39","v":{"v":1,"d":"100.0%"}},19,12,{"v":0.631578947368421,"d":"63.2%"},{"$nulls":6},3,2,{"$f":"AP39/AO39","v":{"v":0.666666666666667,"d":"66.7%"}},4,4,{"$f":"AS39/AR39","v":{"v":1,"d":"100.0%"}},{"$nulls":3},166,126,{"v":0.759036144578313,"d":"75.9%"}]
["非煤矿山安管初训",1,1,{"v":1,"d":"100.0%"},{"$nulls":27},1,1,{"v":1,"d":"100.0%"},{"$nulls":3},5,4,{"$f":"AM40/AL40","v":{"v":0.8,"d":"80.0%"}},{"$nulls":9},7,6,{"v":0.857142857142857,"d":"85.7%"}]
["金属冶炼安管初训",{"$nulls":15},2,2,{"$f":"R41/Q41","v":{"v":1,"d":"100.0%"}},{"$nulls":30},2,2,{"v":1,"d":"100.0%"}]
["高危行业安管初训合计",{"$f":"SUM(B37:B41)","v":87},{"$f":"SUM(C37:C41)","v":59},{"v":0.67816091954023,"d":"67.8%"},{"$nulls":6},{"$f":"SUM(K37:K41)","v":70},{"$f":"SUM(L37:L41)","v":62},{"$f":"L42/K42","v":{"v":0.885714285714286,"d":"88.6%"}},{"$nulls":3},{"$f":"SUM(Q37:Q41)","v":4},{"$f":"SUM(R37:R41)","v":4},{"$f":"R42/Q42","v":{"v":1,"d":"100.0%"}},{"$nulls":9},{"$f":"SUM(AC37:AC41)","v":1},{"$f":"SUM(AD37:AD41)","v":1},{"$f":"AD42/AC42","v":{"v":1,"d":"100.0%"}},{"$f":"SUM(AF37:AF41)","v":25},{"$f":"SUM(AG37:AG41)","v":18},{"$f":"AG42/AF42","v":{"v":0.72,"d":"72.0%"}},{"$nulls":3},{"$f":"SUM(AL37:AL41)","v":13},{"$f":"SUM(AM37:AM41)","v":9},{"v":0.692307692307692,"d":"69.2%"},{"$f":"SUM(AO37:AO41)","v":3},{"$f":"SUM(AP37:AP41)","v":2},{"$f":"AP42/AO42","v":{"v":0.666666666666667,"d":"66.7%"}},{"$f":"SUM(AR37:AR41)","v":4},{"$f":"SUM(AS37:AS41)","v":4},{"$f":"AS42/AR42","v":{"v":1,"d":"100.0%"}},{"$nulls":3},207,159,{"v":0.768115942028985,"d":"76.8%"}]
["烟花爆竹经营安管复训",2,2,{"v":1,"d":"100.0%"},{"$nulls":45},2,2,{"v":1,"d":"100.0%"}]
["危化生产安管复训",15,15,{"v":1,"d":"100.0%"},{"$nulls":6},25,22,{"$f":"L44/K44","v":{"v":0.88,"d":"88.0%"}},{"$nulls":15},16,16,{"$f":"AD44/AC44","v":{"v":1,"d":"100.0%"}},35,33,{"$f":"AG44/AF44","v":{"v":0.942857142857143,"d":"94.3%"}},{"$nulls":15},91,86,{"v":0.945054945054945,"d":"94.5%"}]
["危化经营安管复训",96,88,{"v":0.916666666666667,"d":"91.7%"},{"$nulls":6},135,129,{"$f":"L45/K45","v":{"v":0.955555555555556,"d":"95.6%"}},{"$nulls":15},50,49,{"v":0.98,"d":"98.0%"},2,2,{"$f":"AG45/AF45","v":{"v":1,"d":"100.0%"}},{"$nulls":3},9,9,{"v":1,"d":"100.0%"},1,1,{"$f":"AP45/AO45","v":{"v":1,"d":"100.0%"}},{"$nulls":6},293,278,{"v":0.948805460750853,"d":"94.9%"}]
["非煤矿山安管复训",50,50,{"v":1,"d":"100.0%"},{"$nulls":6},1,1,{"$f":"L46/K46","v":{"v":1,"d":"100.0%"}},{"$nulls":3},8,8,{"$f":"R46/Q46","v":{"v":1,"d":"100.0%"}},{"$nulls":30},59,59,{"v":1,"d":"100.0%"}]
["金属冶炼安管复训"]
["高危行业安管复训合计",{"$f":"SUM(B43:B47)","v":163},{"$f":"SUM(C43:C47)","v":155},{"$f":"C48/B48","v":{"v":0.950920245398773,"d":"95.1%"}},{"$nulls":6},{"$f":"SUM(K43:K47)","v":161},{"$f":"SUM(L43:L47)","v":152},{"$f":"L48/K48","v":{"v":0.944099378881988,"d":"94.4%"}},{"$nulls":3},{"$f":"SUM(Q43:Q47)","v":8},{"$f":"SUM(R43:R47)","v":8},{"v":1,"d":"100.0%"},{"$nulls":9},{"$f":"SUM(AC43:AC47)","v":66},{"$f":"SUM(AD43:AD47)","v":65},{"v":0.984848484848485,"d":"98.5%"},{"$f":"SUM(AF43:AF47)","v":37},{"$f":"SUM(AG43:AG47)","v":35},{"$f":"AG48/AF48","v":{"v":0.945945945945946,"d":"94.6%"}},{"$nulls":3},{"$f":"SUM(AL43:AL47)","v":9},{"$f":"SUM(AM43:AM47)","v":9},{"$f":"AM48/AL48","v":{"v":1,"d":"100.0%"}},{"$f":"SUM(AO43:AO47)","v":1},{"$f":"SUM(AP43:AP47)","v":1},{"v":1,"d":"100.0%"},{"$nulls":6},445,425,{"v":0.955056179775281,"d":"95.5%"}]
["高危行业安管人员合计",{"$f":"B42+B48","v":250},{"$f":"C42+C48","v":214},{"$f":"C49/B49","v":{"v":0.856,"d":"85.6%"}},{"$nulls":6},{"$f":"K42+K48","v":231},{"$f":"L42+L48","v":214},{"$f":"L49/K49","v":{"v":0.926406926406926,"d":"92.6%"}},{"$nulls":3},{"$f":"Q42+Q48","v":12},{"$f":"R42+R48","v":12},{"v":1,"d":"100.0%"},{"$nulls":9},{"$f":"AC42+AC48","v":67},{"$f":"AD42+AD48","v":66},{"v":0.985074626865672,"d":"98.5%"},{"$f":"AF42+AF48","v":62},{"$f":"AG42+AG48","v":53},{"$f":"AG49/AF49","v":{"v":0.854838709677419,"d":"85.5%"}},{"$nulls":3},{"$f":"AL42+AL48","v":22},{"$f":"AM42+AM48","v":18},{"$f":"AM49/AL49","v":{"v":0.818181818181818,"d":"81.8%"}},{"$f":"AO42+AO48","v":4},{"$f":"AP42+AP48","v":3},{"v":0.75,"d":"75.0%"},{"$f":"AR42+AR48","v":4},{"$f":"AS42+AS48","v":4},{"$f":"AS49/AR49","v":{"v":1,"d":"100.0%"}},{"$nulls":3},652,584,{"v":0.895705521472393,"d":"89.6%"}]
["高危行业负责人安管合计",{"$f":"B36+B49","v":379},{"$f":"C36+C49","v":341},{"$f":"C50/B50","v":{"v":0.899736147757256,"d":"90.0%"}},{"$nulls":6},{"$f":"K36+K49","v":330},{"$f":"L36+L49","v":310},{"$f":"L50/K50","v":{"v":0.939393939393939,"d":"93.9%"}},{"$nulls":3},{"$f":"Q36+Q49","v":18},{"$f":"R36+R49","v":18},{"v":1,"d":"100.0%"},{"$nulls":9},{"$f":"AC36+AC49","v":106},{"$f":"AD36+AD49","v":102},{"v":0.962264150943396,"d":"96.2%"},{"$f":"AF36+AF49","v":91},{"$f":"AG36+AG49","v":82},{"$f":"AG50/AF50","v":{"v":0.901098901098901,"d":"90.1%"}},{"$nulls":3},{"$f":"AL36+AL49","v":29},{"$f":"AM36+AM49","v":25},{"$f":"AM50/AL50","v":{"v":0.862068965517241,"d":"86.2%"}},{"$f":"AO36+AO49","v":6},{"$f":"AP36+AP49","v":5},{"v":0.833333333333333,"d":"83.3%"},{"$f":"AR36+AR49","v":8},{"$f":"AS36+AS49","v":7},{"$f":"AS50/AR50","v":{"v":0.875,"d":"87.5%"}},{"$nulls":3},967,890,{"v":0.920372285418821,"d":"92.0%"}]
["全工种合计",{"$f":"B23+B50","v":988},{"$f":"C23+C50","v":920},{"$f":"C51/B51","v":{"v":0.931174089068826,"d":"93.1%"}},{"$f":"E23+E50","v":263},{"$f":"F23+F50","v":250},{"$f":"F51/E51","v":{"v":0.950570342205323,"d":"95.1%"}},{"$f":"H23+H50","v":93},{"$f":"I23+I50","v":78},{"$f":"I51/H51","v":{"v":0.838709677419355,"d":"83.9%"}},{"$f":"K23+K50","v":884},{"$f":"L23+L50","v":798},{"$f":"L51/K51","v":{"v":0.902714932126697,"d":"90.3%"}},{"$f":"N23+N50","v":270},{"$f":"O23+O50","v":240},{"$f":"O51/N51","v":{"v":0.888888888888889,"d":"88.9%"}},{"$f":"Q23+Q50","v":75},{"$f":"R23+R50","v":71},{"v":0.946666666666667,"d":"94.7%"},{"$f":"T23+T50","v":57},{"$f":"U23+U50","v":42},{"$f":"U51/T51","v":{"v":0.736842105263158,"d":"73.7%"}},{"$f":"W23+W50","v":5},{"$f":"X23+X50","v":1},{"$f":"X51/W51","v":{"v":0.2,"d":"20.0%"}},{"$f":"Z23+Z50","v":195},{"$f":"AA23+AA50","v":153},{"$f":"AA51/Z51","v":{"v":0.784615384615385,"d":"78.5%"}},{"$f":"AC23+AC50","v":410},{"$f":"AD23+AD50","v":389},{"v":0.948780487804878,"d":"94.9%"},{"$f":"AF23+AF50","v":364},{"$f":"AG23+AG50","v":344},{"$f":"AG51/AF51","v":{"v":0.945054945054945,"d":"94.5%"}},{"$f":"AI23+AI50","v":269},{"$f":"AJ23+AJ50","v":211},{"$f":"AJ51/AI51","v":{"v":0.784386617100372,"d":"78.4%"}},{"$f":"AL23+AL50","v":85},{"$f":"AM23+AM50","v":76},{"$f":"AM51/AL51","v":{"v":0.894117647058824,"d":"89.4%"}},{"$f":"AO23+AO50","v":23},{"$f":"AP23+AP50","v":17},{"v":0.739130434782609,"d":"73.9%"},{"$f":"AR23+AR50","v":8},{"$f":"AS23+AS50","v":7},{"$f":"AS51/AR51","v":{"v":0.875,"d":"87.5%"}},{"$f":"AU23+AU50","v":14},{"$f":"AV23+AV50","v":10},{"$f":"AV51/AU51","v":{"v":0.714285714285714,"d":"71.4%"}},4003,3607,{"v":0.901074194354234,"d":"90.1%"}]
["备注：\n1.培训机构名称以全国安全生产培训考试信息管理系统记录为准，按系统顺序排序；\n2.实考人数=报考总人数-正考补考均缺考人数-考试违规被取消成绩人数；\n3.仅统计已完成考试者，还有补考机会者不统计。"]

{"sheet":"9月","index":8,"n_rows":52,"n_cols":55,"rows_kept":52,"merged":[[0,0,0,54],[1,0,2,0],[1,1,1,3],[1,4,1,6],[1,7,1,9],[1,10,1,12],[1,13,1,15],[1,16,1,18],[1,19,1,21],[1,22,1,24],[1,25,1,27],[1,28,1,30],[1,31,1,33],[1,34,1,36],[1,37,1,39],[1,40,1,42],[1,43,1,45],[1,46,1,48],[1,49,1,51],[1,52,1,54],[51,0,51,54]]}
["2022年9月各安全培训机构考生通过率统计表"]
["            培训机构\n    工种","江门市安信职业安全培训有限公司",null,null,"广东四维培训有限公司",null,null,"江门市技师学院",null,null,"江门市江海区共升教育培训中心",null,null,"江门市侨都安全咨询服务有限公司",null,null,"江门市安全生产管理协会",null,null,"江门市新会技师学院",null,null,"江门市新会机电职业技术学校",null,null,"鹤山市优创职业培训学校有限公司",null,null,"台山市安全生产管理协会",null,null,"鹤山市安全生产管理协会",null,null,"江门市江海区万众职业培训学校",null,null,"开平市中邑安安全技术咨询有限公司",null,null,"江门市江海区安全生产管理协会",null,null,"江门市天晟安全事务有限公司",null,null,"恩平市科瑞职业技术培训学校",null,null,"江门市金迪安全科技有限公司",null,null,"全市合计"]
[null,"实考人数","合格人数","通过率","实考人数","合格人数","通过率","实考人数","合格人数","通过率","实考人数","合格人数","通过率","实考人数","合格人数","通过率","实考人数","合格人数","通过率","实考人数","合格人数","通过率","实考人数","合格人数","通过率","实考人数","合格人数","通过率","实考人数","合格人数","通过率","实考人数","合格人数","通过率","实考人数","合格人数","通过率","实考人数","合格人数","通过率","实考人数","合格人数","通过率","实考人数","合格人数","通过率","实考人数","合格人数","通过率","实考人数","合格人数","通过率","实考人数","合格人数","通过率"]
["低压电工初训",20,17,{"$f":"C4/B4","v":{"v":0.85,"d":"85.0%"}},34,28,{"$f":"F4/E4","v":{"v":0.823529411764706,"d":"82.4%"}},2,1,{"$f":"I4/H4","v":{"v":0.5,"d":"50.0%"}},167,121,{"$f":"L4/K4","v":{"v":0.724550898203593,"d":"72.5%"}},6,2,{"$f":"O4/N4","v":{"v":0.333333333333333,"d":"33.3%"}},11,11,{"$f":"R4/Q4","v":{"v":1,"d":"100.0%"}},6,0,{"$f":"U4/T4","v":{"v":0,"d":"0.0%"}},{"$nulls":3},41,32,{"$f":"AA4/Z4","v":{"v":0.780487804878049,"d":"78.0%"}},{"$nulls":3},27,23,{"$f":"AG4/AF4","v":{"v":0.851851851851852,"d":"85.2%"}},6,2,{"$f":"AJ4/AI4","v":{"v":0.333333333333333,"d":"33.3%"}},62,45,{"$f":"AM4/AL4","v":{"v":0.725806451612903,"d":"72.6%"}},2,1,{"$f":"AP4/AO4","v":{"v":0.5,"d":"50.0%"}},{"$nulls":6},10,9,{"$f":"AY4/AX4","v":{"v":0.9,"d":"90.0%"}},{"$f":"B4+E4+H4+K4+N4+Q4+T4+W4+Z4+AC4+AF4+AI4+AL4+AO4+AR4+AU4+AX4","v":394},{"$f":"C4+F4+I4+L4+O4+R4+U4+X4+AA4+AD4+AG4+AJ4+AM4+AP4+AS4+AV4+AY4","v":292},{"$f":"BB4/BA4","v":{"v":0.741116751269036,"d":"74.1%"}}]
["高压电工初训",{"$nulls":3},23,17,{"$f":"F5/E5","v":{"v":0.739130434782609,"d":"73.9%"}},{"$nulls":6},53,52,{"$f":"O5/N5","v":{"v":0.981132075471698,"d":"98.1%"}},2,2,{"v":1,"d":"100.0%"},{"$nulls":33},78,71,{"v":0.91025641025641,"d":"91.0%"}]
["电力电缆初训"]
["熔化焊接与热切割初训",35,32,{"v":0.914285714285714,"d":"91.4%"},{"$nulls":3},10,4,{"v":0.4,"d":"40.0%"},2,2,{"v":1,"d":"100.0%"},16,14,{"$f":"O7/N7","v":{"v":0.875,"d":"87.5%"}},23,23,{"v":1,"d":"100.0%"},51,43,{"v":0.843137254901961,"d":"84.3%"},{"$nulls":3},3,3,{"v":1,"d":"100.0%"},36,30,{"$f":"AD7/AC7","v":{"v":0.833333333333333,"d":"83.3%"}},28,27,{"$f":"AG7/AF7","v":{"v":0.964285714285714,"d":"96.4%"}},43,31,{"v":0.720930232558139,"d":"72.1%"},26,20,{"v":0.769230769230769,"d":"76.9%"},11,8,{"v":0.727272727272727,"d":"72.7%"},{"$nulls":9},284,237,{"v":0.834507042253521,"d":"83.5%"}]
["高处安装维护拆除初训",36,28,{"v":0.777777777777778,"d":"77.8%"},179,172,{"$f":"F8/E8","v":{"v":0.960893854748603,"d":"96.1%"}},{"$nulls":3},100,78,{"v":0.78,"d":"78.0%"},{"$nulls":3},4,3,{"v":0.75,"d":"75.0%"},{"$nulls":33},319,281,{"v":0.880877742946709,"d":"88.1%"}]
["特种作业初训合计",{"$f":"SUM(B4:B8)","v":91},77,{"v":0.846153846153846,"d":"84.6%"},236,217,{"$f":"F9/E9","v":{"v":0.919491525423729,"d":"91.9%"}},{"$f":"SUM(H4:H8)","v":12},{"$f":"SUM(I4:I8)","v":5},{"v":0.416666666666667,"d":"41.7%"},{"$f":"SUM(K4:K8)","v":269},{"$f":"SUM(L4:L8)","v":201},{"v":0.747211895910781,"d":"74.7%"},{"$f":"SUM(N4:N8)","v":75},{"$f":"SUM(O4:O8)","v":68},{"$f":"O9/N9","v":{"v":0.906666666666667,"d":"90.7%"}},{"$f":"SUM(Q4:Q8)","v":40},{"$f":"SUM(R4:R8)","v":39},{"v":0.975,"d":"97.5%"},{"$f":"SUM(T4:T8)","v":57},{"$f":"SUM(U4:U8)","v":43},{"v":0.754385964912281,"d":"75.4%"},{"$nulls":3},{"$f":"SUM(Z4:Z8)","v":44},{"$f":"SUM(AA4:AA8)","v":35},{"v":0.795454545454545,"d":"79.5%"},{"$f":"SUM(AC4:AC8)","v":36},{"$f":"SUM(AD4:AD8)","v":30},{"v":0.833333333333333,"d":"83.3%"},{"$f":"SUM(AF4:AF8)","v":55},{"$f":"SUM(AG4:AG8)","v":50},{"$f":"AG9/AF9","v":{"v":0.909090909090909,"d":"90.9%"}},{"$f":"SUM(AI4:AI8)","v":49},{"$f":"SUM(AJ4:AJ8)","v":33},{"v":0.673469387755102,"d":"67.3%"},{"$f":"SUM(AL4:AL8)","v":88},{"$f":"SUM(AM4:AM8)","v":65},{"v":0.738636363636364,"d":"73.9%"},{"$f":"SUM(AO4:AO8)","v":13},{"$f":"SUM(AP4:AP8)","v":9},{"v":0.692307692307692,"d":"69.2%"},{"$nulls":6},{"$f":"SUM(AX4:AX8)","v":10},{"$f":"SUM(AY4:AY8)","v":9},{"$f":"AY9/AX9","v":{"v":0.9,"d":"90.0%"}},1075,881,{"v":0.81953488372093,"d":"82.0%"}]
["低压电工复训",278,274,{"v":0.985611510791367,"d":"98.6%"},57,56,{"$f":"F10/E10","v":{"v":0.982456140350877,"d":"98.2%"}},{"$nulls":3},41,40,{"v":0.975609756097561,"d":"97.6%"},39,39,{"$f":"O10/N10","v":{"v":1,"d":"100.0%"}},5,5,{"v":1,"d":"100.0%"},{"$nulls":6},14,13,{"v":0.928571428571429,"d":"92.9%"},61,60,{"v":0.983606557377049,"d":"98.4%"},48,47,{"$f":"AG10/AF10","v":{"v":0.979166666666667,"d":"97.9%"}},53,50,{"v":0.943396226415094,"d":"94.3%"},32,30,{"v":0.9375,"d":"93.8%"},1,1,{"v":1,"d":"100.0%"},{"$nulls":3},2,2,{"$f":"AV10/AU10","v":{"v":1,"d":"100.0%"}},4,4,{"$f":"AY10/AX10","v":{"v":1,"d":"100.0%"}},635,621,{"v":0.977952755905512,"d":"97.8%"}]
["高压电工复训",52,48,{"v":0.923076923076923,"d":"92.3%"},16,16,{"$f":"F11/E11","v":{"v":1,"d":"100.0%"}},{"$nulls":6},8,7,{"$f":"O11/N11","v":{"v":0.875,"d":"87.5%"}},2,1,{"v":0.5,"d":"50.0%"},{"$nulls":9},8,8,{"v":1,"d":"100.0%"},4,4,{"$f":"AG11/AF11","v":{"v":1,"d":"100.0%"}},{"$nulls":3},3,3,{"v":1,"d":"100.0%"},{"$nulls":12},93,87,{"v":0.935483870967742,"d":"93.5%"}]
["熔化焊接与热切割复训",49,46,{"v":0.938775510204082,"d":"93.9%"},2,2,{"$f":"F12/E12","v":{"v":1,"d":"100.0%"}},{"$nulls":3},58,52,{"v":0.896551724137931,"d":"89.7%"},7,7,{"$f":"O12/N12","v":{"v":1,"d":"100.0%"}},2,1,{"v":0.5,"d":"50.0%"},{"$nulls":9},15,13,{"v":0.866666666666667,"d":"86.7%"},26,25,{"$f":"AG12/AF12","v":{"v":0.961538461538462,"d":"96.2%"}},23,18,{"$f":"AJ12/AI12","v":{"v":0.782608695652174,"d":"78.3%"}},6,6,{"v":1,"d":"100.0%"},{"$nulls":12},188,170,{"v":0.904255319148936,"d":"90.4%"}]
["钎焊复训"]
["高处安装维护拆除复训",72,69,{"$f":"C14/B14","v":{"v":0.958333333333333,"d":"95.8%"}},5,5,{"$f":"F14/E14","v":{"v":1,"d":"100.0%"}},{"$nulls":3},4,4,{"v":1,"d":"100.0%"},{"$nulls":24},4,4,{"$f":"AM14/AL14","v":{"v":1,"d":"100.0%"}},{"$nulls":12},85,82,{"$f":"BB14/BA14","v":{"v":0.964705882352941,"d":"96.5%"}}]
["登高架设复训"]
["制冷与空调运行操作复训"]
["制冷与空调安装修理复训",5,5,{"$f":"C17/B17","v":{"v":1,"d":"100.0%"}},{"$nulls":48},5,5,{"$f":"BB17/BA17","v":{"v":1,"d":"100.0%"}}]
["矿山安检复训",5,4,{"v":0.8,"d":"80.0%"},{"$nulls":48},5,4,{"v":0.8,"d":"80.0%"}]
["电力电缆复训",{"$nulls":3},1,1,{"$f":"F19/E19","v":{"v":1,"d":"100.0%"}},{"$nulls":45},1,1,{"v":1,"d":"100.0%"}]
["电气试验复训",2,2,{"v":1,"d":"100.0%"},{"$nulls":48},2,2,{"v":1,"d":"100.0%"}]
["继电保护复训",1,1,{"$f":"C21/B21","v":{"v":1,"d":"100.0%"}},{"$nulls":48},1,1,{"v":1,"d":"100.0%"}]
["特种作业复训合计",{"$f":"SUM(B10:B21)","v":464},{"$f":"SUM(C10:C21)","v":449},{"v":0.967672413793103,"d":"96.8%"},{"$f":"SUM(E10:E21)","v":81},{"$f":"SUM(F10:F21)","v":80},{"$f":"F22/E22","v":{"v":0.987654320987654,"d":"98.8%"}},{"$nulls":3},{"$f":"SUM(K10:K21)","v":103},{"$f":"SUM(L10:L21)","v":96},{"$f":"L22/K22","v":{"v":0.932038834951456,"d":"93.2%"}},{"$f":"SUM(N10:N21)","v":54},{"$f":"SUM(O10:O21)","v":53},{"$f":"O22/N22","v":{"v":0.981481481481482,"d":"98.1%"}},{"$f":"SUM(Q10:Q21)","v":9},{"$f":"SUM(R10:R21)","v":7},{"$f":"R22/Q22","v":{"v":0.777777777777778,"d":"77.8%"}},{"$nulls":6},{"$f":"SUM(Z10:Z21)","v":14},{"$f":"SUM(AA10:AA21)","v":13},{"$f":"AA22/Z22","v":{"v":0.928571428571429,"d":"92.9%"}},{"$f":"SUM(AC10:AC21)","v":84},{"$f":"SUM(AD10:AD21)","v":81},{"$f":"AD22/AC22","v":{"v":0.964285714285714,"d":"96.4%"}},{"$f":"SUM(AF10:AF21)","v":78},{"$f":"SUM(AG10:AG21)","v":76},{"$f":"AG22/AF22","v":{"v":0.974358974358974,"d":"97.4%"}},{"$f":"SUM(AI10:AI21)","v":76},{"$f":"SUM(AJ10:AJ21)","v":68},{"$f":"AJ22/AI22","v":{"v":0.894736842105263,"d":"89.5%"}},{"$f":"SUM(AL10:AL21)","v":45},{"$f":"SUM(AM10:AM21)","v":43},{"$f":"AM22/AL22","v":{"v":0.955555555555556,"d":"95.6%"}},{"$f":"SUM(AO10:AO21)","v":1},{"$f":"SUM(AP10:AP21)","v":1},{"$f":"AP22/AO22","v":{"v":1,"d":"100.0%"}},{"$nulls":3},{"$f":"SUM(AU10:AU21)","v":2},{"$f":"SUM(AV10:AV21)","v":2},{"$f":"AV22/AU22","v":{"v":1,"d":"100.0%"}},{"$f":"SUM(AX10:AX21)","v":4},{"$f":"SUM(AY10:AY21)","v":4},{"$f":"AY22/AX22","v":{"v":1,"d":"100.0%"}},1015,973,{"v":0.958620689655172,"d":"95.9%"}]
["特种作业人员合计",{"$f":"B9+B22","v":555},{"$f":"C9+C22","v":526},{"v":0.947747747747748,"d":"94.8%"},{"$f":"E9+E22","v":317},{"$f":"F9+F22","v":297},{"$f":"F23/E23","v":{"v":0.936908517350158,"d":"93.7%"}},{"$f":"H9+H22","v":12},{"$f":"I9+I22","v":5},{"$f":"I23/H23","v":{"v":0.416666666666667,"d":"41.7%"}},{"$f":"K9+K22","v":372},{"$f":"L9+L22","v":297},{"v":0.798387096774194,"d":"79.8%"},{"$f":"N9+N22","v":129},{"$f":"O9+O22","v":121},{"$f":"O23/N23","v":{"v":0.937984496124031,"d":"93.8%"}},{"$f":"Q9+Q22","v":49},{"$f":"R9+R22","v":46},{"$f":"R23/Q23","v":{"v":0.938775510204082,"d":"93.9%"}},{"$f":"T9+T22","v":57},{"$f":"U9+U22","v":43},{"$f":"U23/T23","v":{"v":0.754385964912281,"d":"75.4%"}},{"$nulls":3},{"$f":"Z9+Z22","v":58},{"$f":"AA9+AA22","v":48},{"$f":"AA23/Z23","v":{"v":0.827586206896552,"d":"82.8%"}},{"$f":"AC9+AC22","v":120},{"$f":"AD9+AD22","v":111},{"v":0.925,"d":"92.5%"},{"$f":"AF9+AF22","v":133},{"$f":"AG9+AG22","v":126},{"$f":"AG23/AF23","v":{"v":0.947368421052632,"d":"94.7%"}},{"$f":"AI9+AI22","v":125},{"$f":"AJ9+AJ22","v":101},{"$f":"AJ23/AI23","v":{"v":0.808,"d":"80.8%"}},{"$f":"AL9+AL22","v":133},{"$f":"AM9+AM22","v":108},{"v":0.81203007518797,"d":"81.2%"},{"$f":"AO9+AO22","v":14},{"$f":"AP9+AP22","v":10},{"$f":"AP23/AO23","v":{"v":0.714285714285714,"d":"71.4%"}},{"$nulls":3},{"$f":"AU9+AU22","v":2},{"$f":"AV9+AV22","v":2},{"$f":"AV23/AU23","v":{"v":1,"d":"100.0%"}},{"$f":"AX9+AX22","v":14},{"$f":"AY9+AY22","v":13},{"v":0.928571428571429,"d":"92.9%"},2090,1854,{"v":0.887081339712919,"d":"88.7%"}]
["烟花爆竹经营负责人初训",4,4,{"v":1,"d":"100.0%"},{"$nulls":6},3,0,{"v":0,"d":"0.0%"},{"$nulls":15},5,3,{"v":0.6,"d":"60.0%"},{"$nulls":6},1,1,{"v":1,"d":"100.0%"},{"$nulls":9},6,5,{"v":0.833333333333333,"d":"83.3%"},19,13,{"v":0.684210526315789,"d":"68.4%"}]
["危化生产负责人初训",{"$nulls":9},1,1,{"v":1,"d":"100.0%"},{"$nulls":18},1,0,{"$f":"AG25/AF25","v":{"v":0,"d":"0.0%"}},{"$nulls":18},2,1,{"v":0.5,"d":"50.0%"}]
["危化经营负责人初训",12,11,{"v":0.916666666666667,"d":"91.7%"},{"$nulls":6},6,6,{"v":1,"d":"100.0%"},{"$nulls":3},1,1,{"$f":"R26/Q26","v":{"v":1,"d":"100.0%"}},{"$nulls":9},4,4,{"v":1,"d":"100.0%"},3,3,{"$f":"AG26/AF26","v":{"v":1,"d":"100.0%"}},{"$nulls":6},1,1,{"$f":"AP26/AO26","v":{"v":1,"d":"100.0%"}},{"$nulls":9},27,26,{"v":0.962962962962963,"d":"96.3%"}]
["非煤矿山负责人初训",{"$nulls":27},1,1,{"v":1,"d":"100.0%"},{"$nulls":21},1,1,{"v":1,"d":"100.0%"}]
["金属冶炼负责人初训",{"$nulls":9},1,1,{"$f":"L28/K28","v":{"v":1,"d":"100.0%"}},{"$nulls":39},1,1,{"v":1,"d":"100.0%"}]
["高危行业负责人初训合计",{"$f":"SUM(B24:B28)","v":16},{"$f":"SUM(C24:C28)","v":15},{"$f":"C29/B29","v":{"v":0.9375,"d":"93.8%"}},{"$nulls":6},{"$f":"SUM(K24:K28)","v":11},{"$f":"SUM(L24:L28)","v":8},{"$f":"L29/K29","v":{"v":0.727272727272727,"d":"72.7%"}},{"$nulls":3},{"$f":"SUM(Q24:Q28)","v":1},{"$f":"SUM(R24:R28)","v":1},{"$f":"R29/Q29","v":{"v":1,"d":"100.0%"}},{"$nulls":9},{"$f":"SUM(AC24:AC28)","v":10},{"$f":"SUM(AD24:AD28)","v":8},{"$f":"AD29/AC29","v":{"v":0.8,"d":"80.0%"}},{"$f":"SUM(AF24:AF28)","v":4},{"$f":"SUM(AG24:AG28)","v":3},{"$f":"AG29/AF29","v":{"v":0.75,"d":"75.0%"}},{"$nulls":3},{"$f":"SUM(AL24:AL28)","v":1},{"$f":"SUM(AM24:AM28)","v":1},{"$f":"AM29/AL29","v":{"v":1,"d":"100.0%"}},{"$f":"SUM(AO24:AO28)","v":1},{"$f":"SUM(AP24:AP28)","v":1},{"$f":"AP29/AO29","v":{"v":1,"d":"100.0%"}},{"$nulls":6},{"$f":"SUM(AX24:AX28)","v":6},{"$f":"SUM(AY24:AY28)","v":5},{"$f":"AY29/AX29","v":{"v":0.833333333333333,"d":"83.3%"}},50,42,{"v":0.84,"d":"84.0%"}]
["烟花爆竹经营负责人复训",1,1,{"$f":"C30/B30","v":{"v":1,"d":"100.0%"}},{"$nulls":24},16,14,{"$f":"AD30/AC30","v":{"v":0.875,"d":"87.5%"}},{"$nulls":21},17,15,{"v":0.882352941176471,"d":"88.2%"}]
["危化生产负责人复训",4,4,{"$f":"C31/B31","v":{"v":1,"d":"100.0%"}},{"$nulls":6},6,5,{"$f":"L31/K31","v":{"v":0.833333333333333,"d":"83.3%"}},{"$nulls":18},6,5,{"$f":"AG31/AF31","v":{"v":0.833333333333333,"d":"83.3%"}},{"$nulls":6},2,2,{"$f":"AP31/AO31","v":{"v":1,"d":"100.0%"}},{"$nulls":9},18,16,{"v":0.888888888888889,"d":"88.9%"}]
["危化经营负责人复训",116,114,{"$f":"C32/B32","v":{"v":0.982758620689655,"d":"98.3%"}},{"$nulls":6},16,16,{"v":1,"d":"100.0%"},{"$nulls":15},2,2,{"$f":"AD32/AC32","v":{"v":1,"d":"100.0%"}},4,4,{"$f":"AG32/AF32","v":{"v":1,"d":"100.0%"}},{"$nulls":6},1,1,{"$f":"AP32/AO32","v":{"v":1,"d":"100.0%"}},{"$nulls":9},139,137,{"v":0.985611510791367,"d":"98.6%"}]
["非煤矿山负责人复训",5,4,{"$f":"C33/B33","v":{"v":0.8,"d":"80.0%"}},{"$nulls":24},2,2,{"$f":"AD33/AC33","v":{"v":1,"d":"100.0%"}},{"$nulls":21},7,6,{"v":0.857142857142857,"d":"85.7%"}]
["金属冶炼负责人复训"]
["高危行业负责人复训合计",{"$f":"SUM(B30:B34)","v":126},{"$f":"SUM(C30:C34)","v":123},{"$f":"C35/B35","v":{"v":0.976190476190476,"d":"97.6%"}},{"$nulls":6},{"$f":"SUM(K30:K34)","v":22},{"$f":"SUM(L30:L34)","v":21},{"v":0.954545454545455,"d":"95.5%"},{"$nulls":15},{"$f":"SUM(AC30:AC34)","v":20},{"$f":"SUM(AD30:AD34)","v":18},{"$f":"AD35/AC35","v":{"v":0.9,"d":"90.0%"}},{"$f":"SUM(AF30:AF34)","v":10},{"$f":"SUM(AG30:AG34)","v":9},{"$f":"AG35/AF35","v":{"v":0.9,"d":"90.0%"}},{"$nulls":6},{"$f":"SUM(AO30:AO34)","v":3},{"$f":"SUM(AP30:AP34)","v":3},{"$f":"AP35/AO35","v":{"v":1,"d":"100.0%"}},{"$nulls":9},181,174,{"$f":"BB35/BA35","v":{"v":0.961325966850829,"d":"96.1%"}}]
["高危行业主要负责人合计",{"$f":"B29+B35","v":142},{"$f":"C29+C35","v":138},{"v":0.971830985915493,"d":"97.2%"},{"$nulls":6},{"$f":"K29+K35","v":33},{"$f":"L29+L35","v":29},{"v":0.878787878787879,"d":"87.9%"},{"$nulls":3},{"$f":"Q29+Q35","v":1},{"$f":"R29+R35","v":1},{"$f":"R36/Q36","v":{"v":1,"d":"100.0%"}},{"$nulls":9},{"$f":"AC29+AC35","v":30},{"$f":"AD29+AD35","v":26},{"v":0.866666666666667,"d":"86.7%"},{"$f":"AF29+AF35","v":14},{"$f":"AG29+AG35","v":12},{"v":0.857142857142857,"d":"85.7%"},{"$nulls":3},{"$f":"AL29+AL35","v":1},{"$f":"AM29+AM35","v":1},{"$f":"AM36/AL36","v":{"v":1,"d":"100.0%"}},{"$f":"AO29+AO35","v":4},{"$f":"AP29+AP35","v":4},{"$f":"AP36/AO36","v":{"v":1,"d":"100.0%"}},{"$nulls":6},{"$f":"AX29+AX35","v":6},{"$f":"AY29+AY35","v":5},{"$f":"AY36/AX36","v":{"v":0.833333333333333,"d":"83.3%"}},231,216,{"v":0.935064935064935,"d":"93.5%"}]
["烟花爆竹经营安管初训",2,2,{"v":1,"d":"100.0%"},{"$nulls":6},2,1,{"v":0.5,"d":"50.0%"},{"$nulls":15},5,5,{"v":1,"d":"100.0%"},{"$nulls":6},1,0,{"$f":"AM37/AL37","v":{"v":0,"d":"0.0%"}},{"$nulls":9},3,3,{"$f":"AY37/AX37","v":{"v":1,"d":"100.0%"}},13,11,{"v":0.846153846153846,"d":"84.6%"}]
["危化生产安管初训",9,9,{"v":1,"d":"100.0%"},{"$nulls":6},2,1,{"$f":"L38/K38","v":{"v":0.5,"d":"50.0%"}},{"$nulls":15},1,1,{"v":1,"d":"100.0%"},5,4,{"v":0.8,"d":"80.0%"},{"$nulls":18},17,15,{"v":0.882352941176471,"d":"88.2%"}]
["危化经营安管初训",17,15,{"v":0.882352941176471,"d":"88.2%"},{"$nulls":6},51,31,{"v":0.607843137254902,"d":"60.8%"},{"$nulls":3},3,3,{"$f":"R39/Q39","v":{"v":1,"d":"100.0%"}},{"$nulls":9},7,7,{"v":1,"d":"100.0%"},2,2,{"v":1,"d":"100.0%"},{"$nulls":15},1,1,{"$f":"AY39/AX39","v":{"v":1,"d":"100.0%"}},81,59,{"v":0.728395061728395,"d":"72.8%"}]
["非煤矿山安管初训",{"$nulls":27},2,2,{"v":1,"d":"100.0%"},{"$nulls":21},2,2,{"v":1,"d":"100.0%"}]
["金属冶炼安管初训",{"$nulls":15},3,3,{"$f":"R41/Q41","v":{"v":1,"d":"100.0%"}},{"$nulls":33},3,3,{"v":1,"d":"100.0%"}]
["高危行业安管初训合计",{"$f":"SUM(B37:B41)","v":28},{"$f":"SUM(C37:C41)","v":26},{"$f":"C42/B42","v":{"v":0.928571428571429,"d":"92.9%"}},{"$nulls":6},{"$f":"SUM(K37:K41)","v":55},{"$f":"SUM(L37:L41)","v":33},{"v":0.6,"d":"60.0%"},{"$nulls":3},{"$f":"SUM(Q37:Q41)","v":6},{"$f":"SUM(R37:R41)","v":6},{"$f":"R42/Q42","v":{"v":1,"d":"100.0%"}},{"$nulls":9},{"$f":"SUM(AC37:AC41)","v":15},{"$f":"SUM(AD37:AD41)","v":15},{"$f":"AD42/AC42","v":{"v":1,"d":"100.0%"}},{"$f":"SUM(AF37:AF41)","v":7},{"$f":"SUM(AG37:AG41)","v":6},{"$f":"AG42/AF42","v":{"v":0.857142857142857,"d":"85.7%"}},{"$nulls":3},{"$f":"SUM(AL37:AL41)","v":1},{"$f":"SUM(AM37:AM41)","v":0},{"$f":"AM42/AL42","v":{"v":0,"d":"0.0%"}},{"$nulls":9},{"$f":"SUM(AX37:AX41)","v":4},{"$f":"SUM(AY37:AY41)","v":4},{"$f":"AY42/AX42","v":{"v":1,"d":"100.0%"}},116,90,{"v":0.775862068965517,"d":"77.6%"}]
["烟花爆竹经营安管复训",{"$nulls":9},3,1,{"v":0.333333333333333,"d":"33.3%"},{"$nulls":15},12,10,{"$f":"AD43/AC43","v":{"v":0.833333333333333,"d":"83.3%"}},{"$nulls":21},15,11,{"v":0.733333333333333,"d":"73.3%"}]
["危化生产安管复训",4,4,{"$f":"C44/B44","v":{"v":1,"d":"100.0%"}},{"$nulls":6},10,10,{"v":1,"d":"100.0%"},{"$nulls":18},8,7,{"$f":"AG44/AF44","v":{"v":0.875,"d":"87.5%"}},{"$nulls":6},5,5,{"$f":"AP44/AO44","v":{"v":1,"d":"100.0%"}},{"$nulls":9},27,26,{"v":0.962962962962963,"d":"96.3%"}]
["危化经营安管复训",153,128,{"$f":"C45/B45","v":{"v":0.836601307189543,"d":"83.7%"}},{"$nulls":6},19,19,{"v":1,"d":"100.0%"},{"$nulls":15},35,34,{"$f":"AD45/AC45","v":{"v":0.971428571428571,"d":"97.1%"}},6,5,{"$f":"AG45/AF45","v":{"v":0.833333333333333,"d":"83.3%"}},{"$nulls":6},1,1,{"$f":"AP45/AO45","v":{"v":1,"d":"100.0%"}},{"$nulls":9},214,187,{"v":0.873831775700935,"d":"87.4%"}]
["非煤矿山安管复训",5,5,{"$f":"C46/B46","v":{"v":1,"d":"100.0%"}},{"$nulls":24},1,1,{"$f":"AD46/AC46","v":{"v":1,"d":"100.0%"}},{"$nulls":21},6,6,{"v":1,"d":"100.0%"}]
["金属冶炼安管复训"]
["高危行业安管复训合计",{"$f":"SUM(B43:B47)","v":162},{"$f":"SUM(C43:C47)","v":137},{"$f":"C48/B48","v":{"v":0.845679012345679,"d":"84.6%"}},{"$nulls":6},{"$f":"SUM(K43:K47)","v":32},{"$f":"SUM(L43:L47)","v":30},{"$f":"L48/K48","v":{"v":0.9375,"d":"93.8%"}},{"$nulls":15},{"$f":"SUM(AC43:AC47)","v":48},{"$f":"SUM(AD43:AD47)","v":45},{"$f":"AD48/AC48","v":{"v":0.9375,"d":"93.8%"}},{"$f":"SUM(AF43:AF47)","v":14},{"$f":"SUM(AG43:AG47)","v":12},{"$f":"AG48/AF48","v":{"v":0.857142857142857,"d":"85.7%"}},{"$nulls":6},{"$f":"SUM(AO43:AO47)","v":6},{"$f":"SUM(AP43:AP47)","v":6},{"v":1,"d":"100.0%"},{"$nulls":9},262,230,{"$f":"BB48/BA48","v":{"v":0.877862595419847,"d":"87.8%"}}]
["高危行业安管人员合计",{"$f":"B42+B48","v":190},{"$f":"C42+C48","v":163},{"$f":"C49/B49","v":{"v":0.857894736842105,"d":"85.8%"}},{"$nulls":6},{"$f":"K42+K48","v":87},{"$f":"L42+L48","v":63},{"$f":"L49/K49","v":{"v":0.724137931034483,"d":"72.4%"}},{"$nulls":3},{"$f":"Q42+Q48","v":6},{"$f":"R42+R48","v":6},{"$f":"R49/Q49","v":{"v":1,"d":"100.0%"}},{"$nulls":9},{"$f":"AC42+AC48","v":63},{"$f":"AD42+AD48","v":60},{"$f":"AD49/AC49","v":{"v":0.952380952380952,"d":"95.2%"}},{"$f":"AF42+AF48","v":21},{"$f":"AG42+AG48","v":18},{"$f":"AG49/AF49","v":{"v":0.857142857142857,"d":"85.7%"}},{"$nulls":3},{"$f":"AL42+AL48","v":1},{"$f":"AM42+AM48","v":0},{"$f":"AM49/AL49","v":{"v":0,"d":"0.0%"}},{"$f":"AO42+AO48","v":6},{"$f":"AP42+AP48","v":6},{"v":1,"d":"100.0%"},{"$nulls":6},{"$f":"AX42+AX48","v":4},{"$f":"AY42+AY48","v":4},{"$f":"AY49/AX49","v":{"v":1,"d":"100.0%"}},378,320,{"$f":"BB49/BA49","v":{"v":0.846560846560847,"d":"84.7%"}}]
["高危行业负责人安管合计",{"$f":"B36+B49","v":332},{"$f":"C36+C49","v":301},{"$f":"C50/B50","v":{"v":0.906626506024096,"d":"90.7%"}},{"$nulls":6},{"$f":"K36+K49","v":120},{"$f":"L36+L49","v":92},{"$f":"L50/K50","v":{"v":0.766666666666667,"d":"76.7%"}},{"$nulls":3},{"$f":"Q36+Q49","v":7},{"$f":"R36+R49","v":7},{"$f":"R50/Q50","v":{"v":1,"d":"100.0%"}},{"$nulls":9},{"$f":"AC36+AC49","v":93},{"$f":"AD36+AD49","v":86},{"$f":"AD50/AC50","v":{"v":0.924731182795699,"d":"92.5%"}},{"$f":"AF36+AF49","v":35},{"$f":"AG36+AG49","v":30},{"$f":"AG50/AF50","v":{"v":0.857142857142857,"d":"85.7%"}},{"$nulls":3},{"$f":"AL36+AL49","v":2},{"$f":"AM36+AM49","v":1},{"v":0.5,"d":"50.0%"},{"$f":"AO36+AO49","v":10},{"$f":"AP36+AP49","v":10},{"v":1,"d":"100.0%"},{"$nulls":6},{"$f":"AX36+AX49","v":10},{"$f":"AY36+AY49","v":9},{"$f":"AY50/AX50","v":{"v":0.9,"d":"90.0%"}},609,536,{"$f":"BB50/BA50","v":{"v":0.880131362889984,"d":"88.0%"}}]
["全工种合计",{"$f":"B23+B50","v":887},{"$f":"C23+C50","v":827},{"$f":"C51/B51","v":{"v":0.932356257046223,"d":"93.2%"}},{"$f":"E23+E50","v":317},{"$f":"F23+F50","v":297},{"$f":"F51/E51","v":{"v":0.936908517350158,"d":"93.7%"}},{"$f":"H23+H50","v":12},{"$f":"I23+I50","v":5},{"$f":"I51/H51","v":{"v":0.416666666666667,"d":"41.7%"}},{"$f":"K23+K50","v":492},{"$f":"L23+L50","v":389},{"$f":"L51/K51","v":{"v":0.790650406504065,"d":"79.1%"}},{"$f":"N23+N50","v":129},{"$f":"O23+O50","v":121},{"$f":"O51/N51","v":{"v":0.937984496124031,"d":"93.8%"}},{"$f":"Q23+Q50","v":56},{"$f":"R23+R50","v":53},{"$f":"R51/Q51","v":{"v":0.946428571428571,"d":"94.6%"}},{"$f":"T23+T50","v":57},{"$f":"U23+U50","v":43},{"$f":"U51/T51","v":{"v":0.754385964912281,"d":"75.4%"}},{"$nulls":3},{"$f":"Z23+Z50","v":58},{"$f":"AA23+AA50","v":48},{"$f":"AA51/Z51","v":{"v":0.827586206896552,"d":"82.8%"}},{"$f":"AC23+AC50","v":213},{"$f":"AD23+AD50","v":197},{"$f":"AD51/AC51","v":{"v":0.924882629107981,"d":"92.5%"}},{"$f":"AF23+AF50","v":168},{"$f":"AG23+AG50","v":156},{"$f":"AG51/AF51","v":{"v":0.928571428571429,"d":"92.9%"}},{"$f":"AI23+AI50","v":125},{"$f":"AJ23+AJ50","v":101},{"$f":"AJ51/AI51","v":{"v":0.808,"d":"80.8%"}},{"$f":"AL23+AL50","v":135},{"$f":"AM23+AM50","v":109},{"v":0.807407407407407,"d":"80.7%"},{"$f":"AO23+AO50","v":24},{"$f":"AP23+AP50","v":20},{"v":0.833333333333333,"d":"83.3%"},{"$nulls":3},{"$f":"AU23+AU50","v":2},{"$f":"AV23+AV50","v":2},{"$f":"AV51/AU51","v":{"v":1,"d":"100.0%"}},{"$f":"AX23+AX50","v":24},{"$f":"AY23+AY50","v":22},{"$f":"AY51/AX51","v":{"v":0.916666666666667,"d":"91.7%"}},2699,2390,{"$f":"BB51/BA51","v":{"v":0.885513153019637,"d":"88.6%"}}]
["备注：\n1.培训机构名称以全国安全生产培训考试信息管理系统记录为准，按系统顺序排序；\n2.实考人数=报考总人数-正考补考均缺考人数-考试违规被取消成绩人数；\n3.仅统计已完成考试者，还有补考机会者不统计。"]

{"sheet":"10月","index":9,"n_rows":52,"n_cols":58,"rows_kept":52,"merged":[[0,0,0,57],[1,0,2,0],[1,1,1,3],[1,4,1,6],[1,7,1,9],[1,10,1,12],[1,13,1,15],[1,16,1,18],[1,19,1,21],[1,22,1,24],[1,25,1,27],[1,28,1,30],[1,31,1,33],[1,34,1,36],[1,37,1,39],[1,40,1,42],[1,43,1,45],[1,46,1,48],[1,49,1,51],[1,52,1,54],[1,55,1,57],[51,0,51,57]]}
["2022年10月各安全培训机构考生通过率统计表"]
["            培训机构\n    工种","江门市安信职业安全培训有限公司",null,null,"广东四维培训有限公司",null,null,"江门市技师学院",null,null,"江门市江海区共升教育培训中心",null,null,"江门市侨都安全咨询服务有限公司",null,null,"江门市安全生产管理协会",null,null,"江门市新会技师学院",null,null,"江门市新会机电职业技术学校",null,null,"鹤山市优创职业培训学校有限公司",null,null,"台山市安全生产管理协会",null,null,"鹤山市安全生产管理协会",null,null,"江门市江海区万众职业培训学校",null,null,"开平市中邑安安全技术咨询有限公司",null,null,"江门市江海区安全生产管理协会",null,null,"江门市天晟安全事务有限公司",null,null,"恩平市科瑞职业技术培训学校",null,null,"江门市金迪安全科技有限公司",null,null,"江门市易考安全技术服务有限公司",null,null,"全市合计"]
[null,"实考人数","合格人数","通过率","实考人数","合格人数","通过率","实考人数","合格人数","通过率","实考人数","合格人数","通过率","实考人数","合格人数","通过率","实考人数","合格人数","通过率","实考人数","合格人数","通过率","实考人数","合格人数","通过率","实考人数","合格人数","通过率","实考人数","合格人数","通过率","实考人数","合格人数","通过率","实考人数","合格人数","通过率","实考人数","合格人数","通过率","实考人数","合格人数","通过率","实考人数","合格人数","通过率","实考人数","合格人数","通过率","实考人数","合格人数","通过率","实考人数","合格人数","通过率","实考人数","合格人数","通过率"]
["低压电工初训",45,27,{"$f":"C4/B4","v":{"v":0.6,"d":"60.0%"}},{"$nulls":6},84,26,{"$f":"L4/K4","v":{"v":0.30952380952381,"d":"31.0%"}},36,29,{"$f":"O4/N4","v":{"v":0.805555555555556,"d":"80.6%"}},4,4,{"$f":"R4/Q4","v":{"v":1,"d":"100.0%"}},{"$nulls":3},126,109,{"$f":"X4/W4","v":{"v":0.865079365079365,"d":"86.5%"}},41,36,{"$f":"AA4/Z4","v":{"v":0.878048780487805,"d":"87.8%"}},15,5,{"$f":"AD4/AC4","v":{"v":0.333333333333333,"d":"33.3%"}},1,0,{"$f":"AG4/AF4","v":{"v":0,"d":"0.0%"}},{"$nulls":3},5,3,{"$f":"AM4/AL4","v":{"v":0.6,"d":"60.0%"}},2,2,{"$f":"AP4/AO4","v":{"v":1,"d":"100.0%"}},{"$nulls":12},{"$f":"B4+E4+H4+K4+N4+Q4+T4+W4+Z4+AC4+AF4+AI4+AL4+AO4+AR4+AU4+AX4+BA4","v":359},{"$f":"C4+F4+I4+L4+O4+R4+U4+X4+AA4+AD4+AG4+AJ4+AM4+AP4+AS4+AV4+AY4+BB4","v":241},{"$f":"BE4/BD4","v":{"v":0.671309192200557,"d":"67.1%"}}]
["高压电工初训",{"$nulls":15},1,1,{"v":1,"d":"100.0%"},{"$nulls":36},1,1,{"v":1,"d":"100.0%"}]
["电力电缆初训"]
["熔化焊接与热切割初训",1,0,{"v":0,"d":"0.0%"},{"$nulls":3},35,9,{"$f":"I7/H7","v":{"v":0.257142857142857,"d":"25.7%"}},28,24,{"v":0.857142857142857,"d":"85.7%"},11,6,{"v":0.545454545454545,"d":"54.5%"},{"$nulls":9},32,20,{"v":0.625,"d":"62.5%"},{"$nulls":6},65,44,{"$f":"AJ7/AI7","v":{"v":0.676923076923077,"d":"67.7%"}},{"$nulls":18},172,103,{"v":0.598837209302326,"d":"59.9%"}]
["高处安装维护拆除初训",38,34,{"v":0.894736842105263,"d":"89.5%"},147,143,{"$f":"F8/E8","v":{"v":0.972789115646258,"d":"97.3%"}},{"$nulls":3},31,27,{"v":0.870967741935484,"d":"87.1%"},{"$nulls":3},2,2,{"v":1,"d":"100.0%"},{"$nulls":18},23,22,{"v":0.956521739130435,"d":"95.7%"},{"$nulls":15},241,228,{"v":0.946058091286307,"d":"94.6%"}]
["特种作业初训合计",{"$f":"SUM(B4:B8)","v":84},61,{"v":0.726190476190476,"d":"72.6%"},147,143,{"v":0.972789115646258,"d":"97.3%"},{"$f":"SUM(H4:H8)","v":35},9,{"v":0.257142857142857,"d":"25.7%"},143,77,{"v":0.538461538461538,"d":"53.8%"},{"$f":"SUM(N4:N8)","v":47},35,{"$f":"O9/N9","v":{"v":0.74468085106383,"d":"74.5%"}},7,7,{"v":1,"d":"100.0%"},{"$nulls":3},{"$f":"SUM(W4:W8)","v":126},109,{"$f":"X9/W9","v":{"v":0.865079365079365,"d":"86.5%"}},{"$f":"SUM(Z4:Z8)","v":73},56,{"v":0.767123287671233,"d":"76.7%"},15,5,{"$f":"AD9/AC9","v":{"v":0.333333333333333,"d":"33.3%"}},{"$f":"SUM(AF4:AF8)","v":1},0,{"v":0,"d":"0.0%"},65,44,{"v":0.676923076923077,"d":"67.7%"},{"$f":"SUM(AL4:AL8)","v":28},25,{"v":0.892857142857143,"d":"89.3%"},2,2,{"v":1,"d":"100.0%"},{"$nulls":12},773,573,{"v":0.741267787839586,"d":"74.1%"}]
["低压电工复训",150,148,{"v":0.986666666666667,"d":"98.7%"},29,25,{"v":0.862068965517241,"d":"86.2%"},{"$nulls":3},2,2,{"v":1,"d":"100.0%"},120,116,{"v":0.966666666666667,"d":"96.7%"},10,10,{"v":1,"d":"100.0%"},30,29,{"$f":"U10/T10","v":{"v":0.966666666666667,"d":"96.7%"}},{"$nulls":3},7,7,{"v":1,"d":"100.0%"},75,69,{"v":0.92,"d":"92.0%"},48,47,{"v":0.979166666666667,"d":"97.9%"},7,7,{"v":1,"d":"100.0%"},13,13,{"v":1,"d":"100.0%"},1,1,{"v":1,"d":"100.0%"},{"$nulls":3},2,2,{"$f":"AV10/AU10","v":{"v":1,"d":"100.0%"}},3,3,{"$f":"AY10/AX10","v":{"v":1,"d":"100.0%"}},27,26,{"$f":"BB10/BA10","v":{"v":0.962962962962963,"d":"96.3%"}},524,505,{"v":0.963740458015267,"d":"96.4%"}]
["高压电工复训",35,32,{"v":0.914285714285714,"d":"91.4%"},29,25,{"v":0.862068965517241,"d":"86.2%"},{"$nulls":3},1,1,{"v":1,"d":"100.0%"},13,13,{"v":1,"d":"100.0%"},17,15,{"v":0.882352941176471,"d":"88.2%"},5,4,{"v":0.8,"d":"80.0%"},{"$nulls":6},6,6,{"v":1,"d":"100.0%"},3,3,{"v":1,"d":"100.0%"},{"$nulls":3},8,8,{"v":1,"d":"100.0%"},{"$nulls":15},117,107,{"v":0.914529914529915,"d":"91.5%"}]
["熔化焊接与热切割复训",77,73,{"v":0.948051948051948,"d":"94.8%"},{"$nulls":6},7,7,{"v":1,"d":"100.0%"},11,9,{"v":0.818181818181818,"d":"81.8%"},{"$nulls":3},6,6,{"v":1,"d":"100.0%"},{"$nulls":6},9,9,{"v":1,"d":"100.0%"},13,13,{"v":1,"d":"100.0%"},10,10,{"$f":"AJ12/AI12","v":{"v":1,"d":"100.0%"}},6,6,{"v":1,"d":"100.0%"},4,4,{"$f":"AP12/AO12","v":{"v":1,"d":"100.0%"}},{"$nulls":6},1,1,{"v":1,"d":"100.0%"},4,3,{"$f":"BB12/BA12","v":{"v":0.75,"d":"75.0%"}},148,141,{"v":0.952702702702703,"d":"95.3%"}]
["钎焊复训"]
["高处安装维护拆除复训",11,11,{"$f":"C14/B14","v":{"v":1,"d":"100.0%"}},14,14,{"$f":"F14/E14","v":{"v":1,"d":"100.0%"}},{"$nulls":12},9,9,{"$f":"U14/T14","v":{"v":1,"d":"100.0%"}},{"$nulls":33},34,34,{"v":1,"d":"100.0%"}]
["登高架设复训",1,1,{"v":1,"d":"100.0%"},{"$nulls":51},1,1,{"v":1,"d":"100.0%"}]
["制冷与空调运行操作复训"]
["制冷与空调安装修理复训",1,1,{"v":1,"d":"100.0%"},{"$nulls":51},1,1,{"v":1,"d":"100.0%"}]
["矿山安检复训",2,2,{"v":1,"d":"100.0%"},{"$nulls":51},2,2,{"v":1,"d":"100.0%"}]
["电力电缆复训",1,1,{"v":1,"d":"100.0%"},{"$nulls":51},1,1,{"v":1,"d":"100.0%"}]
["电气试验复训",{"$nulls":15},1,1,{"$f":"R20/Q20","v":{"v":1,"d":"100.0%"}},{"$nulls":36},1,1,{"v":1,"d":"100.0%"}]
["继电保护复训"]
["特种作业复训合计",{"$f":"SUM(B10:B21)","v":278},269,{"$f":"C22/B22","v":{"v":0.967625899280576,"d":"96.8%"}},72,64,{"$f":"F22/E22","v":{"v":0.888888888888889,"d":"88.9%"}},{"$nulls":3},{"$f":"SUM(K10:K21)","v":10},10,{"$f":"L22/K22","v":{"v":1,"d":"100.0%"}},144,138,{"$f":"O22/N22","v":{"v":0.958333333333333,"d":"95.8%"}},{"$f":"SUM(Q10:Q21)","v":28},26,{"$f":"R22/Q22","v":{"v":0.928571428571429,"d":"92.9%"}},50,48,{"$f":"U22/T22","v":{"v":0.96,"d":"96.0%"}},{"$nulls":3},{"$f":"SUM(Z10:Z21)","v":7},7,{"$f":"AA22/Z22","v":{"v":1,"d":"100.0%"}},90,84,{"$f":"AD22/AC22","v":{"v":0.933333333333333,"d":"93.3%"}},{"$f":"SUM(AF10:AF21)","v":64},63,{"$f":"AG22/AF22","v":{"v":0.984375,"d":"98.4%"}},17,17,{"$f":"AJ22/AI22","v":{"v":1,"d":"100.0%"}},{"$f":"SUM(AL10:AL21)","v":27},27,{"$f":"AM22/AL22","v":{"v":1,"d":"100.0%"}},5,5,{"$f":"AP22/AO22","v":{"v":1,"d":"100.0%"}},{"$nulls":3},{"$f":"SUM(AU10:AU21)","v":2},2,{"$f":"AV22/AU22","v":{"v":1,"d":"100.0%"}},4,4,{"$f":"AY22/AX22","v":{"v":1,"d":"100.0%"}},{"$f":"SUM(BA10:BA21)","v":31},{"$f":"SUM(BB10:BB21)","v":29},{"$f":"BB22/BA22","v":{"v":0.935483870967742,"d":"93.5%"}},829,793,{"v":0.956574185765983,"d":"95.7%"}]
["特种作业人员合计",{"$f":"B9+B22","v":362},330,{"v":0.911602209944751,"d":"91.2%"},219,207,{"v":0.945205479452055,"d":"94.5%"},{"$f":"H9+H22","v":35},9,{"$f":"I23/H23","v":{"v":0.257142857142857,"d":"25.7%"}},153,87,{"v":0.568627450980392,"d":"56.9%"},{"$f":"N9+N22","v":191},173,{"$f":"O23/N23","v":{"v":0.905759162303665,"d":"90.6%"}},35,33,{"v":0.942857142857143,"d":"94.3%"},{"$f":"T9+T22","v":50},{"$f":"U9+U22","v":48},{"$f":"U23/T23","v":{"v":0.96,"d":"96.0%"}},{"$f":"W9+W22","v":126},109,{"$f":"X23/W23","v":{"v":0.865079365079365,"d":"86.5%"}},{"$f":"Z9+Z22","v":80},63,{"$f":"AA23/Z23","v":{"v":0.7875,"d":"78.8%"}},105,89,{"v":0.847619047619048,"d":"84.8%"},{"$f":"AF9+AF22","v":65},63,{"v":0.969230769230769,"d":"96.9%"},82,61,{"$f":"AJ23/AI23","v":{"v":0.74390243902439,"d":"74.4%"}},{"$f":"AL9+AL22","v":55},52,{"v":0.945454545454545,"d":"94.5%"},7,7,{"v":1,"d":"100.0%"},{"$nulls":3},{"$f":"AU9+AU22","v":2},2,{"v":1,"d":"100.0%"},4,4,{"v":1,"d":"100.0%"},{"$f":"BA9+BA22","v":31},{"$f":"BB9+BB22","v":29},{"v":0.935483870967742,"d":"93.5%"},1602,1366,{"v":0.852684144818976,"d":"85.3%"}]
["烟花爆竹经营负责人初训",4,4,{"v":1,"d":"100.0%"},{"$nulls":36},1,1,{"v":1,"d":"100.0%"},{"$nulls":3},1,1,{"v":1,"d":"100.0%"},{"$nulls":6},6,6,{"v":1,"d":"100.0%"}]
["危化生产负责人初训",1,1,{"v":1,"d":"100.0%"},{"$nulls":6},1,1,{"v":1,"d":"100.0%"},{"$nulls":18},1,0,{"v":0,"d":"0.0%"},{"$nulls":21},3,2,{"v":0.666666666666667,"d":"66.7%"}]
["危化经营负责人初训",4,4,{"$f":"C26/B26","v":{"v":1,"d":"100.0%"}},{"$nulls":6},3,3,{"v":1,"d":"100.0%"},{"$nulls":3},1,1,{"v":1,"d":"100.0%"},{"$nulls":9},4,2,{"$f":"AD26/AC26","v":{"v":0.5,"d":"50.0%"}},3,3,{"v":1,"d":"100.0%"},{"$nulls":6},1,1,{"v":1,"d":"100.0%"},{"$nulls":12},16,14,{"v":0.875,"d":"87.5%"}]
["非煤矿山负责人初训",{"$nulls":36},1,0,{"$f":"AM27/AL27","v":{"v":0,"d":"0.0%"}},{"$nulls":15},1,0,{"v":0,"d":"0.0%"}]
["金属冶炼负责人初训",{"$nulls":9},1,0,{"$f":"L28/K28","v":{"v":0,"d":"0.0%"}},{"$nulls":42},1,0,{"v":0,"d":"0.0%"}]
["高危行业负责人初训合计",{"$f":"SUM(B24:B28)","v":9},{"$f":"SUM(C24:C28)","v":9},{"v":1,"d":"100.0%"},{"$nulls":6},{"$f":"SUM(K24:K28)","v":5},{"$f":"SUM(L24:L28)","v":4},{"v":0.8,"d":"80.0%"},{"$nulls":3},{"$f":"SUM(Q24:Q28)","v":1},{"$f":"SUM(R24:R28)","v":1},{"$f":"R29/Q29","v":{"v":1,"d":"100.0%"}},{"$nulls":9},{"$f":"SUM(AC24:AC28)","v":4},2,{"v":0.5,"d":"50.0%"},4,3,{"$f":"AG29/AF29","v":{"v":0.75,"d":"75.0%"}},{"$nulls":3},{"$f":"SUM(AL24:AL28)","v":1},0,{"$f":"AM29/AL29","v":{"v":0,"d":"0.0%"}},2,2,{"$f":"AP29/AO29","v":{"v":1,"d":"100.0%"}},{"$nulls":3},{"$f":"SUM(AU24:AU28)","v":1},{"$f":"SUM(AV24:AV28)","v":1},{"$f":"AV29/AU29","v":{"v":1,"d":"100.0%"}},{"$nulls":6},27,22,{"v":0.814814814814815,"d":"81.5%"}]
["烟花爆竹经营负责人复训"]
["危化生产负责人复训",7,7,{"v":1,"d":"100.0%"},{"$nulls":6},1,1,{"v":1,"d":"100.0%"},{"$nulls":15},1,1,{"v":1,"d":"100.0%"},{"$nulls":24},9,9,{"v":1,"d":"100.0%"}]
["危化经营负责人复训",35,34,{"v":0.971428571428571,"d":"97.1%"},{"$nulls":6},14,14,{"v":1,"d":"100.0%"},{"$nulls":18},1,1,{"v":1,"d":"100.0%"},{"$nulls":21},50,49,{"v":0.98,"d":"98.0%"}]
["非煤矿山负责人复训",{"$nulls":9},1,1,{"v":1,"d":"100.0%"},{"$nulls":42},1,1,{"v":1,"d":"100.0%"}]
["金属冶炼负责人复训"]
["高危行业负责人复训合计",{"$f":"SUM(B30:B34)","v":42},{"$f":"SUM(C30:C34)","v":41},{"$f":"C35/B35","v":{"v":0.976190476190476,"d":"97.6%"}},{"$nulls":6},{"$f":"SUM(K30:K34)","v":16},{"$f":"SUM(L30:L34)","v":16},{"$f":"L35/K35","v":{"v":1,"d":"100.0%"}},{"$nulls":15},{"$f":"SUM(AC30:AC34)","v":1},1,{"$f":"AD35/AC35","v":{"v":1,"d":"100.0%"}},1,1,{"$f":"AG35/AF35","v":{"v":1,"d":"100.0%"}},{"$nulls":21},60,59,{"v":0.983333333333333,"d":"98.3%"}]
["高危行业主要负责人合计",{"$f":"B29+B35","v":51},{"$f":"C29+C35","v":50},{"v":0.980392156862745,"d":"98.0%"},{"$nulls":6},{"$f":"K29+K35","v":21},{"$f":"L29+L35","v":20},{"v":0.952380952380952,"d":"95.2%"},{"$nulls":3},{"$f":"Q29+Q35","v":1},{"$f":"R29+R35","v":1},{"$f":"R36/Q36","v":{"v":1,"d":"100.0%"}},{"$nulls":9},{"$f":"AC29+AC35","v":5},3,{"v":0.6,"d":"60.0%"},5,4,{"v":0.8,"d":"80.0%"},{"$nulls":3},{"$f":"AL29+AL35","v":1},0,{"$f":"AM36/AL36","v":{"v":0,"d":"0.0%"}},2,2,{"$f":"AP36/AO36","v":{"v":1,"d":"100.0%"}},{"$nulls":3},{"$f":"AU29+AU35","v":1},{"$f":"AV29+AV35","v":1},{"$f":"AV36/AU36","v":{"v":1,"d":"100.0%"}},{"$nulls":6},87,81,{"v":0.931034482758621,"d":"93.1%"}]
["烟花爆竹经营安管初训",3,2,{"v":0.666666666666667,"d":"66.7%"},{"$nulls":27},1,1,{"v":1,"d":"100.0%"},{"$nulls":12},1,1,{"$f":"AV37/AU37","v":{"v":1,"d":"100.0%"}},{"$nulls":6},5,4,{"v":0.8,"d":"80.0%"}]
["危化生产安管初训",3,3,{"v":1,"d":"100.0%"},{"$nulls":6},1,1,{"v":1,"d":"100.0%"},{"$nulls":18},2,2,{"v":1,"d":"100.0%"},{"$nulls":6},1,1,{"v":1,"d":"100.0%"},{"$nulls":12},7,7,{"v":1,"d":"100.0%"}]
["危化经营安管初训",28,19,{"v":0.678571428571429,"d":"67.9%"},{"$nulls":6},8,7,{"v":0.875,"d":"87.5%"},{"$nulls":3},2,2,{"v":1,"d":"100.0%"},{"$nulls":9},14,12,{"v":0.857142857142857,"d":"85.7%"},1,1,{"v":1,"d":"100.0%"},{"$nulls":6},2,2,{"v":1,"d":"100.0%"},{"$nulls":12},55,43,{"v":0.781818181818182,"d":"78.2%"}]
["非煤矿山安管初训",1,1,{"v":1,"d":"100.0%"},{"$nulls":51},1,1,{"v":1,"d":"100.0%"}]
["金属冶炼安管初训",{"$nulls":9},1,1,{"$f":"L41/K41","v":{"v":1,"d":"100.0%"}},{"$nulls":42},1,1,{"v":1,"d":"100.0%"}]
["高危行业安管初训合计",{"$f":"SUM(B37:B41)","v":35},{"$f":"SUM(C37:C41)","v":25},{"$f":"C42/B42","v":{"v":0.714285714285714,"d":"71.4%"}},{"$nulls":6},{"$f":"SUM(K37:K41)","v":10},{"$f":"SUM(L37:L41)","v":9},{"$f":"L42/K42","v":{"v":0.9,"d":"90.0%"}},{"$nulls":3},{"$f":"SUM(Q37:Q41)","v":2},{"$f":"SUM(R37:R41)","v":2},{"v":1,"d":"100.0%"},{"$nulls":9},{"$f":"SUM(AC37:AC41)","v":14},12,{"$f":"AD42/AC42","v":{"v":0.857142857142857,"d":"85.7%"}},4,4,{"$f":"AG42/AF42","v":{"v":1,"d":"100.0%"}},{"$nulls":6},{"$f":"SUM(AO37:AO41)","v":3},3,{"$f":"AP42/AO42","v":{"v":1,"d":"100.0%"}},{"$nulls":3},{"$f":"SUM(AU37:AU41)","v":1},{"$f":"SUM(AV37:AV41)","v":1},{"$f":"AV42/AU42","v":{"v":1,"d":"100.0%"}},{"$nulls":6},69,56,{"v":0.811594202898551,"d":"81.2%"}]
["烟花爆竹经营安管复训"]
["危化生产安管复训",19,19,{"v":1,"d":"100.0%"},{"$nulls":27},4,4,{"v":1,"d":"100.0%"},{"$nulls":21},23,23,{"v":1,"d":"100.0%"}]
["危化经营安管复训",55,49,{"v":0.890909090909091,"d":"89.1%"},{"$nulls":6},29,27,{"v":0.931034482758621,"d":"93.1%"},{"$nulls":18},1,1,{"v":1,"d":"100.0%"},{"$nulls":6},1,1,{"$f":"AP45/AO45","v":{"v":1,"d":"100.0%"}},{"$nulls":12},86,78,{"v":0.906976744186046,"d":"90.7%"}]
["非煤矿山安管复训",{"$nulls":9},1,1,{"v":1,"d":"100.0%"},{"$nulls":42},1,1,{"v":1,"d":"100.0%"}]
["金属冶炼安管复训"]
["高危行业安管复训合计",{"$f":"SUM(B43:B47)","v":74},{"$f":"SUM(C43:C47)","v":68},{"$f":"C48/B48","v":{"v":0.918918918918919,"d":"91.9%"}},{"$nulls":6},{"$f":"SUM(K43:K47)","v":30},{"$f":"SUM(L43:L47)","v":28},{"$f":"L48/K48","v":{"v":0.933333333333333,"d":"93.3%"}},{"$nulls":18},{"$f":"SUM(AF43:AF47)","v":5},5,{"$f":"AG48/AF48","v":{"v":1,"d":"100.0%"}},{"$nulls":6},{"$f":"SUM(AO43:AO47)","v":1},{"$f":"SUM(AP43:AP47)","v":1},{"v":1,"d":"100.0%"},{"$nulls":12},110,102,{"v":0.927272727272727,"d":"92.7%"}]
["高危行业安管人员合计",{"$f":"B42+B48","v":109},{"$f":"C42+C48","v":93},{"v":0.853211009174312,"d":"85.3%"},{"$nulls":6},{"$f":"K42+K48","v":40},{"$f":"L42+L48","v":37},{"v":0.925,"d":"92.5%"},{"$nulls":3},{"$f":"Q42+Q48","v":2},{"$f":"R42+R48","v":2},{"$f":"R49/Q49","v":{"v":1,"d":"100.0%"}},{"$nulls":9},{"$f":"AC42+AC48","v":14},12,{"$f":"AD49/AC49","v":{"v":0.857142857142857,"d":"85.7%"}},9,9,{"v":1,"d":"100.0%"},{"$nulls":6},{"$f":"AO42+AO48","v":4},4,{"v":1,"d":"100.0%"},{"$nulls":3},{"$f":"AU42+AU48","v":1},1,{"$f":"AV49/AU49","v":{"v":1,"d":"100.0%"}},{"$nulls":6},179,158,{"v":0.88268156424581,"d":"88.3%"}]
["高危行业负责人安管合计",{"$f":"B36+B49","v":160},{"$f":"C36+C49","v":143},{"v":0.89375,"d":"89.4%"},{"$nulls":6},{"$f":"K36+K49","v":61},{"$f":"L36+L49","v":57},{"v":0.934426229508197,"d":"93.4%"},{"$nulls":3},{"$f":"Q36+Q49","v":3},{"$f":"R36+R49","v":3},{"v":1,"d":"100.0%"},{"$nulls":9},{"$f":"AC36+AC49","v":19},15,{"v":0.789473684210526,"d":"78.9%"},14,13,{"v":0.928571428571429,"d":"92.9%"},{"$nulls":3},{"$f":"AL36+AL49","v":1},0,{"$f":"AM50/AL50","v":{"v":0,"d":"0.0%"}},6,6,{"v":1,"d":"100.0%"},{"$nulls":3},{"$f":"AU36+AU49","v":2},2,{"v":1,"d":"100.0%"},{"$nulls":6},266,239,{"v":0.898496240601504,"d":"89.8%"}]
["全工种合计",{"$f":"B23+B50","v":522},473,{"v":0.906130268199234,"d":"90.6%"},219,207,{"$f":"F51/E51","v":{"v":0.945205479452055,"d":"94.5%"}},{"$f":"H23+H50","v":35},9,{"$f":"I51/H51","v":{"v":0.257142857142857,"d":"25.7%"}},214,144,{"v":0.672897196261682,"d":"67.3%"},{"$f":"N23+N50","v":191},173,{"$f":"O51/N51","v":{"v":0.905759162303665,"d":"90.6%"}},38,36,{"v":0.947368421052632,"d":"94.7%"},{"$f":"T23+T50","v":50},{"$f":"U23+U50","v":48},{"$f":"U51/T51","v":{"v":0.96,"d":"96.0%"}},{"$f":"W23+W50","v":126},109,{"$f":"X51/W51","v":{"v":0.865079365079365,"d":"86.5%"}},{"$f":"Z23+Z50","v":80},63,{"$f":"AA51/Z51","v":{"v":0.7875,"d":"78.8%"}},124,104,{"v":0.838709677419355,"d":"83.9%"},{"$f":"AF23+AF50","v":79},76,{"v":0.962025316455696,"d":"96.2%"},82,61,{"$f":"AJ51/AI51","v":{"v":0.74390243902439,"d":"74.4%"}},{"$f":"AL23+AL50","v":56},52,{"v":0.928571428571429,"d":"92.9%"},13,13,{"v":1,"d":"100.0%"},{"$nulls":3},{"$f":"AU23+AU50","v":4},4,{"v":1,"d":"100.0%"},4,4,{"$f":"AY51/AX51","v":{"v":1,"d":"100.0%"}},{"$f":"BA23+BA50","v":31},{"$f":"BB23+BB50","v":29},{"$f":"BB51/BA51","v":{"v":0.935483870967742,"d":"93.5%"}},1868,1605,{"v":0.859207708779443,"d":"85.9%"}]
["备注：\n1.培训机构名称以全国安全生产培训考试信息管理系统记录为准，按系统顺序排序；\n2.实考人数=报考总人数-正考补考均缺考人数-考试违规被取消成绩人数；\n3.仅统计已完成考试者，还有补考机会者不统计。"]

{"sheet":"11月","index":10,"n_rows":52,"n_cols":58,"rows_kept":52,"merged":[[0,0,0,57],[1,0,2,0],[1,1,1,3],[1,4,1,6],[1,7,1,9],[1,10,1,12],[1,13,1,15],[1,16,1,18],[1,19,1,21],[1,22,1,24],[1,25,1,27],[1,28,1,30],[1,31,1,33],[1,34,1,36],[1,37,1,39],[1,40,1,42],[1,43,1,45],[1,46,1,48],[1,49,1,51],[1,52,1,54],[1,55,1,57],[51,0,51,57]]}
["2022年11月各安全培训机构考生通过率统计表"]
["            培训机构\n    工种","江门市安信职业安全培训有限公司",null,null,"广东四维培训有限公司",null,null,"江门市技师学院",null,null,"江门市江海区共升教育培训中心",null,null,"江门市侨都安全咨询服务有限公司",null,null,"江门市安全生产管理协会",null,null,"江门市新会技师学院",null,null,"江门市新会机电职业技术学校",null,null,"鹤山市优创职业培训学校有限公司",null,null,"台山市安全生产管理协会",null,null,"鹤山市安全生产管理协会",null,null,"江门市江海区万众职业培训学校",null,null,"开平市中邑安安全技术咨询有限公司",null,null,"江门市江海区安全生产管理协会",null,null,"江门市天晟安全事务有限公司",null,null,"恩平市科瑞职业技术培训学校",null,null,"江门市金迪安全科技有限公司",null,null,"江门市易考安全技术服务有限公司",null,null,"全市合计"]
[null,"实考人数","合格人数","通过率","实考人数","合格人数","通过率","实考人数","合格人数","通过率","实考人数","合格人数","通过率","实考人数","合格人数","通过率","实考人数","合格人数","通过率","实考人数","合格人数","通过率","实考人数","合格人数","通过率","实考人数","合格人数","通过率","实考人数","合格人数","通过率","实考人数","合格人数","通过率","实考人数","合格人数","通过率","实考人数","合格人数","通过率","实考人数","合格人数","通过率","实考人数","合格人数","通过率","实考人数","合格人数","通过率","实考人数","合格人数","通过率","实考人数","合格人数","通过率","实考人数","合格人数","通过率"]
["低压电工初训",41,26,{"$f":"C4/B4","v":{"v":0.634146341463415,"d":"63.4%"}},1,1,{"$f":"F4/E4","v":{"v":1,"d":"100.0%"}},{"$nulls":3},72,57,{"$f":"L4/K4","v":{"v":0.791666666666667,"d":"79.2%"}},{"$nulls":9},21,19,{"$f":"X4/W4","v":{"v":0.904761904761905,"d":"90.5%"}},35,32,{"$f":"AA4/Z4","v":{"v":0.914285714285714,"d":"91.4%"}},43,25,{"$f":"AD4/AC4","v":{"v":0.581395348837209,"d":"58.1%"}},19,7,{"$f":"AG4/AF4","v":{"v":0.368421052631579,"d":"36.8%"}},51,27,{"$f":"AJ4/AI4","v":{"v":0.529411764705882,"d":"52.9%"}},48,45,{"$f":"AM4/AL4","v":{"v":0.9375,"d":"93.8%"}},3,3,{"$f":"AP4/AO4","v":{"v":1,"d":"100.0%"}},{"$nulls":9},82,63,{"$f":"BB4/BA4","v":{"v":0.768292682926829,"d":"76.8%"}},{"$f":"B4+E4+H4+K4+N4+Q4+T4+W4+Z4+AC4+AF4+AI4+AL4+AO4+AR4+AU4+AX4+BA4","v":416},{"$f":"C4+F4+I4+L4+O4+R4+U4+X4+AA4+AD4+AG4+AJ4+AM4+AP4+AS4+AV4+AY4+BB4","v":305},{"$f":"BE4/BD4","v":{"v":0.733173076923077,"d":"73.3%"}}]
["高压电工初训",{"$nulls":9},22,20,{"v":0.909090909090909,"d":"90.9%"},21,20,{"$f":"O5/N5","v":{"v":0.952380952380952,"d":"95.2%"}},{"$nulls":3},37,28,{"$f":"U5/T5","v":{"v":0.756756756756757,"d":"75.7%"}},{"$nulls":33},80,68,{"v":0.85,"d":"85.0%"}]
["电力电缆初训",{"$nulls":3},35,30,{"$f":"F6/E6","v":{"v":0.857142857142857,"d":"85.7%"}},{"$nulls":48},35,30,{"v":0.857142857142857,"d":"85.7%"}]
["熔化焊接与热切割初训",49,39,{"v":0.795918367346939,"d":"79.6%"},{"$nulls":9},2,2,{"v":1,"d":"100.0%"},{"$nulls":3},13,7,{"$f":"U7/T7","v":{"v":0.538461538461538,"d":"53.8%"}},{"$nulls":3},19,15,{"v":0.789473684210526,"d":"78.9%"},{"$nulls":3},28,26,{"$f":"AG7/AF7","v":{"v":0.928571428571429,"d":"92.9%"}},35,29,{"$f":"AJ7/AI7","v":{"v":0.828571428571429,"d":"82.9%"}},33,29,{"$f":"AM7/AL7","v":{"v":0.878787878787879,"d":"87.9%"}},3,3,{"$f":"AP7/AO7","v":{"v":1,"d":"100.0%"}},{"$nulls":9},8,7,{"$f":"BB7/BA7","v":{"v":0.875,"d":"87.5%"}},190,157,{"v":0.826315789473684,"d":"82.6%"}]
["高处安装维护拆除初训",40,33,{"v":0.825,"d":"82.5%"},106,102,{"$f":"F8/E8","v":{"v":0.962264150943396,"d":"96.2%"}},{"$nulls":9},2,2,{"$f":"R8/Q8","v":{"v":1,"d":"100.0%"}},{"$nulls":33},66,57,{"$f":"BB8/BA8","v":{"v":0.863636363636364,"d":"86.4%"}},214,194,{"v":0.906542056074766,"d":"90.7%"}]
["特种作业初训合计",{"$f":"SUM(B4:B8)","v":130},98,{"v":0.753846153846154,"d":"75.4%"},142,133,{"v":0.936619718309859,"d":"93.7%"},{"$nulls":3},{"$f":"SUM(K4:K8)","v":94},77,{"v":0.819148936170213,"d":"81.9%"},{"$f":"SUM(N4:N8)","v":23},22,{"v":0.956521739130435,"d":"95.7%"},2,2,{"v":1,"d":"100.0%"},50,35,{"$f":"U9/T9","v":{"v":0.7,"d":"70.0%"}},{"$f":"SUM(W4:W8)","v":21},19,{"$f":"X9/W9","v":{"v":0.904761904761905,"d":"90.5%"}},54,47,{"v":0.87037037037037,"d":"87.0%"},{"$f":"SUM(AC4:AC8)","v":43},25,{"$f":"AD9/AC9","v":{"v":0.581395348837209,"d":"58.1%"}},47,33,{"$f":"AG9/AF9","v":{"v":0.702127659574468,"d":"70.2%"}},{"$f":"SUM(AI4:AI8)","v":86},56,{"v":0.651162790697674,"d":"65.1%"},81,74,{"v":0.91358024691358,"d":"91.4%"},{"$f":"SUM(AO4:AO8)","v":6},{"$f":"SUM(AP4:AP8)","v":6},{"$f":"AP9/AO9","v":{"v":1,"d":"100.0%"}},{"$nulls":9},{"$f":"SUM(BA4:BA8)","v":156},{"$f":"SUM(BB4:BB8)","v":127},{"$f":"BB9/BA9","v":{"v":0.814102564102564,"d":"81.4%"}},935,754,{"v":0.806417112299465,"d":"80.6%"}]
["低压电工复训",139,138,{"v":0.992805755395683,"d":"99.3%"},27,27,{"v":1,"d":"100.0%"},13,12,{"$f":"I10/H10","v":{"v":0.923076923076923,"d":"92.3%"}},172,166,{"v":0.965116279069767,"d":"96.5%"},46,43,{"v":0.934782608695652,"d":"93.5%"},25,24,{"v":0.96,"d":"96.0%"},{"$nulls":6},10,10,{"v":1,"d":"100.0%"},49,49,{"v":1,"d":"100.0%"},45,45,{"v":1,"d":"100.0%"},18,16,{"v":0.888888888888889,"d":"88.9%"},10,10,{"v":1,"d":"100.0%"},1,1,{"v":1,"d":"100.0%"},{"$nulls":3},2,2,{"$f":"AV10/AU10","v":{"v":1,"d":"100.0%"}},2,2,{"$f":"AY10/AX10","v":{"v":1,"d":"100.0%"}},35,35,{"$f":"BB10/BA10","v":{"v":1,"d":"100.0%"}},594,580,{"v":0.976430976430976,"d":"97.6%"}]
["高压电工复训",36,32,{"v":0.888888888888889,"d":"88.9%"},32,25,{"v":0.78125,"d":"78.1%"},{"$nulls":3},79,78,{"v":0.987341772151899,"d":"98.7%"},10,9,{"v":0.9,"d":"90.0%"},5,4,{"v":0.8,"d":"80.0%"},{"$nulls":9},2,2,{"v":1,"d":"100.0%"},7,7,{"v":1,"d":"100.0%"},{"$nulls":6},1,1,{"v":1,"d":"100.0%"},{"$nulls":12},172,158,{"v":0.918604651162791,"d":"91.9%"}]
["熔化焊接与热切割复训",83,81,{"v":0.975903614457831,"d":"97.6%"},8,8,{"v":1,"d":"100.0%"},{"$nulls":3},72,64,{"v":0.888888888888889,"d":"88.9%"},9,9,{"v":1,"d":"100.0%"},3,3,{"$f":"R12/Q12","v":{"v":1,"d":"100.0%"}},{"$nulls":6},4,4,{"$f":"AA12/Z12","v":{"v":1,"d":"100.0%"}},16,14,{"v":0.875,"d":"87.5%"},16,16,{"v":1,"d":"100.0%"},6,6,{"$f":"AJ12/AI12","v":{"v":1,"d":"100.0%"}},3,2,{"v":0.666666666666667,"d":"66.7%"},4,4,{"v":1,"d":"100.0%"},{"$nulls":9},4,4,{"v":1,"d":"100.0%"},228,215,{"v":0.942982456140351,"d":"94.3%"}]
["钎焊复训"]
["高处安装维护拆除复训",81,79,{"$f":"C14/B14","v":{"v":0.975308641975309,"d":"97.5%"}},15,15,{"$f":"F14/E14","v":{"v":1,"d":"100.0%"}},{"$nulls":3},13,13,{"$f":"L14/K14","v":{"v":1,"d":"100.0%"}},{"$nulls":3},1,1,{"v":1,"d":"100.0%"},{"$nulls":18},1,1,{"$f":"AM14/AL14","v":{"v":1,"d":"100.0%"}},{"$nulls":12},9,7,{"v":0.777777777777778,"d":"77.8%"},{"$f":"B14+E14+H14+K14+N14+Q14+T14+W14+Z14+AC14+AF14+AI14+AL14+AO14+AR14+AU14+AX14+BA14","v":120},{"$f":"C14+F14+I14+L14+O14+R14+U14+X14+AA14+AD14+AG14+AJ14+AM14+AP14+AS14+AV14+AY14+BB14","v":116},{"$f":"BE14/BD14","v":{"v":0.966666666666667,"d":"96.7%"}}]
["登高架设复训"]
["制冷与空调运行操作复训"]
["制冷与空调安装修理复训",3,3,{"v":1,"d":"100.0%"},{"$nulls":51},3,3,{"v":1,"d":"100.0%"}]
["矿山安检复训"]
["电力电缆复训",2,1,{"v":0.5,"d":"50.0%"},3,3,{"$f":"F19/E19","v":{"v":1,"d":"100.0%"}},{"$nulls":48},5,4,{"v":0.8,"d":"80.0%"}]
["电气试验复训",2,1,{"v":0.5,"d":"50.0%"},2,1,{"$f":"F20/E20","v":{"v":0.5,"d":"50.0%"}},{"$nulls":48},4,2,{"v":0.5,"d":"50.0%"}]
["继电保护复训",1,0,{"v":0,"d":"0.0%"},{"$nulls":51},1,0,{"v":0,"d":"0.0%"}]
["特种作业复训合计",{"$f":"SUM(B10:B21)","v":347},335,{"$f":"C22/B22","v":{"v":0.965417867435158,"d":"96.5%"}},87,79,{"$f":"F22/E22","v":{"v":0.908045977011494,"d":"90.8%"}},{"$f":"SUM(H10:H21)","v":13},{"$f":"SUM(I10:I21)","v":12},{"$f":"I22/H22","v":{"v":0.923076923076923,"d":"92.3%"}},{"$f":"SUM(K10:K21)","v":336},321,{"$f":"L22/K22","v":{"v":0.955357142857143,"d":"95.5%"}},65,61,{"$f":"O22/N22","v":{"v":0.938461538461538,"d":"93.8%"}},{"$f":"SUM(Q10:Q21)","v":34},32,{"$f":"R22/Q22","v":{"v":0.941176470588235,"d":"94.1%"}},{"$nulls":6},{"$f":"SUM(Z10:Z21)","v":14},14,{"$f":"AA22/Z22","v":{"v":1,"d":"100.0%"}},67,65,{"$f":"AD22/AC22","v":{"v":0.970149253731343,"d":"97.0%"}},{"$f":"SUM(AF10:AF21)","v":68},68,{"$f":"AG22/AF22","v":{"v":1,"d":"100.0%"}},24,22,{"$f":"AJ22/AI22","v":{"v":0.916666666666667,"d":"91.7%"}},{"$f":"SUM(AL10:AL21)","v":14},13,{"$f":"AM22/AL22","v":{"v":0.928571428571429,"d":"92.9%"}},6,6,{"$f":"AP22/AO22","v":{"v":1,"d":"100.0%"}},{"$nulls":3},{"$f":"SUM(AU10:AU21)","v":2},2,{"$f":"AV22/AU22","v":{"v":1,"d":"100.0%"}},2,2,{"$f":"AY22/AX22","v":{"v":1,"d":"100.0%"}},{"$f":"SUM(BA10:BA21)","v":48},{"$f":"SUM(BB10:BB21)","v":46},{"$f":"BB22/BA22","v":{"v":0.958333333333333,"d":"95.8%"}},{"$f":"B22+E22+H22+K22+N22+Q22+T22+W22+Z22+AC22+AF22+AI22+AL22+AO22+AR22+AU22+AX22+BA22","v":1127},{"$f":"C22+F22+I22+L22+O22+R22+U22+X22+AA22+AD22+AG22+AJ22+AM22+AP22+AS22+AV22+AY22+BB22","v":1078},{"$f":"BE22/BD22","v":{"v":0.956521739130435,"d":"95.7%"}}]
["特种作业人员合计",{"$f":"B9+B22","v":477},433,{"v":0.907756813417191,"d":"90.8%"},229,212,{"$f":"F23/E23","v":{"v":0.925764192139738,"d":"92.6%"}},{"$f":"H9+H22","v":13},12,{"$f":"I23/H23","v":{"v":0.923076923076923,"d":"92.3%"}},430,398,{"v":0.925581395348837,"d":"92.6%"},{"$f":"N9+N22","v":88},83,{"$f":"O23/N23","v":{"v":0.943181818181818,"d":"94.3%"}},36,34,{"v":0.944444444444444,"d":"94.4%"},{"$f":"T9+T22","v":50},35,{"$f":"U23/T23","v":{"v":0.7,"d":"70.0%"}},21,19,{"$f":"X23/W23","v":{"v":0.904761904761905,"d":"90.5%"}},{"$f":"Z9+Z22","v":68},61,{"$f":"AA23/Z23","v":{"v":0.897058823529412,"d":"89.7%"}},110,90,{"v":0.818181818181818,"d":"81.8%"},{"$f":"AF9+AF22","v":115},101,{"v":0.878260869565217,"d":"87.8%"},110,78,{"$f":"AJ23/AI23","v":{"v":0.709090909090909,"d":"70.9%"}},{"$f":"AL9+AL22","v":95},87,{"v":0.91578947368421,"d":"91.6%"},12,12,{"v":1,"d":"100.0%"},{"$nulls":3},{"$f":"AU9+AU22","v":2},2,{"v":1,"d":"100.0%"},2,2,{"v":1,"d":"100.0%"},{"$f":"BA9+BA22","v":204},{"$f":"BB9+BB22","v":173},{"$f":"BB23/BA23","v":{"v":0.848039215686274,"d":"84.8%"}},2062,1832,{"v":0.888457807953443,"d":"88.8%"}]
["烟花爆竹经营负责人初训",5,4,{"v":0.8,"d":"80.0%"},{"$nulls":24},6,3,{"v":0.5,"d":"50.0%"},1,0,{"v":0,"d":"0.0%"},{"$nulls":3},3,3,{"v":1,"d":"100.0%"},{"$nulls":6},1,1,{"v":1,"d":"100.0%"},2,2,{"v":1,"d":"100.0%"},{"$nulls":3},18,13,{"v":0.722222222222222,"d":"72.2%"}]
["危化生产负责人初训"]
["危化经营负责人初训",5,5,{"v":1,"d":"100.0%"},{"$nulls":6},5,5,{"v":1,"d":"100.0%"},{"$nulls":18},3,3,{"v":1,"d":"100.0%"},{"$nulls":6},1,1,{"$f":"AP26/AO26","v":{"v":1,"d":"100.0%"}},{"$nulls":6},1,1,{"$f":"AY26/AX26","v":{"v":1,"d":"100.0%"}},{"$nulls":3},15,15,{"v":1,"d":"100.0%"}]
["非煤矿山负责人初训"]
["金属冶炼负责人初训",{"$nulls":30},1,1,{"$f":"AG28/AF28","v":{"v":1,"d":"100.0%"}},{"$nulls":21},1,1,{"v":1,"d":"100.0%"}]
["高危行业负责人初训合计",{"$f":"SUM(B24:B28)","v":10},{"$f":"SUM(C24:C28)","v":9},{"$f":"C29/B29","v":{"v":0.9,"d":"90.0%"}},{"$nulls":6},{"$f":"SUM(K24:K28)","v":5},{"$f":"SUM(L24:L28)","v":5},{"$f":"L29/K29","v":{"v":1,"d":"100.0%"}},{"$nulls":15},{"$f":"SUM(AC24:AC28)","v":6},3,{"$f":"AD29/AC29","v":{"v":0.5,"d":"50.0%"}},5,4,{"v":0.8,"d":"80.0%"},{"$nulls":3},{"$f":"SUM(AL24:AL28)","v":3},3,{"$f":"AM29/AL29","v":{"v":1,"d":"100.0%"}},1,1,{"v":1,"d":"100.0%"},{"$nulls":3},{"$f":"SUM(AU24:AU28)","v":1},1,{"$f":"AV29/AU29","v":{"v":1,"d":"100.0%"}},3,3,{"$f":"AY29/AX29","v":{"v":1,"d":"100.0%"}},{"$nulls":3},34,29,{"v":0.852941176470588,"d":"85.3%"}]
["烟花爆竹经营负责人复训",{"$nulls":27},2,2,{"$f":"AD30/AC30","v":{"v":1,"d":"100.0%"}},{"$nulls":24},2,2,{"v":1,"d":"100.0%"}]
["危化生产负责人复训",{"$nulls":9},3,3,{"v":1,"d":"100.0%"},{"$nulls":15},2,2,{"$f":"AD31/AC31","v":{"v":1,"d":"100.0%"}},1,1,{"v":1,"d":"100.0%"},{"$nulls":6},1,1,{"v":1,"d":"100.0%"},{"$nulls":12},{"$f":"B31+E31+H31+K31+N31+Q31+T31+W31+Z31+AC31+AF31+AI31+AL31+AO31+AR31+AU31+AX31+BA31","v":7},{"$f":"C31+F31+I31+L31+O31+R31+U31+X31+AA31+AD31+AG31+AJ31+AM31+AP31+AS31+AV31+AY31+BB31","v":7},{"$f":"BE31/BD31","v":{"v":1,"d":"100.0%"}}]
["危化经营负责人复训",66,65,{"v":0.984848484848485,"d":"98.5%"},{"$nulls":6},33,32,{"v":0.96969696969697,"d":"97.0%"},{"$nulls":15},1,1,{"v":1,"d":"100.0%"},2,1,{"$f":"AG32/AF32","v":{"v":0.5,"d":"50.0%"}},{"$nulls":6},2,2,{"v":1,"d":"100.0%"},1,0,{"$f":"AS32/AR32","v":{"v":0,"d":"0.0%"}},{"$nulls":9},105,101,{"v":0.961904761904762,"d":"96.2%"}]
["非煤矿山负责人复训",1,1,{"v":1,"d":"100.0%"},{"$nulls":51},1,1,{"v":1,"d":"100.0%"}]
["金属冶炼负责人复训",{"$nulls":9},1,0,{"v":0,"d":"0.0%"},{"$nulls":3},2,2,{"$f":"R34/Q34","v":{"v":1,"d":"100.0%"}}]
["高危行业负责人复训合计",{"$f":"SUM(B30:B34)","v":67},{"$f":"SUM(C30:C34)","v":66},{"$f":"C35/B35","v":{"v":0.985074626865672,"d":"98.5%"}},{"$nulls":6},{"$f":"SUM(K30:K34)","v":37},{"$f":"SUM(L30:L34)","v":35},{"$f":"L35/K35","v":{"v":0.945945945945946,"d":"94.6%"}},{"$nulls":3},{"$f":"SUM(Q30:Q34)","v":2},{"$f":"SUM(R30:R34)","v":2},{"$f":"R35/Q35","v":{"v":1,"d":"100.0%"}},{"$nulls":9},{"$f":"SUM(AC30:AC34)","v":5},5,{"v":1,"d":"100.0%"},3,2,{"v":0.666666666666667,"d":"66.7%"},{"$nulls":6},{"$f":"SUM(AO30:AO34)","v":3},3,{"$f":"AP35/AO35","v":{"v":1,"d":"100.0%"}},1,0,{"v":0,"d":"0.0%"},{"$nulls":9},{"$f":"B35+E35+H35+K35+N35+Q35+T35+W35+Z35+AC35+AF35+AI35+AL35+AO35+AR35+AU35+AX35+BA35","v":118},{"$f":"C35+F35+I35+L35+O35+R35+U35+X35+AA35+AD35+AG35+AJ35+AM35+AP35+AS35+AV35+AY35+BB35","v":113},{"$f":"BE35/BD35","v":{"v":0.957627118644068,"d":"95.8%"}}]
["高危行业主要负责人合计",{"$f":"B29+B35","v":77},{"$f":"C29+C35","v":75},{"v":0.974025974025974,"d":"97.4%"},{"$nulls":6},{"$f":"K29+K35","v":42},{"$f":"L29+L35","v":40},{"v":0.952380952380952,"d":"95.2%"},{"$nulls":3},{"$f":"Q29+Q35","v":2},{"$f":"R29+R35","v":2},{"v":1,"d":"100.0%"},{"$nulls":9},{"$f":"AC29+AC35","v":11},8,{"v":0.727272727272727,"d":"72.7%"},8,6,{"v":0.75,"d":"75.0%"},{"$nulls":3},{"$f":"AL29+AL35","v":3},3,{"$f":"AM36/AL36","v":{"v":1,"d":"100.0%"}},{"$f":"AO29+AO35","v":4},4,{"v":1,"d":"100.0%"},1,0,{"v":0,"d":"0.0%"},{"$f":"AU29+AU35","v":1},1,{"$f":"AV36/AU36","v":{"v":1,"d":"100.0%"}},3,3,{"$f":"AY36/AX36","v":{"v":1,"d":"100.0%"}},{"$nulls":3},152,142,{"v":0.934210526315789,"d":"93.4%"}]
["烟花爆竹经营安管初训",4,3,{"v":0.75,"d":"75.0%"},{"$nulls":24},4,2,{"v":0.5,"d":"50.0%"},2,1,{"v":0.5,"d":"50.0%"},{"$nulls":3},3,3,{"v":1,"d":"100.0%"},1,1,{"v":1,"d":"100.0%"},{"$nulls":3},1,1,{"$f":"AV37/AU37","v":{"v":1,"d":"100.0%"}},3,3,{"v":1,"d":"100.0%"},{"$nulls":3},18,14,{"v":0.777777777777778,"d":"77.8%"}]
["危化生产安管初训",6,6,{"v":1,"d":"100.0%"},{"$nulls":6},6,6,{"v":1,"d":"100.0%"},{"$nulls":18},2,2,{"v":1,"d":"100.0%"},{"$nulls":21},14,14,{"v":1,"d":"100.0%"}]
["危化经营安管初训",13,12,{"v":0.923076923076923,"d":"92.3%"},{"$nulls":6},12,7,{"v":0.583333333333333,"d":"58.3%"},{"$nulls":3},3,3,{"$f":"R39/Q39","v":{"v":1,"d":"100.0%"}},{"$nulls":12},4,4,{"v":1,"d":"100.0%"},{"$nulls":3},3,3,{"v":1,"d":"100.0%"},4,4,{"$f":"AP39/AO39","v":{"v":1,"d":"100.0%"}},{"$nulls":6},1,1,{"v":1,"d":"100.0%"},{"$nulls":3},40,34,{"v":0.85,"d":"85.0%"}]
["非煤矿山安管初训",1,1,{"v":1,"d":"100.0%"},{"$nulls":6},1,1,{"v":1,"d":"100.0%"},{"$nulls":42},2,2,{"v":1,"d":"100.0%"}]
["金属冶炼安管初训",{"$nulls":30},1,1,{"$f":"AG41/AF41","v":{"v":1,"d":"100.0%"}},{"$nulls":21},1,1,{"v":1,"d":"100.0%"}]
["高危行业安管初训合计",{"$f":"SUM(B37:B41)","v":24},{"$f":"SUM(C37:C41)","v":22},{"$f":"C42/B42","v":{"v":0.916666666666667,"d":"91.7%"}},{"$nulls":6},{"$f":"SUM(K37:K41)","v":19},{"$f":"SUM(L37:L41)","v":14},{"$f":"L42/K42","v":{"v":0.736842105263158,"d":"73.7%"}},{"$nulls":3},{"$f":"SUM(Q37:Q41)","v":3},{"$f":"SUM(R37:R41)","v":3},{"$f":"R42/Q42","v":{"v":1,"d":"100.0%"}},{"$nulls":9},{"$f":"SUM(AC37:AC41)","v":4},2,{"$f":"AD42/AC42","v":{"v":0.5,"d":"50.0%"}},9,8,{"$f":"AG42/AF42","v":{"v":0.888888888888889,"d":"88.9%"}},{"$nulls":3},{"$f":"SUM(AL37:AL41)","v":6},{"$f":"SUM(AM37:AM41)","v":6},{"$f":"AM42/AL42","v":{"v":1,"d":"100.0%"}},{"$f":"SUM(AO37:AO41)","v":5},{"$f":"SUM(AP37:AP41)","v":5},{"$f":"AP42/AO42","v":{"v":1,"d":"100.0%"}},{"$nulls":3},{"$f":"SUM(AU37:AU41)","v":1},1,{"$f":"AV42/AU42","v":{"v":1,"d":"100.0%"}},4,4,{"$f":"AY42/AX42","v":{"v":1,"d":"100.0%"}},{"$nulls":3},75,65,{"v":0.866666666666667,"d":"86.7%"}]
["烟花爆竹经营安管复训",{"$nulls":27},2,0,{"v":0,"d":"0.0%"},{"$nulls":24},2,0,{"v":0,"d":"0.0%"}]
["危化生产安管复训",6,5,{"v":0.833333333333333,"d":"83.3%"},{"$nulls":6},13,13,{"$f":"L44/K44","v":{"v":1,"d":"100.0%"}},{"$nulls":15},1,1,{"v":1,"d":"100.0%"},4,3,{"v":0.75,"d":"75.0%"},{"$nulls":6},10,10,{"$f":"AP44/AO44","v":{"v":1,"d":"100.0%"}},{"$nulls":12},{"$f":"B44+E44+H44+K44+N44+Q44+T44+W44+Z44+AC44+AF44+AI44+AL44+AO44+AR44+AU44+AX44+BA44","v":34},{"$f":"C44+F44+I44+L44+O44+R44+U44+X44+AA44+AD44+AG44+AJ44+AM44+AP44+AS44+AV44+AY44+BB44","v":32},{"$f":"BE44/BD44","v":{"v":0.941176470588235,"d":"94.1%"}}]
["危化经营安管复训",71,66,{"v":0.929577464788732,"d":"93.0%"},{"$nulls":6},67,60,{"v":0.895522388059702,"d":"89.6%"},{"$nulls":15},1,1,{"v":1,"d":"100.0%"},2,2,{"v":1,"d":"100.0%"},{"$nulls":3},1,1,{"$f":"AM45/AL45","v":{"v":1,"d":"100.0%"}},3,3,{"$f":"AP45/AO45","v":{"v":1,"d":"100.0%"}},{"$nulls":12},145,133,{"v":0.917241379310345,"d":"91.7%"}]
["非煤矿山安管复训"]
["金属冶炼安管复训"]
["高危行业安管复训合计",{"$f":"SUM(B43:B47)","v":77},{"$f":"SUM(C43:C47)","v":71},{"$f":"C48/B48","v":{"v":0.922077922077922,"d":"92.2%"}},{"$nulls":6},{"$f":"SUM(K43:K47)","v":80},{"$f":"SUM(L43:L47)","v":73},{"$f":"L48/K48","v":{"v":0.9125,"d":"91.3%"}},{"$nulls":15},{"$f":"SUM(AC43:AC47)","v":4},{"$f":"SUM(AD43:AD47)","v":2},{"$f":"AD48/AC48","v":{"v":0.5,"d":"50.0%"}},{"$f":"SUM(AF43:AF47)","v":6},{"$f":"SUM(AG43:AG47)","v":5},{"$f":"AG48/AF48","v":{"v":0.833333333333333,"d":"83.3%"}},{"$nulls":3},{"$f":"SUM(AL43:AL47)","v":1},{"$f":"SUM(AM43:AM47)","v":1},{"v":1,"d":"100.0%"},13,13,{"v":1,"d":"100.0%"},{"$nulls":12},{"$f":"B48+E48+H48+K48+N48+Q48+T48+W48+Z48+AC48+AF48+AI48+AL48+AO48+AR48+AU48+AX48+BA48","v":181},{"$f":"C48+F48+I48+L48+O48+R48+U48+X48+AA48+AD48+AG48+AJ48+AM48+AP48+AS48+AV48+AY48+BB48","v":165},{"$f":"BE48/BD48","v":{"v":0.911602209944751,"d":"91.2%"}}]
["高危行业安管人员合计",{"$f":"B42+B48","v":101},{"$f":"C42+C48","v":93},{"v":0.920792079207921,"d":"92.1%"},{"$nulls":6},{"$f":"K42+K48","v":99},{"$f":"L42+L48","v":87},{"v":0.878787878787879,"d":"87.9%"},{"$nulls":3},{"$f":"Q42+Q48","v":3},{"$f":"R42+R48","v":3},{"$f":"R49/Q49","v":{"v":1,"d":"100.0%"}},{"$nulls":9},{"$f":"AC42+AC48","v":8},4,{"$f":"AD49/AC49","v":{"v":0.5,"d":"50.0%"}},15,13,{"v":0.866666666666667,"d":"86.7%"},{"$nulls":3},{"$f":"AL42+AL48","v":7},{"$f":"AM42+AM48","v":7},{"v":1,"d":"100.0%"},18,18,{"v":1,"d":"100.0%"},{"$nulls":3},{"$f":"AU42+AU48","v":1},1,{"$f":"AV49/AU49","v":{"v":1,"d":"100.0%"}},4,4,{"$f":"AY49/AX49","v":{"v":1,"d":"100.0%"}},{"$nulls":3},256,230,{"v":0.8984375,"d":"89.8%"}]
["高危行业负责人安管合计",{"$f":"B36+B49","v":178},{"$f":"C36+C49","v":168},{"v":0.943820224719101,"d":"94.4%"},{"$nulls":6},{"$f":"K36+K49","v":141},{"$f":"L36+L49","v":127},{"v":0.900709219858156,"d":"90.1%"},{"$nulls":3},{"$f":"Q36+Q49","v":5},{"$f":"R36+R49","v":5},{"v":1,"d":"100.0%"},{"$nulls":9},{"$f":"AC36+AC49","v":19},12,{"v":0.631578947368421,"d":"63.2%"},23,19,{"v":0.826086956521739,"d":"82.6%"},{"$nulls":3},{"$f":"AL36+AL49","v":10},10,{"v":1,"d":"100.0%"},22,22,{"v":1,"d":"100.0%"},{"$f":"AR36+AR49","v":1},{"$f":"AS36+AS49","v":0},{"$f":"AS50/AR50","v":{"v":0,"d":"0.0%"}},{"$f":"AU36+AU49","v":2},2,{"v":1,"d":"100.0%"},7,7,{"v":1,"d":"100.0%"},{"$nulls":3},408,372,{"v":0.911764705882353,"d":"91.2%"}]
["全工种合计",{"$f":"B23+B50","v":655},601,{"v":0.917557251908397,"d":"91.8%"},229,212,{"$f":"F51/E51","v":{"v":0.925764192139738,"d":"92.6%"}},{"$f":"H23+H50","v":13},12,{"$f":"I51/H51","v":{"v":0.923076923076923,"d":"92.3%"}},571,525,{"v":0.919439579684764,"d":"91.9%"},{"$f":"N23+N50","v":88},83,{"$f":"O51/N51","v":{"v":0.943181818181818,"d":"94.3%"}},41,39,{"v":0.951219512195122,"d":"95.1%"},{"$f":"T23+T50","v":50},35,{"$f":"U51/T51","v":{"v":0.7,"d":"70.0%"}},21,19,{"$f":"X51/W51","v":{"v":0.904761904761905,"d":"90.5%"}},{"$f":"Z23+Z50","v":68},61,{"$f":"AA51/Z51","v":{"v":0.897058823529412,"d":"89.7%"}},129,102,{"v":0.790697674418605,"d":"79.1%"},{"$f":"AF23+AF50","v":138},120,{"v":0.869565217391304,"d":"87.0%"},110,78,{"$f":"AJ51/AI51","v":{"v":0.709090909090909,"d":"70.9%"}},{"$f":"AL23+AL50","v":105},97,{"v":0.923809523809524,"d":"92.4%"},34,34,{"v":1,"d":"100.0%"},{"$f":"AR23+AR50","v":1},{"$f":"AS23+AS50","v":0},{"v":0,"d":"0.0%"},{"$f":"AU23+AU50","v":4},4,{"v":1,"d":"100.0%"},{"$f":"AX23+AX50","v":9},{"$f":"AY23+AY50","v":9},{"v":1,"d":"100.0%"},{"$f":"BA23+BA50","v":204},{"$f":"BB23+BB50","v":173},{"$f":"BB51/BA51","v":{"v":0.848039215686274,"d":"84.8%"}},2470,2204,{"v":0.892307692307692,"d":"89.2%"}]
["备注：\n1.培训机构名称以全国安全生产培训考试信息管理系统记录为准，按系统顺序排序；\n2.实考人数=报考总人数-正考补考均缺考人数-考试违规被取消成绩人数；\n3.仅统计已完成考试者，还有补考机会者不统计。"]

{"sheet":"12月","index":11,"n_rows":52,"n_cols":61,"rows_kept":52,"merged":[[0,0,0,60],[1,0,2,0],[1,1,1,3],[1,4,1,6],[1,7,1,9],[1,10,1,12],[1,13,1,15],[1,16,1,18],[1,19,1,21],[1,22,1,24],[1,25,1,27],[1,28,1,30],[1,31,1,33],[1,34,1,36],[1,37,1,39],[1,40,1,42],[1,43,1,45],[1,46,1,48],[1,49,1,51],[1,52,1,54],[1,55,1,57],[1,58,1,60],[51,0,51,60]]}
["2022年12月各安全培训机构考生通过率统计表"]
["            培训机构\n    工种","江门市安信职业安全培训有限公司",null,null,"广东四维培训有限公司",null,null,"江门市技师学院",null,null,"江门市江海区共升教育培训中心",null,null,"江门市侨都安全咨询服务有限公司",null,null,"江门市安全生产管理协会",null,null,"江门市新会技师学院",null,null,"江门市新会机电职业技术学校",null,null,"鹤山市优创职业培训学校有限公司",null,null,"台山市安全生产管理协会",null,null,"鹤山市安全生产管理协会",null,null,"江门市江海区万众职业培训学校",null,null,"开平市中邑安安全技术咨询有限公司",null,null,"江门市江海区安全生产管理协会",null,null,"江门市天晟安全事务有限公司",null,null,"恩平市科瑞职业技术培训学校",null,null,"江门市金迪安全科技有限公司",null,null,"江门市易考安全技术服务有限公司",null,null,"鹤山市新供销协力教育咨询有限公司",null,null,"全市合计"]
[null,"实考人数","合格人数","通过率","实考人数","合格人数","通过率","实考人数","合格人数","通过率","实考人数","合格人数","通过率","实考人数","合格人数","通过率","实考人数","合格人数","通过率","实考人数","合格人数","通过率","实考人数","合格人数","通过率","实考人数","合格人数","通过率","实考人数","合格人数","通过率","实考人数","合格人数","通过率","实考人数","合格人数","通过率","实考人数","合格人数","通过率","实考人数","合格人数","通过率","实考人数","合格人数","通过率","实考人数","合格人数","通过率","实考人数","合格人数","通过率","实考人数","合格人数","通过率","实考人数","合格人数","通过率","实考人数","合格人数","通过率"]
["低压电工初训",41,26,{"$f":"C4/B4","v":{"v":0.634146341463415,"d":"63.4%"}},{"$nulls":3},70,50,{"$f":"I4/H4","v":{"v":0.714285714285714,"d":"71.4%"}},3,3,{"$f":"L4/K4","v":{"v":1,"d":"100.0%"}},72,62,{"$f":"O4/N4","v":{"v":0.861111111111111,"d":"86.1%"}},14,13,{"$f":"R4/Q4","v":{"v":0.928571428571429,"d":"92.9%"}},16,15,{"$f":"U4/T4","v":{"v":0.9375,"d":"93.8%"}},46,44,{"$f":"X4/W4","v":{"v":0.956521739130435,"d":"95.7%"}},63,46,{"$f":"AA4/Z4","v":{"v":0.73015873015873,"d":"73.0%"}},4,1,{"$f":"AD4/AC4","v":{"v":0.25,"d":"25.0%"}},{"$nulls":3},34,24,{"$f":"AJ4/AI4","v":{"v":0.705882352941177,"d":"70.6%"}},{"$nulls":3},1,0,{"$f":"AP4/AO4","v":{"v":0,"d":"0.0%"}},{"$nulls":6},6,6,{"$f":"AY4/AX4","v":{"v":1,"d":"100.0%"}},2,1,{"$f":"BB4/BA4","v":{"v":0.5,"d":"50.0%"}},45,22,{"$f":"BE4/BD4","v":{"v":0.488888888888889,"d":"48.9%"}},{"$f":"B4+E4+H4+K4+N4+Q4+T4+W4+Z4+AC4+AF4+AI4+AL4+AO4+AR4+AU4+AX4+BA4+BD4","v":417},{"$f":"C4+F4+I4+L4+O4+R4+U4+X4+AA4+AD4+AG4+AJ4+AM4+AP4+AS4+AV4+AY4+BB4+BE4","v":313},{"$f":"BH4/BG4","v":{"v":0.750599520383693,"d":"75.1%"}}]
["高压电工初训"]
["电力电缆初训"]
["熔化焊接与热切割初训",19,15,{"v":0.789473684210526,"d":"78.9%"},{"$nulls":6},28,24,{"$f":"L7/K7","v":{"v":0.857142857142857,"d":"85.7%"}},8,8,{"$f":"O7/N7","v":{"v":1,"d":"100.0%"}},22,18,{"$f":"R7/Q7","v":{"v":0.818181818181818,"d":"81.8%"}},{"$nulls":6},48,39,{"v":0.8125,"d":"81.3%"},{"$nulls":6},12,12,{"$f":"AJ7/AI7","v":{"v":1,"d":"100.0%"}},24,19,{"$f":"AM7/AL7","v":{"v":0.791666666666667,"d":"79.2%"}},4,2,{"$f":"AP7/AO7","v":{"v":0.5,"d":"50.0%"}},{"$nulls":3},12,12,{"$f":"AV7/AU7","v":{"v":1,"d":"100.0%"}},{"$nulls":3},11,10,{"$f":"BB7/BA7","v":{"v":0.909090909090909,"d":"90.9%"}},16,13,{"$f":"BE7/BD7","v":{"v":0.8125,"d":"81.3%"}},{"$f":"B7+E7+H7+K7+N7+Q7+T7+W7+Z7+AC7+AF7+AI7+AL7+AO7+AR7+AU7+AX7+BA7+BD7","v":204},172,{"v":0.843137254901961,"d":"84.3%"}]
["高处安装维护拆除初训",{"$nulls":9},39,32,{"$f":"L8/K8","v":{"v":0.82051282051282,"d":"82.1%"}},{"$nulls":39},4,4,{"$f":"BB8/BA8","v":{"v":1,"d":"100.0%"}},45,41,{"$f":"BE8/BD8","v":{"v":0.911111111111111,"d":"91.1%"}},88,77,{"v":0.875,"d":"87.5%"}]
["特种作业初训合计",{"$f":"SUM(B4:B8)","v":60},41,{"v":0.683333333333333,"d":"68.3%"},{"$nulls":3},{"$f":"SUM(H4:H8)","v":70},{"$f":"SUM(I4:I8)","v":50},{"$f":"I9/H9","v":{"v":0.714285714285714,"d":"71.4%"}},{"$f":"SUM(K4:K8)","v":70},59,{"v":0.842857142857143,"d":"84.3%"},{"$f":"SUM(N4:N8)","v":80},70,{"v":0.875,"d":"87.5%"},36,31,{"$f":"R9/Q9","v":{"v":0.861111111111111,"d":"86.1%"}},16,15,{"$f":"U9/T9","v":{"v":0.9375,"d":"93.8%"}},{"$f":"SUM(W4:W8)","v":46},44,{"$f":"X9/W9","v":{"v":0.956521739130435,"d":"95.7%"}},111,85,{"v":0.765765765765766,"d":"76.6%"},{"$f":"SUM(AC4:AC8)","v":4},1,{"$f":"AD9/AC9","v":{"v":0.25,"d":"25.0%"}},{"$nulls":3},{"$f":"SUM(AI4:AI8)","v":46},36,{"v":0.782608695652174,"d":"78.3%"},24,19,{"$f":"AM9/AL9","v":{"v":0.791666666666667,"d":"79.2%"}},{"$f":"SUM(AO4:AO8)","v":5},{"$f":"SUM(AP4:AP8)","v":2},{"$f":"AP9/AO9","v":{"v":0.4,"d":"40.0%"}},{"$nulls":3},{"$f":"SUM(AU4:AU8)","v":12},{"$f":"SUM(AV4:AV8)","v":12},{"$f":"AV9/AU9","v":{"v":1,"d":"100.0%"}},{"$f":"SUM(AX4:AX8)","v":6},{"$f":"SUM(AY4:AY8)","v":6},{"$f":"AY9/AX9","v":{"v":1,"d":"100.0%"}},{"$f":"SUM(BA4:BA8)","v":17},{"$f":"SUM(BB4:BB8)","v":15},{"$f":"BB9/BA9","v":{"v":0.882352941176471,"d":"88.2%"}},{"$f":"SUM(BD4:BD8)","v":106},{"$f":"SUM(BE4:BE8)","v":76},{"$f":"BE9/BD9","v":{"v":0.716981132075472,"d":"71.7%"}},709,562,{"v":0.792665726375176,"d":"79.3%"}]
["低压电工复训",252,236,{"v":0.936507936507937,"d":"93.7%"},{"$nulls":3},57,54,{"$f":"I10/H10","v":{"v":0.947368421052632,"d":"94.7%"}},158,152,{"v":0.962025316455696,"d":"96.2%"},18,14,{"v":0.777777777777778,"d":"77.8%"},12,12,{"v":1,"d":"100.0%"},{"$nulls":6},1,1,{"v":1,"d":"100.0%"},84,80,{"v":0.952380952380952,"d":"95.2%"},133,130,{"$f":"AG10/AF10","v":{"v":0.977443609022556,"d":"97.7%"}},11,9,{"v":0.818181818181818,"d":"81.8%"},17,16,{"v":0.941176470588235,"d":"94.1%"},1,1,{"v":1,"d":"100.0%"},{"$nulls":3},13,10,{"$f":"AV10/AU10","v":{"v":0.769230769230769,"d":"76.9%"}},7,6,{"$f":"AY10/AX10","v":{"v":0.857142857142857,"d":"85.7%"}},{"$nulls":3},28,28,{"$f":"BE10/BD10","v":{"v":1,"d":"100.0%"}},792,749,{"v":0.945707070707071,"d":"94.6%"}]
["高压电工复训",60,54,{"v":0.9,"d":"90.0%"},{"$nulls":6},29,29,{"v":1,"d":"100.0%"},6,6,{"v":1,"d":"100.0%"},{"$nulls":12},4,4,{"v":1,"d":"100.0%"},11,10,{"v":0.909090909090909,"d":"90.9%"},{"$nulls":3},3,3,{"v":1,"d":"100.0%"},{"$nulls":18},113,106,{"v":0.938053097345133,"d":"93.8%"}]
["熔化焊接与热切割复训",49,42,{"v":0.857142857142857,"d":"85.7%"},{"$nulls":3},3,3,{"$f":"I12/H12","v":{"v":1,"d":"100.0%"}},24,22,{"v":0.916666666666667,"d":"91.7%"},4,3,{"v":0.75,"d":"75.0%"},23,23,{"v":1,"d":"100.0%"},{"$nulls":6},1,1,{"$f":"AA12/Z12","v":{"v":1,"d":"100.0%"}},16,14,{"v":0.875,"d":"87.5%"},16,16,{"v":1,"d":"100.0%"},7,6,{"$f":"AJ12/AI12","v":{"v":0.857142857142857,"d":"85.7%"}},1,1,{"v":1,"d":"100.0%"},{"$nulls":6},2,2,{"$f":"AV12/AU12","v":{"v":1,"d":"100.0%"}},2,2,{"$f":"AY12/AX12","v":{"v":1,"d":"100.0%"}},{"$nulls":3},8,7,{"$f":"BE12/BD12","v":{"v":0.875,"d":"87.5%"}},156,142,{"v":0.91025641025641,"d":"91.0%"}]
["钎焊复训"]
["高处安装维护拆除复训",53,44,{"$f":"C14/B14","v":{"v":0.830188679245283,"d":"83.0%"}},{"$nulls":6},8,8,{"$f":"L14/K14","v":{"v":1,"d":"100.0%"}},{"$nulls":42},2,2,{"$f":"BE14/BD14","v":{"v":1,"d":"100.0%"}},63,54,{"$f":"BH14/BG14","v":{"v":0.857142857142857,"d":"85.7%"}}]
["登高架设复训",{"$nulls":15},3,3,{"v":1,"d":"100.0%"},{"$nulls":39},3,3,{"v":1,"d":"100.0%"}]
["制冷与空调运行操作复训",1,1,{"$f":"C16/B16","v":{"v":1,"d":"100.0%"}},{"$nulls":54},1,1,{"v":1,"d":"100.0%"}]
["制冷与空调安装修理复训"]
["矿山安检复训"]
["电力电缆复训"]
["电气试验复训",2,1,{"v":0.5,"d":"50.0%"},{"$nulls":9},1,1,{"$f":"O20/N20","v":{"v":1,"d":"100.0%"}},{"$nulls":42},3,2,{"v":0.666666666666667,"d":"66.7%"}]
["继电保护复训",2,1,{"v":0.5,"d":"50.0%"},{"$nulls":54},2,1,{"v":0.5,"d":"50.0%"}]
["特种作业复训合计",{"$f":"SUM(B10:B21)","v":419},379,{"v":0.904534606205251,"d":"90.5%"},{"$nulls":3},{"$f":"SUM(H10:H21)","v":60},{"$f":"SUM(I10:I21)","v":57},{"$f":"I22/H22","v":{"v":0.95,"d":"95.0%"}},{"$f":"SUM(K10:K21)","v":219},211,{"$f":"L22/K22","v":{"v":0.963470319634703,"d":"96.3%"}},29,24,{"$f":"O22/N22","v":{"v":0.827586206896552,"d":"82.8%"}},{"$f":"SUM(Q10:Q21)","v":38},38,{"$f":"R22/Q22","v":{"v":1,"d":"100.0%"}},{"$nulls":6},{"$f":"SUM(Z10:Z21)","v":2},2,{"$f":"AA22/Z22","v":{"v":1,"d":"100.0%"}},104,98,{"$f":"AD22/AC22","v":{"v":0.942307692307692,"d":"94.2%"}},{"$f":"SUM(AF10:AF21)","v":160},156,{"$f":"AG22/AF22","v":{"v":0.975,"d":"97.5%"}},18,15,{"$f":"AJ22/AI22","v":{"v":0.833333333333333,"d":"83.3%"}},{"$f":"SUM(AL10:AL21)","v":21},20,{"$f":"AM22/AL22","v":{"v":0.952380952380952,"d":"95.2%"}},1,1,{"$f":"AP22/AO22","v":{"v":1,"d":"100.0%"}},{"$nulls":3},{"$f":"SUM(AU10:AU21)","v":15},12,{"$f":"AV22/AU22","v":{"v":0.8,"d":"80.0%"}},9,8,{"$f":"AY22/AX22","v":{"v":0.888888888888889,"d":"88.9%"}},{"$nulls":3},{"$f":"SUM(BD10:BD21)","v":38},{"$f":"SUM(BE10:BE21)","v":37},{"$f":"BE22/BD22","v":{"v":0.973684210526316,"d":"97.4%"}},1133,1058,{"v":0.933804060017652,"d":"93.4%"}]
["特种作业人员合计",{"$f":"B9+B22","v":479},420,{"v":0.876826722338205,"d":"87.7%"},{"$nulls":3},{"$f":"H9+H22","v":130},107,{"$f":"I23/H23","v":{"v":0.823076923076923,"d":"82.3%"}},289,270,{"v":0.934256055363322,"d":"93.4%"},{"$f":"N9+N22","v":109},94,{"$f":"O23/N23","v":{"v":0.862385321100917,"d":"86.2%"}},74,69,{"v":0.932432432432432,"d":"93.2%"},{"$f":"T9+T22","v":16},15,{"$f":"U23/T23","v":{"v":0.9375,"d":"93.8%"}},46,44,{"$f":"X23/W23","v":{"v":0.956521739130435,"d":"95.7%"}},{"$f":"Z9+Z22","v":113},87,{"$f":"AA23/Z23","v":{"v":0.769911504424779,"d":"77.0%"}},108,99,{"v":0.916666666666667,"d":"91.7%"},{"$f":"AF9+AF22","v":160},156,{"v":0.975,"d":"97.5%"},64,51,{"$f":"AJ23/AI23","v":{"v":0.796875,"d":"79.7%"}},{"$f":"AL9+AL22","v":45},39,{"v":0.866666666666667,"d":"86.7%"},6,3,{"v":0.5,"d":"50.0%"},{"$nulls":3},{"$f":"AU9+AU22","v":27},24,{"v":0.888888888888889,"d":"88.9%"},15,14,{"v":0.933333333333333,"d":"93.3%"},{"$f":"BA9+BA22","v":17},{"$f":"BB9+BB22","v":15},{"$f":"BB23/BA23","v":{"v":0.882352941176471,"d":"88.2%"}},{"$f":"BD9+BD22","v":144},{"$f":"BE9+BE22","v":113},{"$f":"BE23/BD23","v":{"v":0.784722222222222,"d":"78.5%"}},1842,1620,{"v":0.879478827361563,"d":"87.9%"}]
["烟花爆竹经营负责人初训",5,3,{"v":0.6,"d":"60.0%"},{"$nulls":24},4,2,{"v":0.5,"d":"50.0%"},2,2,{"v":1,"d":"100.0%"},{"$nulls":3},1,1,{"v":1,"d":"100.0%"},{"$nulls":9},1,1,{"v":1,"d":"100.0%"},{"$nulls":6},13,9,{"v":0.692307692307692,"d":"69.2%"}]
["危化生产负责人初训",1,0,{"v":0,"d":"0.0%"},{"$nulls":6},2,2,{"$f":"L25/K25","v":{"v":1,"d":"100.0%"}},{"$nulls":15},1,1,{"v":1,"d":"100.0%"},2,2,{"v":1,"d":"100.0%"},{"$nulls":24},6,5,{"v":0.833333333333333,"d":"83.3%"}]
["危化经营负责人初训",13,11,{"v":0.846153846153846,"d":"84.6%"},{"$nulls":6},6,6,{"v":1,"d":"100.0%"},{"$nulls":15},1,1,{"v":1,"d":"100.0%"},2,1,{"v":0.5,"d":"50.0%"},{"$nulls":3},4,4,{"$f":"AM26/AL26","v":{"v":1,"d":"100.0%"}},5,5,{"$f":"AP26/AO26","v":{"v":1,"d":"100.0%"}},2,2,{"$f":"AS26/AR26","v":{"v":1,"d":"100.0%"}},{"$nulls":3},1,1,{"$f":"AY26/AX26","v":{"v":1,"d":"100.0%"}},{"$nulls":6},34,31,{"v":0.911764705882353,"d":"91.2%"}]
["非煤矿山负责人初训"]
["金属冶炼负责人初训",{"$nulls":39},1,1,{"$f":"AP28/AO28","v":{"v":1,"d":"100.0%"}},{"$nulls":15},1,1,{"v":1,"d":"100.0%"}]
["高危行业负责人初训合计",{"$f":"SUM(B24:B28)","v":19},{"$f":"SUM(C24:C28)","v":14},{"$f":"C29/B29","v":{"v":0.736842105263158,"d":"73.7%"}},{"$nulls":6},{"$f":"SUM(K24:K28)","v":8},{"$f":"SUM(L24:L28)","v":8},{"$f":"L29/K29","v":{"v":1,"d":"100.0%"}},{"$nulls":15},{"$f":"SUM(AC24:AC28)","v":6},4,{"$f":"AD29/AC29","v":{"v":0.666666666666667,"d":"66.7%"}},6,5,{"$f":"AG29/AF29","v":{"v":0.833333333333333,"d":"83.3%"}},{"$nulls":3},{"$f":"SUM(AL24:AL28)","v":5},5,{"$f":"AM29/AL29","v":{"v":1,"d":"100.0%"}},6,6,{"v":1,"d":"100.0%"},{"$f":"SUM(AR24:AR28)","v":2},{"$f":"SUM(AS24:AS28)","v":2},{"v":1,"d":"100.0%"},{"$nulls":3},{"$f":"SUM(AX24:AX28)","v":2},2,{"$f":"AY29/AX29","v":{"v":1,"d":"100.0%"}},{"$nulls":6},54,46,{"v":0.851851851851852,"d":"85.2%"}]
["烟花爆竹经营负责人复训"]
["危化生产负责人复训",2,2,{"$f":"C31/B31","v":{"v":1,"d":"100.0%"}},{"$nulls":6},3,3,{"v":1,"d":"100.0%"},{"$nulls":27},1,1,{"v":1,"d":"100.0%"},1,1,{"v":1,"d":"100.0%"},{"$nulls":12},7,7,{"v":1,"d":"100.0%"}]
["危化经营负责人复训",81,78,{"v":0.962962962962963,"d":"96.3%"},{"$nulls":6},29,26,{"v":0.896551724137931,"d":"89.7%"},{"$nulls":27},8,7,{"v":0.875,"d":"87.5%"},4,4,{"$f":"AS32/AR32","v":{"v":1,"d":"100.0%"}},{"$nulls":3},1,1,{"$f":"AY32/AX32","v":{"v":1,"d":"100.0%"}},{"$nulls":6},123,116,{"v":0.943089430894309,"d":"94.3%"}]
["非煤矿山负责人复训",{"$nulls":30},1,1,{"v":1,"d":"100.0%"},{"$nulls":24},1,1,{"v":1,"d":"100.0%"}]
["金属冶炼负责人复训",1,1,{"v":1,"d":"100.0%"},{"$nulls":54},1,1,{"v":1,"d":"100.0%"}]
["高危行业负责人复训合计",{"$f":"SUM(B30:B34)","v":84},{"$f":"SUM(C30:C34)","v":81},{"$f":"C35/B35","v":{"v":0.964285714285714,"d":"96.4%"}},{"$nulls":6},{"$f":"SUM(K30:K34)","v":32},{"$f":"SUM(L30:L34)","v":29},{"v":0.90625,"d":"90.6%"},{"$nulls":18},{"$f":"SUM(AF30:AF34)","v":1},1,{"v":1,"d":"100.0%"},{"$nulls":6},{"$f":"SUM(AO30:AO34)","v":9},8,{"$f":"AP35/AO35","v":{"v":0.888888888888889,"d":"88.9%"}},5,5,{"v":1,"d":"100.0%"},{"$nulls":3},{"$f":"SUM(AX30:AX34)","v":1},{"$f":"SUM(AY30:AY34)","v":1},{"$f":"AY35/AX35","v":{"v":1,"d":"100.0%"}},{"$nulls":6},132,125,{"$f":"BH35/BG35","v":{"v":0.946969696969697,"d":"94.7%"}}]
["高危行业主要负责人合计",{"$f":"B29+B35","v":103},{"$f":"C29+C35","v":95},{"v":0.922330097087379,"d":"92.2%"},{"$nulls":6},{"$f":"K29+K35","v":40},{"$f":"L29+L35","v":37},{"v":0.925,"d":"92.5%"},{"$nulls":15},{"$f":"AC29+AC35","v":6},4,{"$f":"AD36/AC36","v":{"v":0.666666666666667,"d":"66.7%"}},7,6,{"v":0.857142857142857,"d":"85.7%"},{"$nulls":3},{"$f":"AL29+AL35","v":5},5,{"$f":"AM36/AL36","v":{"v":1,"d":"100.0%"}},{"$f":"AO29+AO35","v":15},14,{"v":0.933333333333333,"d":"93.3%"},7,7,{"v":1,"d":"100.0%"},{"$nulls":3},{"$f":"AX29+AX35","v":3},3,{"$f":"AY36/AX36","v":{"v":1,"d":"100.0%"}},{"$nulls":6},186,171,{"v":0.919354838709677,"d":"91.9%"}]
["烟花爆竹经营安管初训",1,1,{"v":1,"d":"100.0%"},{"$nulls":24},3,3,{"$f":"AD37/AC37","v":{"v":1,"d":"100.0%"}},4,4,{"v":1,"d":"100.0%"},{"$nulls":3},1,1,{"v":1,"d":"100.0%"},{"$nulls":9},1,1,{"v":1,"d":"100.0%"},{"$nulls":6},10,10,{"v":1,"d":"100.0%"}]
["危化生产安管初训",3,2,{"v":0.666666666666667,"d":"66.7%"},{"$nulls":6},6,6,{"v":1,"d":"100.0%"},{"$nulls":18},1,0,{"v":0,"d":"0.0%"},{"$nulls":6},2,2,{"v":1,"d":"100.0%"},{"$nulls":15},12,10,{"v":0.833333333333333,"d":"83.3%"}]
["危化经营安管初训",14,13,{"v":0.928571428571429,"d":"92.9%"},{"$nulls":6},15,13,{"v":0.866666666666667,"d":"86.7%"},{"$nulls":18},6,4,{"v":0.666666666666667,"d":"66.7%"},{"$nulls":3},6,4,{"v":0.666666666666667,"d":"66.7%"},7,6,{"$f":"AP39/AO39","v":{"v":0.857142857142857,"d":"85.7%"}},2,2,{"$f":"AS39/AR39","v":{"v":1,"d":"100.0%"}},{"$nulls":3},1,0,{"v":0,"d":"0.0%"},{"$nulls":6},51,42,{"v":0.823529411764706,"d":"82.4%"}]
["非煤矿山安管初训",{"$nulls":36},1,0,{"v":0,"d":"0.0%"},{"$nulls":18},1,0,{"v":0,"d":"0.0%"}]
["金属冶炼安管初训",{"$nulls":39},1,1,{"$f":"AP41/AO41","v":{"v":1,"d":"100.0%"}},{"$nulls":15},1,1,{"v":1,"d":"100.0%"}]
["高危行业安管初训合计",{"$f":"SUM(B37:B41)","v":18},{"$f":"SUM(C37:C41)","v":16},{"$f":"C42/B42","v":{"v":0.888888888888889,"d":"88.9%"}},{"$nulls":6},{"$f":"SUM(K37:K41)","v":21},{"$f":"SUM(L37:L41)","v":19},{"$f":"L42/K42","v":{"v":0.904761904761905,"d":"90.5%"}},{"$nulls":15},{"$f":"SUM(AC37:AC41)","v":3},3,{"$f":"AD42/AC42","v":{"v":1,"d":"100.0%"}},11,8,{"$f":"AG42/AF42","v":{"v":0.727272727272727,"d":"72.7%"}},{"$nulls":3},{"$f":"SUM(AL37:AL41)","v":8},{"$f":"SUM(AM37:AM41)","v":5},{"$f":"AM42/AL42","v":{"v":0.625,"d":"62.5%"}},10,9,{"$f":"AP42/AO42","v":{"v":0.9,"d":"90.0%"}},2,2,{"v":1,"d":"100.0%"},{"$nulls":3},{"$f":"SUM(AX37:AX41)","v":2},1,{"$f":"AY42/AX42","v":{"v":0.5,"d":"50.0%"}},{"$nulls":6},75,63,{"v":0.84,"d":"84.0%"}]
["烟花爆竹经营安管复训",{"$nulls":27},2,2,{"v":1,"d":"100.0%"},{"$nulls":27},2,2,{"v":1,"d":"100.0%"}]
["危化生产安管复训",15,14,{"v":0.933333333333333,"d":"93.3%"},{"$nulls":6},11,9,{"$f":"L44/K44","v":{"v":0.818181818181818,"d":"81.8%"}},{"$nulls":18},2,2,{"v":1,"d":"100.0%"},{"$nulls":9},1,1,{"v":1,"d":"100.0%"},{"$nulls":12},29,26,{"v":0.896551724137931,"d":"89.7%"}]
["危化经营安管复训",103,93,{"v":0.902912621359223,"d":"90.3%"},{"$nulls":6},60,52,{"v":0.866666666666667,"d":"86.7%"},{"$nulls":18},1,0,{"v":0,"d":"0.0%"},{"$nulls":6},6,6,{"$f":"AP45/AO45","v":{"v":1,"d":"100.0%"}},5,4,{"v":0.8,"d":"80.0%"},{"$nulls":3},1,1,{"$f":"AY45/AX45","v":{"v":1,"d":"100.0%"}},{"$nulls":6},176,156,{"v":0.886363636363636,"d":"88.6%"}]
["非煤矿山安管复训",{"$nulls":9},3,3,{"v":1,"d":"100.0%"},{"$nulls":18},1,1,{"v":1,"d":"100.0%"},{"$nulls":24},4,4,{"v":1,"d":"100.0%"}]
["金属冶炼安管复训"]
["高危行业安管复训合计",{"$f":"SUM(B43:B47)","v":118},{"$f":"SUM(C43:C47)","v":107},{"$f":"C48/B48","v":{"v":0.906779661016949,"d":"90.7%"}},{"$nulls":6},{"$f":"SUM(K43:K47)","v":74},{"$f":"SUM(L43:L47)","v":64},{"$f":"L48/K48","v":{"v":0.864864864864865,"d":"86.5%"}},{"$nulls":15},{"$f":"SUM(AC43:AC47)","v":2},{"$f":"SUM(AD43:AD47)","v":2},{"$f":"AD48/AC48","v":{"v":1,"d":"100.0%"}},{"$f":"SUM(AF43:AF47)","v":4},{"$f":"SUM(AG43:AG47)","v":3},{"$f":"AG48/AF48","v":{"v":0.75,"d":"75.0%"}},{"$nulls":6},{"$f":"SUM(AO43:AO47)","v":6},6,{"v":1,"d":"100.0%"},{"$f":"SUM(AR43:AR47)","v":6},{"$f":"SUM(AS43:AS47)","v":5},{"$f":"AS48/AR48","v":{"v":0.833333333333333,"d":"83.3%"}},{"$nulls":3},{"$f":"SUM(AX43:AX47)","v":1},1,{"v":1,"d":"100.0%"},{"$nulls":6},211,188,{"$f":"BH48/BG48","v":{"v":0.890995260663507,"d":"89.1%"}}]
["高危行业安管人员合计",{"$f":"B42+B48","v":136},{"$f":"C42+C48","v":123},{"v":0.904411764705882,"d":"90.4%"},{"$nulls":6},{"$f":"K42+K48","v":95},{"$f":"L42+L48","v":83},{"v":0.873684210526316,"d":"87.4%"},{"$nulls":15},{"$f":"AC42+AC48","v":5},5,{"$f":"AD49/AC49","v":{"v":1,"d":"100.0%"}},15,11,{"v":0.733333333333333,"d":"73.3%"},{"$nulls":3},{"$f":"AL42+AL48","v":8},{"$f":"AM42+AM48","v":5},{"$f":"AM49/AL49","v":{"v":0.625,"d":"62.5%"}},16,15,{"v":0.9375,"d":"93.8%"},{"$f":"AR42+AR48","v":8},{"$f":"AS42+AS48","v":7},{"v":0.875,"d":"87.5%"},{"$nulls":3},{"$f":"AX42+AX48","v":3},2,{"v":0.666666666666667,"d":"66.7%"},{"$nulls":6},286,251,{"v":0.877622377622378,"d":"87.8%"}]
["高危行业负责人安管合计",{"$f":"B36+B49","v":239},{"$f":"C36+C49","v":218},{"v":0.912133891213389,"d":"91.2%"},{"$nulls":6},{"$f":"K36+K49","v":135},{"$f":"L36+L49","v":120},{"v":0.888888888888889,"d":"88.9%"},{"$nulls":15},{"$f":"AC36+AC49","v":11},9,{"v":0.818181818181818,"d":"81.8%"},22,17,{"v":0.772727272727273,"d":"77.3%"},{"$nulls":3},{"$f":"AL36+AL49","v":13},10,{"v":0.769230769230769,"d":"76.9%"},31,29,{"v":0.935483870967742,"d":"93.5%"},{"$f":"AR36+AR49","v":15},{"$f":"AS36+AS49","v":14},{"v":0.933333333333333,"d":"93.3%"},{"$nulls":3},{"$f":"AX36+AX49","v":6},{"$f":"AY36+AY49","v":5},{"v":0.833333333333333,"d":"83.3%"},{"$nulls":6},472,422,{"v":0.894067796610169,"d":"89.4%"}]
["全工种合计",{"$f":"B23+B50","v":718},638,{"v":0.88857938718663,"d":"88.9%"},{"$nulls":3},{"$f":"H23+H50","v":130},107,{"$f":"I51/H51","v":{"v":0.823076923076923,"d":"82.3%"}},424,390,{"v":0.919811320754717,"d":"92.0%"},{"$f":"N23+N50","v":109},94,{"$f":"O51/N51","v":{"v":0.862385321100917,"d":"86.2%"}},{"$f":"Q23+Q50","v":74},{"$f":"R23+R50","v":69},{"$f":"R51/Q51","v":{"v":0.932432432432432,"d":"93.2%"}},{"$f":"T23+T50","v":16},15,{"$f":"U51/T51","v":{"v":0.9375,"d":"93.8%"}},46,44,{"$f":"X51/W51","v":{"v":0.956521739130435,"d":"95.7%"}},{"$f":"Z23+Z50","v":113},87,{"$f":"AA51/Z51","v":{"v":0.769911504424779,"d":"77.0%"}},119,108,{"v":0.907563025210084,"d":"90.8%"},{"$f":"AF23+AF50","v":182},173,{"v":0.950549450549451,"d":"95.1%"},64,51,{"$f":"AJ51/AI51","v":{"v":0.796875,"d":"79.7%"}},{"$f":"AL23+AL50","v":58},49,{"v":0.844827586206897,"d":"84.5%"},37,32,{"v":0.864864864864865,"d":"86.5%"},{"$f":"AR23+AR50","v":15},{"$f":"AS23+AS50","v":14},{"v":0.933333333333333,"d":"93.3%"},{"$f":"AU23+AU50","v":27},24,{"$f":"AV51/AU51","v":{"v":0.888888888888889,"d":"88.9%"}},{"$f":"AX23+AX50","v":21},{"$f":"AY23+AY50","v":19},{"v":0.904761904761905,"d":"90.5%"},{"$f":"BA23+BA50","v":17},{"$f":"BB23+BB50","v":15},{"$f":"BB51/BA51","v":{"v":0.882352941176471,"d":"88.2%"}},{"$f":"BD23+BD50","v":144},{"$f":"BE23+BE50","v":113},{"$f":"BE51/BD51","v":{"v":0.784722222222222,"d":"78.5%"}},2314,2042,{"v":0.882454624027658,"d":"88.2%"}]
["备注：\n1.培训机构名称以全国安全生产培训考试信息管理系统记录为准，按系统顺序排序；\n2.实考人数=报考总人数-正考补考均缺考人数-考试违规被取消成绩人数；\n3.仅统计已完成考试者，还有补考机会者不统计。"]

{"sheet":"全年","index":12,"n_rows":52,"n_cols":61,"rows_kept":52,"merged":[[0,0,0,60],[1,0,2,0],[1,1,1,3],[1,4,1,6],[1,7,1,9],[1,10,1,12],[1,13,1,15],[1,16,1,18],[1,19,1,21],[1,22,1,24],[1,25,1,27],[1,28,1,30],[1,31,1,33],[1,34,1,36],[1,37,1,39],[1,40,1,42],[1,43,1,45],[1,46,1,48],[1,49,1,51],[1,52,1,54],[1,55,1,57],[1,58,1,60],[51,0,51,60]]}
["2022年各安全培训机构考生通过率统计表"]
["            培训机构\n    工种","江门市安信职业安全培训有限公司",null,null,"广东四维培训有限公司",null,null,"江门市技师学院",null,null,"江门市江海区共升教育培训中心",null,null,"江门市侨都安全咨询服务有限公司",null,null,"江门市安全生产管理协会",null,null,"江门市新会技师学院",null,null,"江门市新会机电职业技术学校",null,null,"鹤山市优创职业培训学校有限公司",null,null,"台山市安全生产管理协会",null,null,"鹤山市安全生产管理协会",null,null,"江门市江海区万众职业培训学校",null,null,"开平市中邑安安全技术咨询有限公司",null,null,"江门市江海区安全生产管理协会",null,null,"江门市天晟安全事务有限公司",null,null,"恩平市科瑞职业技术培训学校",null,null,"江门市金迪安全科技有限公司",null,null,"江门市易考安全技术服务有限公司",null,null,"鹤山市新供销协力教育咨询有限公司",null,null,"全市合计"]
[null,"实考人数","合格人数","通过率","实考人数","合格人数","通过率","实考人数","合格人数","通过率","实考人数","合格人数","通过率","实考人数","合格人数","通过率","实考人数","合格人数","通过率","实考人数","合格人数","通过率","实考人数","合格人数","通过率","实考人数","合格人数","通过率","实考人数","合格人数","通过率","实考人数","合格人数","通过率","实考人数","合格人数","通过率","实考人数","合格人数","通过率","实考人数","合格人数","通过率","实考人数","合格人数","通过率","实考人数","合格人数","通过率","实考人数","合格人数","通过率","实考人数","合格人数","通过率","实考人数","合格人数","通过率","实考人数","合格人数","通过率"]
["低压电工初训",{"$f":"'1月'!B4+'2月'!B4+'3月'!B4+'5月'!B4+'6月'!B4+'7月'!B4+'8月'!B4+'9月'!B4+'10月'!B4+'11月'!B4+'12月'!B4","v":507},{"$f":"'1月'!C4+'2月'!C4+'3月'!C4+'5月'!C4+'6月'!C4+'7月'!C4+'8月'!C4+'9月'!C4+'10月'!C4+'11月'!C4+'12月'!C4","v":415},{"$f":"C4/B4","v":{"v":0.818540433925049,"d":"81.9%"}},{"$f":"'1月'!E4+'2月'!E4+'3月'!E4+'5月'!E4+'6月'!E4+'7月'!E4+'8月'!E4+'9月'!E4+'10月'!E4+'11月'!E4+'12月'!E4","v":190},{"$f":"'1月'!F4+'2月'!F4+'3月'!F4+'5月'!F4+'6月'!F4+'7月'!F4+'8月'!F4+'9月'!F4+'10月'!F4+'11月'!F4+'12月'!F4","v":163},{"$f":"F4/E4","v":{"v":0.857894736842105,"d":"85.8%"}},{"$f":"'1月'!H4+'2月'!H4+'3月'!H4+'5月'!H4+'6月'!H4+'7月'!H4+'8月'!H4+'9月'!H4+'10月'!H4+'11月'!H4+'12月'!H4","v":326},{"$f":"'1月'!I4+'2月'!I4+'3月'!I4+'5月'!I4+'6月'!I4+'7月'!I4+'8月'!I4+'9月'!I4+'10月'!I4+'11月'!I4+'12月'!I4","v":236},{"$f":"I4/H4","v":{"v":0.723926380368098,"d":"72.4%"}},{"$f":"'1月'!K4+'2月'!K4+'3月'!K4+'5月'!K4+'6月'!K4+'7月'!K4+'8月'!K4+'9月'!K4+'10月'!K4+'11月'!K4+'12月'!K4","v":524},{"$f":"'1月'!L4+'2月'!L4+'3月'!L4+'5月'!L4+'6月'!L4+'7月'!L4+'8月'!L4+'9月'!L4+'10月'!L4+'11月'!L4+'12月'!L4","v":358},{"$f":"L4/K4","v":{"v":0.683206106870229,"d":"68.3%"}},{"$f":"'1月'!N4+'2月'!N4+'3月'!N4+'5月'!N4+'6月'!N4+'7月'!N4+'8月'!N4+'9月'!N4+'10月'!N4+'11月'!N4+'12月'!N4","v":366},{"$f":"'1月'!O4+'2月'!O4+'3月'!O4+'5月'!O4+'6月'!O4+'7月'!O4+'8月'!O4+'9月'!O4+'10月'!O4+'11月'!O4+'12月'!O4","v":289},{"$f":"O4/N4","v":{"v":0.789617486338798,"d":"79.0%"}},{"$f":"'1月'!Q4+'2月'!Q4+'3月'!Q4+'5月'!Q4+'6月'!Q4+'7月'!Q4+'8月'!Q4+'9月'!Q4+'10月'!Q4+'11月'!Q4+'12月'!Q4","v":43},{"$f":"'1月'!R4+'2月'!R4+'3月'!R4+'5月'!R4+'6月'!R4+'7月'!R4+'8月'!R4+'9月'!R4+'10月'!R4+'11月'!R4+'12月'!R4","v":38},{"$f":"R4/Q4","v":{"v":0.883720930232558,"d":"88.4%"}},{"$f":"'1月'!T4+'2月'!T4+'3月'!T4+'5月'!T4+'6月'!T4+'7月'!T4+'8月'!T4+'9月'!T4+'10月'!T4+'11月'!T4+'12月'!T4","v":191},{"$f":"'1月'!U4+'2月'!U4+'3月'!U4+'5月'!U4+'6月'!U4+'7月'!U4+'8月'!U4+'9月'!U4+'10月'!U4+'11月'!U4+'12月'!U4","v":151},{"$f":"U4/T4","v":{"v":0.790575916230366,"d":"79.1%"}},{"$f":"'1月'!W4+'2月'!W4+'3月'!W4+'5月'!W4+'6月'!W4+'7月'!W4+'8月'!W4+'9月'!W4+'10月'!W4+'11月'!W4+'12月'!W4","v":470},{"$f":"'1月'!X4+'2月'!X4+'3月'!X4+'5月'!X4+'6月'!X4+'7月'!X4+'8月'!X4+'9月'!X4+'10月'!X4+'11月'!X4+'12月'!X4","v":413},{"$f":"X4/W4","v":{"v":0.878723404255319,"d":"87.9%"}},{"$f":"'1月'!Z4+'2月'!Z4+'3月'!Z4+'5月'!Z4+'6月'!Z4+'7月'!Z4+'8月'!Z4+'9月'!Z4+'10月'!Z4+'11月'!Z4+'12月'!Z4","v":358},{"$f":"'1月'!AA4+'2月'!AA4+'3月'!AA4+'5月'!AA4+'6月'!AA4+'7月'!AA4+'8月'!AA4+'9月'!AA4+'10月'!AA4+'11月'!AA4+'12月'!AA4","v":270},{"$f":"AA4/Z4","v":{"v":0.754189944134078,"d":"75.4%"}},{"$f":"'1月'!AC4+'2月'!AC4+'3月'!AC4+'5月'!AC4+'6月'!AC4+'7月'!AC4+'8月'!AC4+'9月'!AC4+'10月'!AC4+'11月'!AC4+'12月'!AC4","v":211},{"$f":"'1月'!AD4+'2月'!AD4+'3月'!AD4+'5月'!AD4+'6月'!AD4+'7月'!AD4+'8月'!AD4+'9月'!AD4+'10月'!AD4+'11月'!AD4+'12月'!AD4","v":148},{"$f":"AD4/AC4","v":{"v":0.701421800947867,"d":"70.1%"}},{"$f":"'1月'!AF4+'2月'!AF4+'3月'!AF4+'5月'!AF4+'6月'!AF4+'7月'!AF4+'8月'!AF4+'9月'!AF4+'10月'!AF4+'11月'!AF4+'12月'!AF4","v":97},{"$f":"'1月'!AG4+'2月'!AG4+'3月'!AG4+'5月'!AG4+'6月'!AG4+'7月'!AG4+'8月'!AG4+'9月'!AG4+'10月'!AG4+'11月'!AG4+'12月'!AG4","v":68},{"$f":"AG4/AF4","v":{"v":0.701030927835051,"d":"70.1%"}},{"$f":"'1月'!AI4+'2月'!AI4+'3月'!AI4+'5月'!AI4+'6月'!AI4+'7月'!AI4+'8月'!AI4+'9月'!AI4+'10月'!AI4+'11月'!AI4+'12月'!AI4","v":578},{"$f":"'1月'!AJ4+'2月'!AJ4+'3月'!AJ4+'5月'!AJ4+'6月'!AJ4+'7月'!AJ4+'8月'!AJ4+'9月'!AJ4+'10月'!AJ4+'11月'!AJ4+'12月'!AJ4","v":381},{"$f":"AJ4/AI4","v":{"v":0.65916955017301,"d":"65.9%"}},{"$f":"'1月'!AL4+'2月'!AL4+'3月'!AL4+'5月'!AL4+'6月'!AL4+'7月'!AL4+'8月'!AL4+'9月'!AL4+'10月'!AL4+'11月'!AL4+'12月'!AL4","v":243},{"$f":"'1月'!AM4+'2月'!AM4+'3月'!AM4+'5月'!AM4+'6月'!AM4+'7月'!AM4+'8月'!AM4+'9月'!AM4+'10月'!AM4+'11月'!AM4+'12月'!AM4","v":192},{"$f":"AM4/AL4","v":{"v":0.790123456790123,"d":"79.0%"}},{"$f":"'1月'!AO4+'2月'!AO4+'3月'!AO4+'5月'!AO4+'6月'!AO4+'7月'!AO4+'8月'!AO4+'9月'!AO4+'10月'!AO4+'11月'!AO4+'12月'!AO4","v":25},{"$f":"'1月'!AP4+'2月'!AP4+'3月'!AP4+'5月'!AP4+'6月'!AP4+'7月'!AP4+'8月'!AP4+'9月'!AP4+'10月'!AP4+'11月'!AP4+'12月'!AP4","v":23},{"$f":"AP4/AO4","v":{"v":0.92,"d":"92.0%"}},{"$nulls":3},{"$f":"'8月'!AU4+'9月'!AU4+'10月'!AU4+'11月'!AU4+'12月'!AU4","v":6},{"$f":"'8月'!AV4+'9月'!AV4+'10月'!AV4+'11月'!AV4+'12月'!AV4","v":2},{"$f":"AV4/AU4","v":{"v":0.333333333333333,"d":"33.3%"}},{"$f":"'9月'!AX4+'10月'!AX4+'11月'!AX4+'12月'!AX4","v":16},{"$f":"'9月'!AY4+'10月'!AY4+'11月'!AY4+'12月'!AY4","v":15},{"$f":"AY4/AX4","v":{"v":0.9375,"d":"93.8%"}},{"$f":"'10月'!BA4+'11月'!BA4+'12月'!BA4","v":84},{"$f":"'10月'!BB4+'11月'!BB4+'12月'!BB4","v":64},{"$f":"BB4/BA4","v":{"v":0.761904761904762,"d":"76.2%"}},{"$f":"'12月'!BD4","v":45},{"$f":"'12月'!BE4","v":22},{"$f":"BE4/BD4","v":{"v":0.488888888888889,"d":"48.9%"}},{"$f":"B4+E4+H4+K4+N4+Q4+T4+W4+Z4+AC4+AF4+AI4+AL4+AO4+AR4+AU4+AX4+BA4+BD4","v":4280},{"$f":"C4+F4+I4+L4+O4+R4+U4+X4+AA4+AD4+AG4+AJ4+AM4+AP4+AS4+AV4+AY4+BB4+BE4","v":3248},{"$f":"BH4/BG4","v":{"v":0.758878504672897,"d":"75.9%"}}]
["高压电工初训",{"$f":"'1月'!B5+'2月'!B5+'3月'!B5+'5月'!B5+'6月'!B5+'7月'!B5+'8月'!B5+'9月'!B5+'10月'!B5+'11月'!B5+'12月'!B5","v":36},{"$f":"'1月'!C5+'2月'!C5+'3月'!C5+'5月'!C5+'6月'!C5+'7月'!C5+'8月'!C5+'9月'!C5+'10月'!C5+'11月'!C5+'12月'!C5","v":34},{"$f":"C5/B5","v":{"v":0.944444444444444,"d":"94.4%"}},{"$f":"'1月'!E5+'2月'!E5+'3月'!E5+'5月'!E5+'6月'!E5+'7月'!E5+'8月'!E5+'9月'!E5+'10月'!E5+'11月'!E5+'12月'!E5","v":89},{"$f":"'1月'!F5+'2月'!F5+'3月'!F5+'5月'!F5+'6月'!F5+'7月'!F5+'8月'!F5+'9月'!F5+'10月'!F5+'11月'!F5+'12月'!F5","v":71},{"$f":"F5/E5","v":{"v":0.797752808988764,"d":"79.8%"}},{"$nulls":3},{"$f":"'1月'!K5+'2月'!K5+'3月'!K5+'5月'!K5+'6月'!K5+'7月'!K5+'8月'!K5+'9月'!K5+'10月'!K5+'11月'!K5+'12月'!K5","v":72},{"$f":"'1月'!L5+'2月'!L5+'3月'!L5+'5月'!L5+'6月'!L5+'7月'!L5+'8月'!L5+'9月'!L5+'10月'!L5+'11月'!L5+'12月'!L5","v":62},{"$f":"L5/K5","v":{"v":0.861111111111111,"d":"86.1%"}},{"$f":"'1月'!N5+'2月'!N5+'3月'!N5+'5月'!N5+'6月'!N5+'7月'!N5+'8月'!N5+'9月'!N5+'10月'!N5+'11月'!N5+'12月'!N5","v":197},{"$f":"'1月'!O5+'2月'!O5+'3月'!O5+'5月'!O5+'6月'!O5+'7月'!O5+'8月'!O5+'9月'!O5+'10月'!O5+'11月'!O5+'12月'!O5","v":176},{"$f":"O5/N5","v":{"v":0.893401015228426,"d":"89.3%"}},{"$f":"'1月'!Q5+'2月'!Q5+'3月'!Q5+'5月'!Q5+'6月'!Q5+'7月'!Q5+'8月'!Q5+'9月'!Q5+'10月'!Q5+'11月'!Q5+'12月'!Q5","v":26},{"$f":"'1月'!R5+'2月'!R5+'3月'!R5+'5月'!R5+'6月'!R5+'7月'!R5+'8月'!R5+'9月'!R5+'10月'!R5+'11月'!R5+'12月'!R5","v":20},{"v":0.769230769230769,"d":"76.9%"},{"$f":"'1月'!T5+'2月'!T5+'3月'!T5+'5月'!T5+'6月'!T5+'7月'!T5+'8月'!T5+'9月'!T5+'10月'!T5+'11月'!T5+'12月'!T5","v":39},{"$f":"'1月'!U5+'2月'!U5+'3月'!U5+'5月'!U5+'6月'!U5+'7月'!U5+'8月'!U5+'9月'!U5+'10月'!U5+'11月'!U5+'12月'!U5","v":30},{"v":0.769230769230769,"d":"76.9%"},{"$nulls":15},{"$f":"'1月'!AL5+'2月'!AL5+'3月'!AL5+'5月'!AL5+'6月'!AL5+'7月'!AL5+'8月'!AL5+'9月'!AL5+'10月'!AL5+'11月'!AL5+'12月'!AL5","v":13},{"$f":"'1月'!AM5+'2月'!AM5+'3月'!AM5+'5月'!AM5+'6月'!AM5+'7月'!AM5+'8月'!AM5+'9月'!AM5+'10月'!AM5+'11月'!AM5+'12月'!AM5","v":12},{"v":0.923076923076923,"d":"92.3%"},{"$nulls":18},{"$f":"B5+E5+H5+K5+N5+Q5+T5+W5+Z5+AC5+AF5+AI5+AL5+AO5+AR5+AU5+AX5+BA5+BD5","v":472},405,{"v":0.858050847457627,"d":"85.8%"}]
["电力电缆初训",{"$nulls":3},{"$f":"'1月'!E6+'2月'!E6+'3月'!E6+'5月'!E6+'6月'!E6+'7月'!E6+'8月'!E6+'9月'!E6+'10月'!E6+'11月'!E6+'12月'!E6","v":35},{"$f":"'1月'!F6+'2月'!F6+'3月'!F6+'5月'!F6+'6月'!F6+'7月'!F6+'8月'!F6+'9月'!F6+'10月'!F6+'11月'!F6+'12月'!F6","v":30},{"$f":"F6/E6","v":{"v":0.857142857142857,"d":"85.7%"}},{"$nulls":51},35,30,{"v":0.857142857142857,"d":"85.7%"}]
["熔化焊接与热切割初训",{"$f":"'1月'!B7+'2月'!B7+'3月'!B7+'5月'!B7+'6月'!B7+'7月'!B7+'8月'!B7+'9月'!B7+'10月'!B7+'11月'!B7+'12月'!B7","v":234},{"$f":"'1月'!C7+'2月'!C7+'3月'!C7+'5月'!C7+'6月'!C7+'7月'!C7+'8月'!C7+'9月'!C7+'10月'!C7+'11月'!C7+'12月'!C7","v":193},{"$f":"C7/B7","v":{"v":0.824786324786325,"d":"82.5%"}},{"$nulls":3},{"$f":"'1月'!H7+'2月'!H7+'3月'!H7+'5月'!H7+'6月'!H7+'7月'!H7+'8月'!H7+'9月'!H7+'10月'!H7+'11月'!H7+'12月'!H7","v":97},{"$f":"'1月'!I7+'2月'!I7+'3月'!I7+'5月'!I7+'6月'!I7+'7月'!I7+'8月'!I7+'9月'!I7+'10月'!I7+'11月'!I7+'12月'!I7","v":62},{"$f":"I7/H7","v":{"v":0.639175257731959,"d":"63.9%"}},{"$f":"'1月'!K7+'2月'!K7+'3月'!K7+'5月'!K7+'6月'!K7+'7月'!K7+'8月'!K7+'9月'!K7+'10月'!K7+'11月'!K7+'12月'!K7","v":249},{"$f":"'1月'!L7+'2月'!L7+'3月'!L7+'5月'!L7+'6月'!L7+'7月'!L7+'8月'!L7+'9月'!L7+'10月'!L7+'11月'!L7+'12月'!L7","v":214},{"$f":"L7/K7","v":{"v":0.859437751004016,"d":"85.9%"}},{"$f":"'1月'!N7+'2月'!N7+'3月'!N7+'5月'!N7+'6月'!N7+'7月'!N7+'8月'!N7+'9月'!N7+'10月'!N7+'11月'!N7+'12月'!N7","v":162},{"$f":"'1月'!O7+'2月'!O7+'3月'!O7+'5月'!O7+'6月'!O7+'7月'!O7+'8月'!O7+'9月'!O7+'10月'!O7+'11月'!O7+'12月'!O7","v":139},{"$f":"O7/N7","v":{"v":0.858024691358025,"d":"85.8%"}},{"$f":"'1月'!Q7+'2月'!Q7+'3月'!Q7+'5月'!Q7+'6月'!Q7+'7月'!Q7+'8月'!Q7+'9月'!Q7+'10月'!Q7+'11月'!Q7+'12月'!Q7","v":63},{"$f":"'1月'!R7+'2月'!R7+'3月'!R7+'5月'!R7+'6月'!R7+'7月'!R7+'8月'!R7+'9月'!R7+'10月'!R7+'11月'!R7+'12月'!R7","v":57},{"v":0.904761904761905,"d":"90.5%"},{"$f":"'1月'!T7+'2月'!T7+'3月'!T7+'5月'!T7+'6月'!T7+'7月'!T7+'8月'!T7+'9月'!T7+'10月'!T7+'11月'!T7+'12月'!T7","v":181},{"$f":"'1月'!U7+'2月'!U7+'3月'!U7+'5月'!U7+'6月'!U7+'7月'!U7+'8月'!U7+'9月'!U7+'10月'!U7+'11月'!U7+'12月'!U7","v":145},{"v":0.801104972375691,"d":"80.1%"},{"$nulls":3},{"$f":"'1月'!Z7+'2月'!Z7+'3月'!Z7+'5月'!Z7+'6月'!Z7+'7月'!Z7+'8月'!Z7+'9月'!Z7+'10月'!Z7+'11月'!Z7+'12月'!Z7","v":398},{"$f":"'1月'!AA7+'2月'!AA7+'3月'!AA7+'5月'!AA7+'6月'!AA7+'7月'!AA7+'8月'!AA7+'9月'!AA7+'10月'!AA7+'11月'!AA7+'12月'!AA7","v":300},{"$f":"AA7/Z7","v":{"v":0.753768844221106,"d":"75.4%"}},{"$f":"'1月'!AC7+'2月'!AC7+'3月'!AC7+'5月'!AC7+'6月'!AC7+'7月'!AC7+'8月'!AC7+'9月'!AC7+'10月'!AC7+'11月'!AC7+'12月'!AC7","v":163},{"$f":"'1月'!AD7+'2月'!AD7+'3月'!AD7+'5月'!AD7+'6月'!AD7+'7月'!AD7+'8月'!AD7+'9月'!AD7+'10月'!AD7+'11月'!AD7+'12月'!AD7","v":121},{"$f":"AD7/AC7","v":{"v":0.742331288343558,"d":"74.2%"}},{"$f":"'1月'!AF7+'2月'!AF7+'3月'!AF7+'5月'!AF7+'6月'!AF7+'7月'!AF7+'8月'!AF7+'9月'!AF7+'10月'!AF7+'11月'!AF7+'12月'!AF7","v":198},{"$f":"'1月'!AG7+'2月'!AG7+'3月'!AG7+'5月'!AG7+'6月'!AG7+'7月'!AG7+'8月'!AG7+'9月'!AG7+'10月'!AG7+'11月'!AG7+'12月'!AG7","v":185},{"v":0.934343434343434,"d":"93.4%"},{"$f":"'1月'!AI7+'2月'!AI7+'3月'!AI7+'5月'!AI7+'6月'!AI7+'7月'!AI7+'8月'!AI7+'9月'!AI7+'10月'!AI7+'11月'!AI7+'12月'!AI7","v":463},{"$f":"'1月'!AJ7+'2月'!AJ7+'3月'!AJ7+'5月'!AJ7+'6月'!AJ7+'7月'!AJ7+'8月'!AJ7+'9月'!AJ7+'10月'!AJ7+'11月'!AJ7+'12月'!AJ7","v":351},{"v":0.758099352051836,"d":"75.8%"},{"$f":"'1月'!AL7+'2月'!AL7+'3月'!AL7+'5月'!AL7+'6月'!AL7+'7月'!AL7+'8月'!AL7+'9月'!AL7+'10月'!AL7+'11月'!AL7+'12月'!AL7","v":173},{"$f":"'1月'!AM7+'2月'!AM7+'3月'!AM7+'5月'!AM7+'6月'!AM7+'7月'!AM7+'8月'!AM7+'9月'!AM7+'10月'!AM7+'11月'!AM7+'12月'!AM7","v":146},{"v":0.84393063583815,"d":"84.4%"},{"$f":"'1月'!AO7+'2月'!AO7+'3月'!AO7+'5月'!AO7+'6月'!AO7+'7月'!AO7+'8月'!AO7+'9月'!AO7+'10月'!AO7+'11月'!AO7+'12月'!AO7","v":54},{"$f":"'1月'!AP7+'2月'!AP7+'3月'!AP7+'5月'!AP7+'6月'!AP7+'7月'!AP7+'8月'!AP7+'9月'!AP7+'10月'!AP7+'11月'!AP7+'12月'!AP7","v":38},{"v":0.703703703703704,"d":"70.4%"},{"$nulls":3},{"$f":"'8月'!AU7+'9月'!AU7+'10月'!AU7+'11月'!AU7+'12月'!AU7","v":12},{"$f":"'8月'!AV7+'9月'!AV7+'10月'!AV7+'11月'!AV7+'12月'!AV7","v":12},{"v":1,"d":"100.0%"},{"$nulls":3},{"$f":"'10月'!BA7+'11月'!BA7+'12月'!BA7","v":19},{"$f":"'10月'!BB7+'11月'!BB7+'12月'!BB7","v":17},{"$f":"BB7/BA7","v":{"v":0.894736842105263,"d":"89.5%"}},{"$f":"'12月'!BD7","v":16},{"$f":"'12月'!BE7","v":13},{"$f":"BE7/BD7","v":{"v":0.8125,"d":"81.3%"}},2482,1993,{"v":0.802981466559226,"d":"80.3%"}]
["高处安装维护拆除初训",{"$f":"'1月'!B8+'2月'!B8+'3月'!B8+'5月'!B8+'6月'!B8+'7月'!B8+'8月'!B8+'9月'!B8+'10月'!B8+'11月'!B8+'12月'!B8","v":330},{"$f":"'1月'!C8+'2月'!C8+'3月'!C8+'5月'!C8+'6月'!C8+'7月'!C8+'8月'!C8+'9月'!C8+'10月'!C8+'11月'!C8+'12月'!C8","v":285},{"$f":"C8/B8","v":{"v":0.863636363636364,"d":"86.4%"}},{"$f":"'1月'!E8+'2月'!E8+'3月'!E8+'5月'!E8+'6月'!E8+'7月'!E8+'8月'!E8+'9月'!E8+'10月'!E8+'11月'!E8+'12月'!E8","v":432},{"$f":"'1月'!F8+'2月'!F8+'3月'!F8+'5月'!F8+'6月'!F8+'7月'!F8+'8月'!F8+'9月'!F8+'10月'!F8+'11月'!F8+'12月'!F8","v":417},{"$f":"F8/E8","v":{"v":0.965277777777778,"d":"96.5%"}},{"$f":"'1月'!H8+'2月'!H8+'3月'!H8+'5月'!H8+'6月'!H8+'7月'!H8+'8月'!H8+'9月'!H8+'10月'!H8+'11月'!H8+'12月'!H8","v":0},{"$f":"'1月'!I8+'2月'!I8+'3月'!I8+'5月'!I8+'6月'!I8+'7月'!I8+'8月'!I8+'9月'!I8+'10月'!I8+'11月'!I8+'12月'!I8","v":0},{"$f":"I8/H8","v":{"$error":"#DIV/0!"}},{"$f":"'1月'!K8+'2月'!K8+'3月'!K8+'5月'!K8+'6月'!K8+'7月'!K8+'8月'!K8+'9月'!K8+'10月'!K8+'11月'!K8+'12月'!K8","v":521},{"$f":"'1月'!L8+'2月'!L8+'3月'!L8+'5月'!L8+'6月'!L8+'7月'!L8+'8月'!L8+'9月'!L8+'10月'!L8+'11月'!L8+'12月'!L8","v":463},{"$f":"L8/K8","v":{"v":0.888675623800384,"d":"88.9%"}},{"$nulls":3},{"$f":"'1月'!Q8+'2月'!Q8+'3月'!Q8+'5月'!Q8+'6月'!Q8+'7月'!Q8+'8月'!Q8+'9月'!Q8+'10月'!Q8+'11月'!Q8+'12月'!Q8","v":18},{"$f":"'1月'!R8+'2月'!R8+'3月'!R8+'5月'!R8+'6月'!R8+'7月'!R8+'8月'!R8+'9月'!R8+'10月'!R8+'11月'!R8+'12月'!R8","v":16},{"v":0.888888888888889,"d":"88.9%"},{"$f":"'1月'!T8+'2月'!T8+'3月'!T8+'5月'!T8+'6月'!T8+'7月'!T8+'8月'!T8+'9月'!T8+'10月'!T8+'11月'!T8+'12月'!T8","v":34},{"$f":"'1月'!U8+'2月'!U8+'3月'!U8+'5月'!U8+'6月'!U8+'7月'!U8+'8月'!U8+'9月'!U8+'10月'!U8+'11月'!U8+'12月'!U8","v":27},{"v":0.794117647058823,"d":"79.4%"},{"$nulls":15},{"$f":"'1月'!AL8+'2月'!AL8+'3月'!AL8+'5月'!AL8+'6月'!AL8+'7月'!AL8+'8月'!AL8+'9月'!AL8+'10月'!AL8+'11月'!AL8+'12月'!AL8","v":230},{"$f":"'1月'!AM8+'2月'!AM8+'3月'!AM8+'5月'!AM8+'6月'!AM8+'7月'!AM8+'8月'!AM8+'9月'!AM8+'10月'!AM8+'11月'!AM8+'12月'!AM8","v":214},{"v":0.930434782608696,"d":"93.0%"},{"$nulls":12},{"$f":"'10月'!BA8+'11月'!BA8+'12月'!BA8","v":70},{"$f":"'10月'!BB8+'11月'!BB8+'12月'!BB8","v":61},{"v":0.871428571428571,"d":"87.1%"},{"$f":"'12月'!BD8","v":45},{"$f":"'12月'!BE8","v":41},{"v":0.911111111111111,"d":"91.1%"},1680,1524,{"v":0.907142857142857,"d":"90.7%"}]
["特种作业初训合计",{"$f":"SUM(B4:B8)","v":1107},927,{"v":0.83739837398374,"d":"83.7%"},746,681,{"$f":"F9/E9","v":{"v":0.912868632707775,"d":"91.3%"}},423,298,{"$f":"I9/H9","v":{"v":0.704491725768322,"d":"70.4%"}},{"$f":"SUM(K4:K8)","v":1366},1097,{"$f":"L9/K9","v":{"v":0.80307467057101,"d":"80.3%"}},{"$f":"SUM(N4:N8)","v":725},604,{"$f":"O9/N9","v":{"v":0.833103448275862,"d":"83.3%"}},150,131,{"$f":"R9/Q9","v":{"v":0.873333333333333,"d":"87.3%"}},445,353,{"$f":"U9/T9","v":{"v":0.793258426966292,"d":"79.3%"}},{"$f":"SUM(W4:W8)","v":470},413,{"$f":"X9/W9","v":{"v":0.878723404255319,"d":"87.9%"}},756,570,{"v":0.753968253968254,"d":"75.4%"},{"$f":"SUM(AC4:AC8)","v":374},269,{"$f":"AD9/AC9","v":{"v":0.719251336898396,"d":"71.9%"}},295,253,{"$f":"AG9/AF9","v":{"v":0.857627118644068,"d":"85.8%"}},{"$f":"SUM(AI4:AI8)","v":1041},732,{"$f":"AJ9/AI9","v":{"v":0.703170028818444,"d":"70.3%"}},659,564,{"$f":"AM9/AL9","v":{"v":0.855842185128983,"d":"85.6%"}},{"$f":"SUM(AO4:AO8)","v":79},{"$f":"SUM(AP4:AP8)","v":61},{"$f":"AP9/AO9","v":{"v":0.772151898734177,"d":"77.2%"}},{"$nulls":3},{"$f":"SUM(AU4:AU8)","v":18},{"$f":"SUM(AV4:AV8)","v":14},{"v":0.777777777777778,"d":"77.8%"},{"$f":"SUM(AX4:AX8)","v":16},{"$f":"SUM(AY4:AY8)","v":15},{"v":0.9375,"d":"93.8%"},{"$f":"SUM(BA4:BA8)","v":173},{"$f":"SUM(BB4:BB8)","v":142},{"v":0.820809248554913,"d":"82.1%"},{"$f":"SUM(BD4:BD8)","v":106},{"$f":"SUM(BE4:BE8)","v":76},{"v":0.716981132075472,"d":"71.7%"},8949,7200,{"v":0.804559168622192,"d":"80.5%"}]
["低压电工复训",{"$f":"'1月'!B10+'2月'!B10+'3月'!B10+'5月'!B10+'6月'!B10+'7月'!B10+'8月'!B10+'9月'!B10+'10月'!B10+'11月'!B10+'12月'!B10","v":2369},{"$f":"'1月'!C10+'2月'!C10+'3月'!C10+'5月'!C10+'6月'!C10+'7月'!C10+'8月'!C10+'9月'!C10+'10月'!C10+'11月'!C10+'12月'!C10","v":2308},{"$f":"C10/B10","v":{"v":0.974250738708316,"d":"97.4%"}},{"$f":"'1月'!E10+'2月'!E10+'3月'!E10+'5月'!E10+'6月'!E10+'7月'!E10+'8月'!E10+'9月'!E10+'10月'!E10+'11月'!E10+'12月'!E10","v":499},{"$f":"'1月'!F10+'2月'!F10+'3月'!F10+'5月'!F10+'6月'!F10+'7月'!F10+'8月'!F10+'9月'!F10+'10月'!F10+'11月'!F10+'12月'!F10","v":486},{"v":0.973947895791583,"d":"97.4%"},{"$f":"'1月'!H10+'2月'!H10+'3月'!H10+'5月'!H10+'6月'!H10+'7月'!H10+'8月'!H10+'9月'!H10+'10月'!H10+'11月'!H10+'12月'!H10","v":114},{"$f":"'1月'!I10+'2月'!I10+'3月'!I10+'5月'!I10+'6月'!I10+'7月'!I10+'8月'!I10+'9月'!I10+'10月'!I10+'11月'!I10+'12月'!I10","v":109},{"$f":"I10/H10","v":{"v":0.956140350877193,"d":"95.6%"}},{"$f":"'1月'!K10+'2月'!K10+'3月'!K10+'5月'!K10+'6月'!K10+'7月'!K10+'8月'!K10+'9月'!K10+'10月'!K10+'11月'!K10+'12月'!K10","v":680},{"$f":"'1月'!L10+'2月'!L10+'3月'!L10+'5月'!L10+'6月'!L10+'7月'!L10+'8月'!L10+'9月'!L10+'10月'!L10+'11月'!L10+'12月'!L10","v":657},{"$f":"L10/K10","v":{"v":0.966176470588235,"d":"96.6%"}},{"$f":"'1月'!N10+'2月'!N10+'3月'!N10+'5月'!N10+'6月'!N10+'7月'!N10+'8月'!N10+'9月'!N10+'10月'!N10+'11月'!N10+'12月'!N10","v":581},{"$f":"'1月'!O10+'2月'!O10+'3月'!O10+'5月'!O10+'6月'!O10+'7月'!O10+'8月'!O10+'9月'!O10+'10月'!O10+'11月'!O10+'12月'!O10","v":560},{"$f":"O10/N10","v":{"v":0.963855421686747,"d":"96.4%"}},{"$f":"'1月'!Q10+'2月'!Q10+'3月'!Q10+'5月'!Q10+'6月'!Q10+'7月'!Q10+'8月'!Q10+'9月'!Q10+'10月'!Q10+'11月'!Q10+'12月'!Q10","v":97},{"$f":"'1月'!R10+'2月'!R10+'3月'!R10+'5月'!R10+'6月'!R10+'7月'!R10+'8月'!R10+'9月'!R10+'10月'!R10+'11月'!R10+'12月'!R10","v":96},{"v":0.989690721649485,"d":"99.0%"},{"$f":"'1月'!T10+'2月'!T10+'3月'!T10+'5月'!T10+'6月'!T10+'7月'!T10+'8月'!T10+'9月'!T10+'10月'!T10+'11月'!T10+'12月'!T10","v":114},{"$f":"'1月'!U10+'2月'!U10+'3月'!U10+'5月'!U10+'6月'!U10+'7月'!U10+'8月'!U10+'9月'!U10+'10月'!U10+'11月'!U10+'12月'!U10","v":110},{"v":0.964912280701754,"d":"96.5%"},{"$nulls":3},{"$f":"'1月'!Z10+'2月'!Z10+'3月'!Z10+'5月'!Z10+'6月'!Z10+'7月'!Z10+'8月'!Z10+'9月'!Z10+'10月'!Z10+'11月'!Z10+'12月'!Z10","v":77},{"$f":"'1月'!AA10+'2月'!AA10+'3月'!AA10+'5月'!AA10+'6月'!AA10+'7月'!AA10+'8月'!AA10+'9月'!AA10+'10月'!AA10+'11月'!AA10+'12月'!AA10","v":74},{"$f":"AA10/Z10","v":{"v":0.961038961038961,"d":"96.1%"}},{"$f":"'1月'!AC10+'2月'!AC10+'3月'!AC10+'5月'!AC10+'6月'!AC10+'7月'!AC10+'8月'!AC10+'9月'!AC10+'10月'!AC10+'11月'!AC10+'12月'!AC10","v":793},{"$f":"'1月'!AD10+'2月'!AD10+'3月'!AD10+'5月'!AD10+'6月'!AD10+'7月'!AD10+'8月'!AD10+'9月'!AD10+'10月'!AD10+'11月'!AD10+'12月'!AD10","v":767},{"$f":"AD10/AC10","v":{"v":0.967213114754098,"d":"96.7%"}},{"$f":"'1月'!AF10+'2月'!AF10+'3月'!AF10+'5月'!AF10+'6月'!AF10+'7月'!AF10+'8月'!AF10+'9月'!AF10+'10月'!AF10+'11月'!AF10+'12月'!AF10","v":728},{"$f":"'1月'!AG10+'2月'!AG10+'3月'!AG10+'5月'!AG10+'6月'!AG10+'7月'!AG10+'8月'!AG10+'9月'!AG10+'10月'!AG10+'11月'!AG10+'12月'!AG10","v":713},{"$f":"AG10/AF10","v":{"v":0.979395604395604,"d":"97.9%"}},{"$f":"'1月'!AI10+'2月'!AI10+'3月'!AI10+'5月'!AI10+'6月'!AI10+'7月'!AI10+'8月'!AI10+'9月'!AI10+'10月'!AI10+'11月'!AI10+'12月'!AI10","v":293},{"$f":"'1月'!AJ10+'2月'!AJ10+'3月'!AJ10+'5月'!AJ10+'6月'!AJ10+'7月'!AJ10+'8月'!AJ10+'9月'!AJ10+'10月'!AJ10+'11月'!AJ10+'12月'!AJ10","v":274},{"$f":"AJ10/AI10","v":{"v":0.935153583617747,"d":"93.5%"}},{"$f":"'1月'!AL10+'2月'!AL10+'3月'!AL10+'5月'!AL10+'6月'!AL10+'7月'!AL10+'8月'!AL10+'9月'!AL10+'10月'!AL10+'11月'!AL10+'12月'!AL10","v":275},{"$f":"'1月'!AM10+'2月'!AM10+'3月'!AM10+'5月'!AM10+'6月'!AM10+'7月'!AM10+'8月'!AM10+'9月'!AM10+'10月'!AM10+'11月'!AM10+'12月'!AM10","v":264},{"$f":"AM10/AL10","v":{"v":0.96,"d":"96.0%"}},{"$f":"'1月'!AO10+'2月'!AO10+'3月'!AO10+'5月'!AO10+'6月'!AO10+'7月'!AO10+'8月'!AO10+'9月'!AO10+'10月'!AO10+'11月'!AO10+'12月'!AO10","v":20},{"$f":"'1月'!AP10+'2月'!AP10+'3月'!AP10+'5月'!AP10+'6月'!AP10+'7月'!AP10+'8月'!AP10+'9月'!AP10+'10月'!AP10+'11月'!AP10+'12月'!AP10","v":20},{"$f":"AP10/AO10","v":{"v":1,"d":"100.0%"}},{"$nulls":3},{"$f":"'8月'!AU10+'9月'!AU10+'10月'!AU10+'11月'!AU10+'12月'!AU10","v":23},{"$f":"'8月'!AV10+'9月'!AV10+'10月'!AV10+'11月'!AV10+'12月'!AV10","v":20},{"v":0.869565217391304,"d":"87.0%"},{"$f":"'9月'!AX10+'10月'!AX10+'11月'!AX10+'12月'!AX10","v":16},{"$f":"'9月'!AY10+'10月'!AY10+'11月'!AY10+'12月'!AY10","v":15},{"v":0.9375,"d":"93.8%"},{"$f":"'10月'!BA10+'11月'!BA10+'12月'!BA10","v":62},{"$f":"'10月'!BB10+'11月'!BB10+'12月'!BB10","v":61},{"$f":"BB10/BA10","v":{"v":0.983870967741935,"d":"98.4%"}},{"$f":"'12月'!BD10","v":28},{"$f":"'12月'!BE10","v":28},{"$f":"BE10/BD10","v":{"v":1,"d":"100.0%"}},6769,6562,{"v":0.96941941202541,"d":"96.9%"}]
["高压电工复训",{"$f":"'1月'!B11+'2月'!B11+'3月'!B11+'5月'!B11+'6月'!B11+'7月'!B11+'8月'!B11+'9月'!B11+'10月'!B11+'11月'!B11+'12月'!B11","v":502},{"$f":"'1月'!C11+'2月'!C11+'3月'!C11+'5月'!C11+'6月'!C11+'7月'!C11+'8月'!C11+'9月'!C11+'10月'!C11+'11月'!C11+'12月'!C11","v":449},{"$f":"C11/B11","v":{"v":0.894422310756972,"d":"89.4%"}},{"$f":"'1月'!E11+'2月'!E11+'3月'!E11+'5月'!E11+'6月'!E11+'7月'!E11+'8月'!E11+'9月'!E11+'10月'!E11+'11月'!E11+'12月'!E11","v":358},{"$f":"'1月'!F11+'2月'!F11+'3月'!F11+'5月'!F11+'6月'!F11+'7月'!F11+'8月'!F11+'9月'!F11+'10月'!F11+'11月'!F11+'12月'!F11","v":312},{"v":0.871508379888268,"d":"87.2%"},{"$nulls":3},{"$f":"'1月'!K11+'2月'!K11+'3月'!K11+'5月'!K11+'6月'!K11+'7月'!K11+'8月'!K11+'9月'!K11+'10月'!K11+'11月'!K11+'12月'!K11","v":243},{"$f":"'1月'!L11+'2月'!L11+'3月'!L11+'5月'!L11+'6月'!L11+'7月'!L11+'8月'!L11+'9月'!L11+'10月'!L11+'11月'!L11+'12月'!L11","v":233},{"$f":"L11/K11","v":{"v":0.958847736625514,"d":"95.9%"}},{"$f":"'1月'!N11+'2月'!N11+'3月'!N11+'5月'!N11+'6月'!N11+'7月'!N11+'8月'!N11+'9月'!N11+'10月'!N11+'11月'!N11+'12月'!N11","v":72},{"$f":"'1月'!O11+'2月'!O11+'3月'!O11+'5月'!O11+'6月'!O11+'7月'!O11+'8月'!O11+'9月'!O11+'10月'!O11+'11月'!O11+'12月'!O11","v":68},{"$f":"O11/N11","v":{"v":0.944444444444444,"d":"94.4%"}},{"$f":"'1月'!Q11+'2月'!Q11+'3月'!Q11+'5月'!Q11+'6月'!Q11+'7月'!Q11+'8月'!Q11+'9月'!Q11+'10月'!Q11+'11月'!Q11+'12月'!Q11","v":82},{"$f":"'1月'!R11+'2月'!R11+'3月'!R11+'5月'!R11+'6月'!R11+'7月'!R11+'8月'!R11+'9月'!R11+'10月'!R11+'11月'!R11+'12月'!R11","v":77},{"v":0.939024390243902,"d":"93.9%"},{"$f":"'1月'!T11+'2月'!T11+'3月'!T11+'5月'!T11+'6月'!T11+'7月'!T11+'8月'!T11+'9月'!T11+'10月'!T11+'11月'!T11+'12月'!T11","v":27},{"$f":"'1月'!U11+'2月'!U11+'3月'!U11+'5月'!U11+'6月'!U11+'7月'!U11+'8月'!U11+'9月'!U11+'10月'!U11+'11月'!U11+'12月'!U11","v":26},{"v":0.962962962962963,"d":"96.3%"},{"$nulls":6},{"$f":"'1月'!AC11+'2月'!AC11+'3月'!AC11+'5月'!AC11+'6月'!AC11+'7月'!AC11+'8月'!AC11+'9月'!AC11+'10月'!AC11+'11月'!AC11+'12月'!AC11","v":250},{"$f":"'1月'!AD11+'2月'!AD11+'3月'!AD11+'5月'!AD11+'6月'!AD11+'7月'!AD11+'8月'!AD11+'9月'!AD11+'10月'!AD11+'11月'!AD11+'12月'!AD11","v":249},{"$f":"AD11/AC11","v":{"v":0.996,"d":"99.6%"}},{"$f":"'1月'!AF11+'2月'!AF11+'3月'!AF11+'5月'!AF11+'6月'!AF11+'7月'!AF11+'8月'!AF11+'9月'!AF11+'10月'!AF11+'11月'!AF11+'12月'!AF11","v":81},{"$f":"'1月'!AG11+'2月'!AG11+'3月'!AG11+'5月'!AG11+'6月'!AG11+'7月'!AG11+'8月'!AG11+'9月'!AG11+'10月'!AG11+'11月'!AG11+'12月'!AG11","v":77},{"$f":"AG11/AF11","v":{"v":0.950617283950617,"d":"95.1%"}},{"$nulls":3},{"$f":"'1月'!AL11+'2月'!AL11+'3月'!AL11+'5月'!AL11+'6月'!AL11+'7月'!AL11+'8月'!AL11+'9月'!AL11+'10月'!AL11+'11月'!AL11+'12月'!AL11","v":33},{"$f":"'1月'!AM11+'2月'!AM11+'3月'!AM11+'5月'!AM11+'6月'!AM11+'7月'!AM11+'8月'!AM11+'9月'!AM11+'10月'!AM11+'11月'!AM11+'12月'!AM11","v":30},{"$f":"AM11/AL11","v":{"v":0.909090909090909,"d":"90.9%"}},{"$f":"'1月'!AO11+'2月'!AO11+'3月'!AO11+'5月'!AO11+'6月'!AO11+'7月'!AO11+'8月'!AO11+'9月'!AO11+'10月'!AO11+'11月'!AO11+'12月'!AO11","v":1},{"$f":"'1月'!AP11+'2月'!AP11+'3月'!AP11+'5月'!AP11+'6月'!AP11+'7月'!AP11+'8月'!AP11+'9月'!AP11+'10月'!AP11+'11月'!AP11+'12月'!AP11","v":1},{"$f":"AP11/AO11","v":{"v":1,"d":"100.0%"}},{"$nulls":15},1649,1522,{"v":0.922983626440267,"d":"92.3%"}]
["熔化焊接与热切割复训",{"$f":"'1月'!B12+'2月'!B12+'3月'!B12+'5月'!B12+'6月'!B12+'7月'!B12+'8月'!B12+'9月'!B12+'10月'!B12+'11月'!B12+'12月'!B12","v":636},{"$f":"'1月'!C12+'2月'!C12+'3月'!C12+'5月'!C12+'6月'!C12+'7月'!C12+'8月'!C12+'9月'!C12+'10月'!C12+'11月'!C12+'12月'!C12","v":595},{"$f":"C12/B12","v":{"v":0.935534591194969,"d":"93.6%"}},{"$f":"'1月'!E12+'2月'!E12+'3月'!E12+'5月'!E12+'6月'!E12+'7月'!E12+'8月'!E12+'9月'!E12+'10月'!E12+'11月'!E12+'12月'!E12","v":38},{"$f":"'1月'!F12+'2月'!F12+'3月'!F12+'5月'!F12+'6月'!F12+'7月'!F12+'8月'!F12+'9月'!F12+'10月'!F12+'11月'!F12+'12月'!F12","v":36},{"v":0.947368421052632,"d":"94.7%"},{"$f":"'1月'!H12+'2月'!H12+'3月'!H12+'5月'!H12+'6月'!H12+'7月'!H12+'8月'!H12+'9月'!H12+'10月'!H12+'11月'!H12+'12月'!H12","v":3},{"$f":"'1月'!I12+'2月'!I12+'3月'!I12+'5月'!I12+'6月'!I12+'7月'!I12+'8月'!I12+'9月'!I12+'10月'!I12+'11月'!I12+'12月'!I12","v":3},{"$f":"I12/H12","v":{"v":1,"d":"100.0%"}},{"$f":"'1月'!K12+'2月'!K12+'3月'!K12+'5月'!K12+'6月'!K12+'7月'!K12+'8月'!K12+'9月'!K12+'10月'!K12+'11月'!K12+'12月'!K12","v":317},{"$f":"'1月'!L12+'2月'!L12+'3月'!L12+'5月'!L12+'6月'!L12+'7月'!L12+'8月'!L12+'9月'!L12+'10月'!L12+'11月'!L12+'12月'!L12","v":293},{"$f":"L12/K12","v":{"v":0.924290220820189,"d":"92.4%"}},{"$f":"'1月'!N12+'2月'!N12+'3月'!N12+'5月'!N12+'6月'!N12+'7月'!N12+'8月'!N12+'9月'!N12+'10月'!N12+'11月'!N12+'12月'!N12","v":91},{"$f":"'1月'!O12+'2月'!O12+'3月'!O12+'5月'!O12+'6月'!O12+'7月'!O12+'8月'!O12+'9月'!O12+'10月'!O12+'11月'!O12+'12月'!O12","v":80},{"$f":"O12/N12","v":{"v":0.879120879120879,"d":"87.9%"}},{"$f":"'1月'!Q12+'2月'!Q12+'3月'!Q12+'5月'!Q12+'6月'!Q12+'7月'!Q12+'8月'!Q12+'9月'!Q12+'10月'!Q12+'11月'!Q12+'12月'!Q12","v":64},{"$f":"'1月'!R12+'2月'!R12+'3月'!R12+'5月'!R12+'6月'!R12+'7月'!R12+'8月'!R12+'9月'!R12+'10月'!R12+'11月'!R12+'12月'!R12","v":61},{"v":0.953125,"d":"95.3%"},{"$f":"'1月'!T12+'2月'!T12+'3月'!T12+'5月'!T12+'6月'!T12+'7月'!T12+'8月'!T12+'9月'!T12+'10月'!T12+'11月'!T12+'12月'!T12","v":47},{"$f":"'1月'!U12+'2月'!U12+'3月'!U12+'5月'!U12+'6月'!U12+'7月'!U12+'8月'!U12+'9月'!U12+'10月'!U12+'11月'!U12+'12月'!U12","v":47},{"v":1,"d":"100.0%"},{"$nulls":3},{"$f":"'1月'!Z12+'2月'!Z12+'3月'!Z12+'5月'!Z12+'6月'!Z12+'7月'!Z12+'8月'!Z12+'9月'!Z12+'10月'!Z12+'11月'!Z12+'12月'!Z12","v":13},{"$f":"'1月'!AA12+'2月'!AA12+'3月'!AA12+'5月'!AA12+'6月'!AA12+'7月'!AA12+'8月'!AA12+'9月'!AA12+'10月'!AA12+'11月'!AA12+'12月'!AA12","v":11},{"$f":"AA12/Z12","v":{"v":0.846153846153846,"d":"84.6%"}},{"$f":"'1月'!AC12+'2月'!AC12+'3月'!AC12+'5月'!AC12+'6月'!AC12+'7月'!AC12+'8月'!AC12+'9月'!AC12+'10月'!AC12+'11月'!AC12+'12月'!AC12","v":123},{"$f":"'1月'!AD12+'2月'!AD12+'3月'!AD12+'5月'!AD12+'6月'!AD12+'7月'!AD12+'8月'!AD12+'9月'!AD12+'10月'!AD12+'11月'!AD12+'12月'!AD12","v":110},{"$f":"AD12/AC12","v":{"v":0.894308943089431,"d":"89.4%"}},{"$f":"'1月'!AF12+'2月'!AF12+'3月'!AF12+'5月'!AF12+'6月'!AF12+'7月'!AF12+'8月'!AF12+'9月'!AF12+'10月'!AF12+'11月'!AF12+'12月'!AF12","v":185},{"$f":"'1月'!AG12+'2月'!AG12+'3月'!AG12+'5月'!AG12+'6月'!AG12+'7月'!AG12+'8月'!AG12+'9月'!AG12+'10月'!AG12+'11月'!AG12+'12月'!AG12","v":179},{"$f":"AG12/AF12","v":{"v":0.967567567567568,"d":"96.8%"}},{"$f":"'1月'!AI12+'2月'!AI12+'3月'!AI12+'5月'!AI12+'6月'!AI12+'7月'!AI12+'8月'!AI12+'9月'!AI12+'10月'!AI12+'11月'!AI12+'12月'!AI12","v":102},{"$f":"'1月'!AJ12+'2月'!AJ12+'3月'!AJ12+'5月'!AJ12+'6月'!AJ12+'7月'!AJ12+'8月'!AJ12+'9月'!AJ12+'10月'!AJ12+'11月'!AJ12+'12月'!AJ12","v":90},{"$f":"AJ12/AI12","v":{"v":0.882352941176471,"d":"88.2%"}},{"$f":"'1月'!AL12+'2月'!AL12+'3月'!AL12+'5月'!AL12+'6月'!AL12+'7月'!AL12+'8月'!AL12+'9月'!AL12+'10月'!AL12+'11月'!AL12+'12月'!AL12","v":43},{"$f":"'1月'!AM12+'2月'!AM12+'3月'!AM12+'5月'!AM12+'6月'!AM12+'7月'!AM12+'8月'!AM12+'9月'!AM12+'10月'!AM12+'11月'!AM12+'12月'!AM12","v":38},{"$f":"AM12/AL12","v":{"v":0.883720930232558,"d":"88.4%"}},{"$f":"'1月'!AO12+'2月'!AO12+'3月'!AO12+'5月'!AO12+'6月'!AO12+'7月'!AO12+'8月'!AO12+'9月'!AO12+'10月'!AO12+'11月'!AO12+'12月'!AO12","v":11},{"$f":"'1月'!AP12+'2月'!AP12+'3月'!AP12+'5月'!AP12+'6月'!AP12+'7月'!AP12+'8月'!AP12+'9月'!AP12+'10月'!AP12+'11月'!AP12+'12月'!AP12","v":9},{"$f":"AP12/AO12","v":{"v":0.818181818181818,"d":"81.8%"}},{"$nulls":3},{"$f":"'8月'!AU12+'9月'!AU12+'10月'!AU12+'11月'!AU12+'12月'!AU12","v":6},{"$f":"'8月'!AV12+'9月'!AV12+'10月'!AV12+'11月'!AV12+'12月'!AV12","v":6},{"$f":"AV12/AU12","v":{"v":1,"d":"100.0%"}},{"$f":"'9月'!AX12+'10月'!AX12+'11月'!AX12+'12月'!AX12","v":3},{"$f":"'9月'!AY12+'10月'!AY12+'11月'!AY12+'12月'!AY12","v":3},{"$f":"AY12/AX12","v":{"v":1,"d":"100.0%"}},{"$f":"'10月'!BA12+'11月'!BA12+'12月'!BA12","v":8},{"$f":"'10月'!BB12+'11月'!BB12+'12月'!BB12","v":7},{"$f":"BB12/BA12","v":{"v":0.875,"d":"87.5%"}},{"$f":"'12月'!BD12","v":8},{"$f":"'12月'!BE12","v":7},{"$f":"BE12/BD12","v":{"v":0.875,"d":"87.5%"}},1698,1575,{"v":0.92756183745583,"d":"92.8%"}]
["钎焊复训"]
["高处安装维护拆除复训",{"$f":"'1月'!B14+'2月'!B14+'3月'!B14+'5月'!B14+'6月'!B14+'7月'!B14+'8月'!B14+'9月'!B14+'10月'!B14+'11月'!B14+'12月'!B14","v":485},{"$f":"'1月'!C14+'2月'!C14+'3月'!C14+'5月'!C14+'6月'!C14+'7月'!C14+'8月'!C14+'9月'!C14+'10月'!C14+'11月'!C14+'12月'!C14","v":458},{"$f":"C14/B14","v":{"v":0.944329896907216,"d":"94.4%"}},{"$f":"'1月'!E14+'2月'!E14+'3月'!E14+'5月'!E14+'6月'!E14+'7月'!E14+'8月'!E14+'9月'!E14+'10月'!E14+'11月'!E14+'12月'!E14","v":1091},{"$f":"'1月'!F14+'2月'!F14+'3月'!F14+'5月'!F14+'6月'!F14+'7月'!F14+'8月'!F14+'9月'!F14+'10月'!F14+'11月'!F14+'12月'!F14","v":1050},{"v":0.962419798350137,"d":"96.2%"},{"$nulls":3},{"$f":"'1月'!K14+'2月'!K14+'3月'!K14+'5月'!K14+'6月'!K14+'7月'!K14+'8月'!K14+'9月'!K14+'10月'!K14+'11月'!K14+'12月'!K14","v":52},{"$f":"'1月'!L14+'2月'!L14+'3月'!L14+'5月'!L14+'6月'!L14+'7月'!L14+'8月'!L14+'9月'!L14+'10月'!L14+'11月'!L14+'12月'!L14","v":50},{"$f":"L14/K14","v":{"v":0.961538461538462,"d":"96.2%"}},{"$nulls":3},{"$f":"'1月'!Q14+'2月'!Q14+'3月'!Q14+'5月'!Q14+'6月'!Q14+'7月'!Q14+'8月'!Q14+'9月'!Q14+'10月'!Q14+'11月'!Q14+'12月'!Q14","v":10},{"$f":"'1月'!R14+'2月'!R14+'3月'!R14+'5月'!R14+'6月'!R14+'7月'!R14+'8月'!R14+'9月'!R14+'10月'!R14+'11月'!R14+'12月'!R14","v":7},{"v":0.7,"d":"70.0%"},{"$f":"'1月'!T14+'2月'!T14+'3月'!T14+'5月'!T14+'6月'!T14+'7月'!T14+'8月'!T14+'9月'!T14+'10月'!T14+'11月'!T14+'12月'!T14","v":10},{"$f":"'1月'!U14+'2月'!U14+'3月'!U14+'5月'!U14+'6月'!U14+'7月'!U14+'8月'!U14+'9月'!U14+'10月'!U14+'11月'!U14+'12月'!U14","v":10},{"v":1,"d":"100.0%"},{"$nulls":15},{"$f":"'1月'!AL14+'2月'!AL14+'3月'!AL14+'5月'!AL14+'6月'!AL14+'7月'!AL14+'8月'!AL14+'9月'!AL14+'10月'!AL14+'11月'!AL14+'12月'!AL14","v":7},{"$f":"'1月'!AM14+'2月'!AM14+'3月'!AM14+'5月'!AM14+'6月'!AM14+'7月'!AM14+'8月'!AM14+'9月'!AM14+'10月'!AM14+'11月'!AM14+'12月'!AM14","v":7},{"$f":"AM14/AL14","v":{"v":1,"d":"100.0%"}},{"$nulls":12},{"$f":"'10月'!BA14+'11月'!BA14+'12月'!BA14","v":9},{"$f":"'10月'!BB14+'11月'!BB14+'12月'!BB14","v":7},{"$f":"BB14/BA14","v":{"v":0.777777777777778,"d":"77.8%"}},{"$f":"'12月'!BD14","v":2},{"$f":"'12月'!BE14","v":2},{"$f":"BE14/BD14","v":{"v":1,"d":"100.0%"}},1666,1591,{"$f":"BH14/BG14","v":{"v":0.954981992797119,"d":"95.5%"}}]
["登高架设复训",{"$f":"'1月'!B15+'2月'!B15+'3月'!B15+'5月'!B15+'6月'!B15+'7月'!B15+'8月'!B15+'9月'!B15+'10月'!B15+'11月'!B15+'12月'!B15","v":17},{"$f":"'1月'!C15+'2月'!C15+'3月'!C15+'5月'!C15+'6月'!C15+'7月'!C15+'8月'!C15+'9月'!C15+'10月'!C15+'11月'!C15+'12月'!C15","v":14},{"$f":"C15/B15","v":{"v":0.823529411764706,"d":"82.4%"}},{"$f":"'1月'!E15+'2月'!E15+'3月'!E15+'5月'!E15+'6月'!E15+'7月'!E15+'8月'!E15+'9月'!E15+'10月'!E15+'11月'!E15+'12月'!E15","v":5},{"$f":"'1月'!F15+'2月'!F15+'3月'!F15+'5月'!F15+'6月'!F15+'7月'!F15+'8月'!F15+'9月'!F15+'10月'!F15+'11月'!F15+'12月'!F15","v":4},{"v":0.8,"d":"80.0%"},{"$nulls":9},{"$f":"'1月'!Q15+'2月'!Q15+'3月'!Q15+'5月'!Q15+'6月'!Q15+'7月'!Q15+'8月'!Q15+'9月'!Q15+'10月'!Q15+'11月'!Q15+'12月'!Q15","v":4},{"$f":"'1月'!R15+'2月'!R15+'3月'!R15+'5月'!R15+'6月'!R15+'7月'!R15+'8月'!R15+'9月'!R15+'10月'!R15+'11月'!R15+'12月'!R15","v":4},{"v":1,"d":"100.0%"},{"$nulls":39},26,22,{"v":0.846153846153846,"d":"84.6%"}]
["制冷与空调运行操作复训",{"$f":"'1月'!B16+'2月'!B16+'3月'!B16+'5月'!B16+'6月'!B16+'7月'!B16+'8月'!B16+'9月'!B16+'10月'!B16+'11月'!B16+'12月'!B16","v":3},{"$f":"'1月'!C16+'2月'!C16+'3月'!C16+'5月'!C16+'6月'!C16+'7月'!C16+'8月'!C16+'9月'!C16+'10月'!C16+'11月'!C16+'12月'!C16","v":3},{"$f":"C16/B16","v":{"v":1,"d":"100.0%"}},{"$nulls":54},3,3,{"v":1,"d":"100.0%"}]
["制冷与空调安装修理复训",{"$f":"'1月'!B17+'2月'!B17+'3月'!B17+'5月'!B17+'6月'!B17+'7月'!B17+'8月'!B17+'9月'!B17+'10月'!B17+'11月'!B17+'12月'!B17","v":12},{"$f":"'1月'!C17+'2月'!C17+'3月'!C17+'5月'!C17+'6月'!C17+'7月'!C17+'8月'!C17+'9月'!C17+'10月'!C17+'11月'!C17+'12月'!C17","v":12},{"$f":"C17/B17","v":{"v":1,"d":"100.0%"}},{"$nulls":54},12,12,{"v":1,"d":"100.0%"}]
["矿山安检复训",{"$f":"'1月'!B18+'2月'!B18+'3月'!B18+'5月'!B18+'6月'!B18+'7月'!B18+'8月'!B18+'9月'!B18+'10月'!B18+'11月'!B18+'12月'!B18","v":14},{"$f":"'1月'!C18+'2月'!C18+'3月'!C18+'5月'!C18+'6月'!C18+'7月'!C18+'8月'!C18+'9月'!C18+'10月'!C18+'11月'!C18+'12月'!C18","v":13},{"$f":"C18/B18","v":{"v":0.928571428571429,"d":"92.9%"}},{"$nulls":12},{"$f":"'1月'!Q18+'2月'!Q18+'3月'!Q18+'5月'!Q18+'6月'!Q18+'7月'!Q18+'8月'!Q18+'9月'!Q18+'10月'!Q18+'11月'!Q18+'12月'!Q18","v":3},{"$f":"'1月'!R18+'2月'!R18+'3月'!R18+'5月'!R18+'6月'!R18+'7月'!R18+'8月'!R18+'9月'!R18+'10月'!R18+'11月'!R18+'12月'!R18","v":3},{"v":1,"d":"100.0%"},{"$nulls":39},17,16,{"v":0.941176470588235,"d":"94.1%"}]
["电力电缆复训",{"$f":"'1月'!B19+'2月'!B19+'3月'!B19+'5月'!B19+'6月'!B19+'7月'!B19+'8月'!B19+'9月'!B19+'10月'!B19+'11月'!B19+'12月'!B19","v":15},{"$f":"'1月'!C19+'2月'!C19+'3月'!C19+'5月'!C19+'6月'!C19+'7月'!C19+'8月'!C19+'9月'!C19+'10月'!C19+'11月'!C19+'12月'!C19","v":11},{"$f":"C19/B19","v":{"v":0.733333333333333,"d":"73.3%"}},{"$f":"'1月'!E19+'2月'!E19+'3月'!E19+'5月'!E19+'6月'!E19+'7月'!E19+'8月'!E19+'9月'!E19+'10月'!E19+'11月'!E19+'12月'!E19","v":36},{"$f":"'1月'!F19+'2月'!F19+'3月'!F19+'5月'!F19+'6月'!F19+'7月'!F19+'8月'!F19+'9月'!F19+'10月'!F19+'11月'!F19+'12月'!F19","v":20},{"v":0.555555555555556,"d":"55.6%"},{"$nulls":3},{"$f":"'1月'!K19+'2月'!K19+'3月'!K19+'5月'!K19+'6月'!K19+'7月'!K19+'8月'!K19+'9月'!K19+'10月'!K19+'11月'!K19+'12月'!K19","v":2},{"$f":"'1月'!L19+'2月'!L19+'3月'!L19+'5月'!L19+'6月'!L19+'7月'!L19+'8月'!L19+'9月'!L19+'10月'!L19+'11月'!L19+'12月'!L19","v":2},{"$f":"L19/K19","v":{"v":1,"d":"100.0%"}},{"$nulls":45},53,33,{"v":0.622641509433962,"d":"62.3%"}]
["电气试验复训",{"$f":"'1月'!B20+'2月'!B20+'3月'!B20+'5月'!B20+'6月'!B20+'7月'!B20+'8月'!B20+'9月'!B20+'10月'!B20+'11月'!B20+'12月'!B20","v":16},{"$f":"'1月'!C20+'2月'!C20+'3月'!C20+'5月'!C20+'6月'!C20+'7月'!C20+'8月'!C20+'9月'!C20+'10月'!C20+'11月'!C20+'12月'!C20","v":12},{"$f":"C20/B20","v":{"v":0.75,"d":"75.0%"}},{"$f":"'1月'!E20+'2月'!E20+'3月'!E20+'5月'!E20+'6月'!E20+'7月'!E20+'8月'!E20+'9月'!E20+'10月'!E20+'11月'!E20+'12月'!E20","v":39},{"$f":"'1月'!F20+'2月'!F20+'3月'!F20+'5月'!F20+'6月'!F20+'7月'!F20+'8月'!F20+'9月'!F20+'10月'!F20+'11月'!F20+'12月'!F20","v":34},{"v":0.871794871794872,"d":"87.2%"},{"$nulls":3},{"$f":"'1月'!K20+'2月'!K20+'3月'!K20+'5月'!K20+'6月'!K20+'7月'!K20+'8月'!K20+'9月'!K20+'10月'!K20+'11月'!K20+'12月'!K20","v":8},{"$f":"'1月'!L20+'2月'!L20+'3月'!L20+'5月'!L20+'6月'!L20+'7月'!L20+'8月'!L20+'9月'!L20+'10月'!L20+'11月'!L20+'12月'!L20","v":8},{"$f":"L20/K20","v":{"v":1,"d":"100.0%"}},{"$f":"'1月'!N20+'2月'!N20+'3月'!N20+'5月'!N20+'6月'!N20+'7月'!N20+'8月'!N20+'9月'!N20+'10月'!N20+'11月'!N20+'12月'!N20","v":1},{"$f":"'1月'!O20+'2月'!O20+'3月'!O20+'5月'!O20+'6月'!O20+'7月'!O20+'8月'!O20+'9月'!O20+'10月'!O20+'11月'!O20+'12月'!O20","v":1},{"$f":"O20/N20","v":{"v":1,"d":"100.0%"}},{"$f":"'1月'!Q20+'2月'!Q20+'3月'!Q20+'5月'!Q20+'6月'!Q20+'7月'!Q20+'8月'!Q20+'9月'!Q20+'10月'!Q20+'11月'!Q20+'12月'!Q20","v":1},{"$f":"'1月'!R20+'2月'!R20+'3月'!R20+'5月'!R20+'6月'!R20+'7月'!R20+'8月'!R20+'9月'!R20+'10月'!R20+'11月'!R20+'12月'!R20","v":1},{"v":1,"d":"100.0%"},{"$nulls":39},65,56,{"v":0.861538461538462,"d":"86.2%"}]
["继电保护复训",{"$f":"'1月'!B21+'2月'!B21+'3月'!B21+'5月'!B21+'6月'!B21+'7月'!B21+'8月'!B21+'9月'!B21+'10月'!B21+'11月'!B21+'12月'!B21","v":16},{"$f":"'1月'!C21+'2月'!C21+'3月'!C21+'5月'!C21+'6月'!C21+'7月'!C21+'8月'!C21+'9月'!C21+'10月'!C21+'11月'!C21+'12月'!C21","v":13},{"$f":"C21/B21","v":{"v":0.8125,"d":"81.3%"}},{"$f":"'1月'!E21+'2月'!E21+'3月'!E21+'5月'!E21+'6月'!E21+'7月'!E21+'8月'!E21+'9月'!E21+'10月'!E21+'11月'!E21+'12月'!E21","v":27},{"$f":"'1月'!F21+'2月'!F21+'3月'!F21+'5月'!F21+'6月'!F21+'7月'!F21+'8月'!F21+'9月'!F21+'10月'!F21+'11月'!F21+'12月'!F21","v":22},{"v":0.814814814814815,"d":"81.5%"},{"$nulls":6},{"$f":"'1月'!N21+'2月'!N21+'3月'!N21+'5月'!N21+'6月'!N21+'7月'!N21+'8月'!N21+'9月'!N21+'10月'!N21+'11月'!N21+'12月'!N21","v":1},{"$f":"'1月'!O21+'2月'!O21+'3月'!O21+'5月'!O21+'6月'!O21+'7月'!O21+'8月'!O21+'9月'!O21+'10月'!O21+'11月'!O21+'12月'!O21","v":1},{"$f":"O21/N21","v":{"v":1,"d":"100.0%"}},{"$nulls":42},44,36,{"v":0.818181818181818,"d":"81.8%"}]
["特种作业复训合计",{"$f":"SUM(B10:B21)","v":4085},3888,{"$f":"C22/B22","v":{"v":0.951774785801714,"d":"95.2%"}},2093,1964,{"v":0.938365981844243,"d":"93.8%"},{"$f":"SUM(H10:H21)","v":117},{"$f":"SUM(I10:I21)","v":112},{"$f":"I22/H22","v":{"v":0.957264957264957,"d":"95.7%"}},{"$f":"SUM(K10:K21)","v":1302},1243,{"$f":"L22/K22","v":{"v":0.95468509984639,"d":"95.5%"}},746,710,{"$f":"O22/N22","v":{"v":0.951742627345844,"d":"95.2%"}},{"$f":"SUM(Q10:Q21)","v":261},249,{"$f":"R22/Q22","v":{"v":0.954022988505747,"d":"95.4%"}},{"$f":"SUM(T10:T21)","v":198},193,{"v":0.974747474747475,"d":"97.5%"},{"$nulls":3},{"$f":"SUM(Z10:Z21)","v":90},85,{"$f":"AA22/Z22","v":{"v":0.944444444444444,"d":"94.4%"}},1166,1126,{"$f":"AD22/AC22","v":{"v":0.965694682675815,"d":"96.6%"}},{"$f":"SUM(AF10:AF21)","v":994},969,{"$f":"AG22/AF22","v":{"v":0.974849094567404,"d":"97.5%"}},395,364,{"$f":"AJ22/AI22","v":{"v":0.921518987341772,"d":"92.2%"}},{"$f":"SUM(AL10:AL21)","v":358},339,{"$f":"AM22/AL22","v":{"v":0.946927374301676,"d":"94.7%"}},32,30,{"$f":"AP22/AO22","v":{"v":0.9375,"d":"93.8%"}},{"$nulls":3},{"$f":"SUM(AU10:AU21)","v":29},26,{"$f":"AV22/AU22","v":{"v":0.896551724137931,"d":"89.7%"}},19,18,{"$f":"AY22/AX22","v":{"v":0.947368421052632,"d":"94.7%"}},{"$f":"SUM(BA10:BA21)","v":79},{"$f":"SUM(BB10:BB21)","v":75},{"$f":"BB22/BA22","v":{"v":0.949367088607595,"d":"94.9%"}},{"$f":"SUM(BD10:BD21)","v":38},{"$f":"SUM(BE10:BE21)","v":37},{"$f":"BE22/BD22","v":{"v":0.973684210526316,"d":"97.4%"}},12002,11428,{"v":0.952174637560407,"d":"95.2%"}]
["特种作业人员合计",{"$f":"B9+B22","v":5192},4815,{"$f":"C23/B23","v":{"v":0.927388289676425,"d":"92.7%"}},2839,2645,{"v":0.931666079605495,"d":"93.2%"},{"$f":"H9+H22","v":540},410,{"$f":"I23/H23","v":{"v":0.759259259259259,"d":"75.9%"}},2668,2340,{"v":0.877061469265367,"d":"87.7%"},{"$f":"N9+N22","v":1471},1314,{"$f":"O23/N23","v":{"v":0.893269884432359,"d":"89.3%"}},411,380,{"v":0.924574209245742,"d":"92.5%"},{"$f":"T9+T22","v":643},546,{"v":0.849144634525661,"d":"84.9%"},470,413,{"$f":"X23/W23","v":{"v":0.878723404255319,"d":"87.9%"}},{"$f":"Z9+Z22","v":846},655,{"$f":"AA23/Z23","v":{"v":0.774231678486998,"d":"77.4%"}},1540,1395,{"v":0.905844155844156,"d":"90.6%"},{"$f":"AF9+AF22","v":1289},1222,{"v":0.948021722265322,"d":"94.8%"},1436,1096,{"$f":"AJ23/AI23","v":{"v":0.763231197771588,"d":"76.3%"}},{"$f":"AL9+AL22","v":1017},903,{"v":0.887905604719764,"d":"88.8%"},111,91,{"v":0.81981981981982,"d":"82.0%"},{"$nulls":3},{"$f":"AU9+AU22","v":47},40,{"v":0.851063829787234,"d":"85.1%"},35,33,{"v":0.942857142857143,"d":"94.3%"},{"$f":"BA9+BA22","v":252},{"$f":"BB9+BB22","v":217},{"$f":"BB23/BA23","v":{"v":0.861111111111111,"d":"86.1%"}},{"$f":"BD9+BD22","v":144},{"$f":"BE9+BE22","v":113},{"$f":"BE23/BD23","v":{"v":0.784722222222222,"d":"78.5%"}},20951,18628,{"v":0.889122237602024,"d":"88.9%"}]
["烟花爆竹经营负责人初训",{"$f":"'1月'!B24+'2月'!B24+'3月'!B24+'5月'!B24+'6月'!B24+'7月'!B24+'8月'!B24+'9月'!B24+'10月'!B24+'11月'!B24+'12月'!B24","v":74},{"$f":"'1月'!C24+'2月'!C24+'3月'!C24+'5月'!C24+'6月'!C24+'7月'!C24+'8月'!C24+'9月'!C24+'10月'!C24+'11月'!C24+'12月'!C24","v":59},{"$f":"C24/B24","v":{"v":0.797297297297297,"d":"79.7%"}},{"$nulls":6},{"$f":"'1月'!K24+'2月'!K24+'3月'!K24+'5月'!K24+'6月'!K24+'7月'!K24+'8月'!K24+'9月'!K24+'10月'!K24+'11月'!K24+'12月'!K24","v":20},{"$f":"'1月'!L24+'2月'!L24+'3月'!L24+'5月'!L24+'6月'!L24+'7月'!L24+'8月'!L24+'9月'!L24+'10月'!L24+'11月'!L24+'12月'!L24","v":13},{"v":0.65,"d":"65.0%"},{"$nulls":15},{"$f":"'1月'!AC24+'2月'!AC24+'3月'!AC24+'5月'!AC24+'6月'!AC24+'7月'!AC24+'8月'!AC24+'9月'!AC24+'10月'!AC24+'11月'!AC24+'12月'!AC24","v":26},{"$f":"'1月'!AD24+'2月'!AD24+'3月'!AD24+'5月'!AD24+'6月'!AD24+'7月'!AD24+'8月'!AD24+'9月'!AD24+'10月'!AD24+'11月'!AD24+'12月'!AD24","v":16},{"v":0.615384615384615,"d":"61.5%"},{"$f":"'1月'!AF24+'2月'!AF24+'3月'!AF24+'5月'!AF24+'6月'!AF24+'7月'!AF24+'8月'!AF24+'9月'!AF24+'10月'!AF24+'11月'!AF24+'12月'!AF24","v":19},{"$f":"'1月'!AG24+'2月'!AG24+'3月'!AG24+'5月'!AG24+'6月'!AG24+'7月'!AG24+'8月'!AG24+'9月'!AG24+'10月'!AG24+'11月'!AG24+'12月'!AG24","v":17},{"v":0.894736842105263,"d":"89.5%"},{"$nulls":3},{"$f":"'1月'!AL24+'2月'!AL24+'3月'!AL24+'5月'!AL24+'6月'!AL24+'7月'!AL24+'8月'!AL24+'9月'!AL24+'10月'!AL24+'11月'!AL24+'12月'!AL24","v":5},{"$f":"'1月'!AM24+'2月'!AM24+'3月'!AM24+'5月'!AM24+'6月'!AM24+'7月'!AM24+'8月'!AM24+'9月'!AM24+'10月'!AM24+'11月'!AM24+'12月'!AM24","v":5},{"v":1,"d":"100.0%"},{"$f":"'1月'!AO24+'2月'!AO24+'3月'!AO24+'5月'!AO24+'6月'!AO24+'7月'!AO24+'8月'!AO24+'9月'!AO24+'10月'!AO24+'11月'!AO24+'12月'!AO24","v":1},{"$f":"'1月'!AP24+'2月'!AP24+'3月'!AP24+'5月'!AP24+'6月'!AP24+'7月'!AP24+'8月'!AP24+'9月'!AP24+'10月'!AP24+'11月'!AP24+'12月'!AP24","v":1},{"v":1,"d":"100.0%"},{"$nulls":3},{"$f":"'8月'!AU24+'9月'!AU24+'10月'!AU24+'11月'!AU24+'12月'!AU24","v":2},{"$f":"'8月'!AV24+'9月'!AV24+'10月'!AV24+'11月'!AV24+'12月'!AV24","v":2},{"v":1,"d":"100.0%"},{"$f":"'9月'!AX24+'10月'!AX24+'11月'!AX24+'12月'!AX24","v":9},{"$f":"'9月'!AY24+'10月'!AY24+'11月'!AY24+'12月'!AY24","v":8},{"v":0.888888888888889,"d":"88.9%"},{"$nulls":6},156,121,{"v":0.775641025641026,"d":"77.6%"}]
["危化生产负责人初训",{"$f":"'1月'!B25+'2月'!B25+'3月'!B25+'5月'!B25+'6月'!B25+'7月'!B25+'8月'!B25+'9月'!B25+'10月'!B25+'11月'!B25+'12月'!B25","v":12},{"$f":"'1月'!C25+'2月'!C25+'3月'!C25+'5月'!C25+'6月'!C25+'7月'!C25+'8月'!C25+'9月'!C25+'10月'!C25+'11月'!C25+'12月'!C25","v":9},{"$f":"C25/B25","v":{"v":0.75,"d":"75.0%"}},{"$nulls":6},{"$f":"'1月'!K25+'2月'!K25+'3月'!K25+'5月'!K25+'6月'!K25+'7月'!K25+'8月'!K25+'9月'!K25+'10月'!K25+'11月'!K25+'12月'!K25","v":13},{"$f":"'1月'!L25+'2月'!L25+'3月'!L25+'5月'!L25+'6月'!L25+'7月'!L25+'8月'!L25+'9月'!L25+'10月'!L25+'11月'!L25+'12月'!L25","v":13},{"v":1,"d":"100.0%"},{"$nulls":15},{"$f":"'1月'!AC25+'2月'!AC25+'3月'!AC25+'5月'!AC25+'6月'!AC25+'7月'!AC25+'8月'!AC25+'9月'!AC25+'10月'!AC25+'11月'!AC25+'12月'!AC25","v":1},{"$f":"'1月'!AD25+'2月'!AD25+'3月'!AD25+'5月'!AD25+'6月'!AD25+'7月'!AD25+'8月'!AD25+'9月'!AD25+'10月'!AD25+'11月'!AD25+'12月'!AD25","v":1},{"v":1,"d":"100.0%"},{"$f":"'1月'!AF25+'2月'!AF25+'3月'!AF25+'5月'!AF25+'6月'!AF25+'7月'!AF25+'8月'!AF25+'9月'!AF25+'10月'!AF25+'11月'!AF25+'12月'!AF25","v":9},{"$f":"'1月'!AG25+'2月'!AG25+'3月'!AG25+'5月'!AG25+'6月'!AG25+'7月'!AG25+'8月'!AG25+'9月'!AG25+'10月'!AG25+'11月'!AG25+'12月'!AG25","v":7},{"v":0.777777777777778,"d":"77.8%"},{"$nulls":24},35,30,{"v":0.857142857142857,"d":"85.7%"}]
["危化经营负责人初训",{"$f":"'1月'!B26+'2月'!B26+'3月'!B26+'5月'!B26+'6月'!B26+'7月'!B26+'8月'!B26+'9月'!B26+'10月'!B26+'11月'!B26+'12月'!B26","v":136},{"$f":"'1月'!C26+'2月'!C26+'3月'!C26+'5月'!C26+'6月'!C26+'7月'!C26+'8月'!C26+'9月'!C26+'10月'!C26+'11月'!C26+'12月'!C26","v":130},{"$f":"C26/B26","v":{"v":0.955882352941177,"d":"95.6%"}},{"$nulls":6},{"$f":"'1月'!K26+'2月'!K26+'3月'!K26+'5月'!K26+'6月'!K26+'7月'!K26+'8月'!K26+'9月'!K26+'10月'!K26+'11月'!K26+'12月'!K26","v":53},{"$f":"'1月'!L26+'2月'!L26+'3月'!L26+'5月'!L26+'6月'!L26+'7月'!L26+'8月'!L26+'9月'!L26+'10月'!L26+'11月'!L26+'12月'!L26","v":51},{"v":0.962264150943396,"d":"96.2%"},{"$nulls":3},{"$f":"'1月'!Q26+'2月'!Q26+'3月'!Q26+'5月'!Q26+'6月'!Q26+'7月'!Q26+'8月'!Q26+'9月'!Q26+'10月'!Q26+'11月'!Q26+'12月'!Q26","v":6},{"$f":"'1月'!R26+'2月'!R26+'3月'!R26+'5月'!R26+'6月'!R26+'7月'!R26+'8月'!R26+'9月'!R26+'10月'!R26+'11月'!R26+'12月'!R26","v":5},{"v":0.833333333333333,"d":"83.3%"},{"$nulls":9},{"$f":"'1月'!AC26+'2月'!AC26+'3月'!AC26+'5月'!AC26+'6月'!AC26+'7月'!AC26+'8月'!AC26+'9月'!AC26+'10月'!AC26+'11月'!AC26+'12月'!AC26","v":16},{"$f":"'1月'!AD26+'2月'!AD26+'3月'!AD26+'5月'!AD26+'6月'!AD26+'7月'!AD26+'8月'!AD26+'9月'!AD26+'10月'!AD26+'11月'!AD26+'12月'!AD26","v":13},{"v":0.8125,"d":"81.3%"},{"$f":"'1月'!AF26+'2月'!AF26+'3月'!AF26+'5月'!AF26+'6月'!AF26+'7月'!AF26+'8月'!AF26+'9月'!AF26+'10月'!AF26+'11月'!AF26+'12月'!AF26","v":26},{"$f":"'1月'!AG26+'2月'!AG26+'3月'!AG26+'5月'!AG26+'6月'!AG26+'7月'!AG26+'8月'!AG26+'9月'!AG26+'10月'!AG26+'11月'!AG26+'12月'!AG26","v":24},{"v":0.923076923076923,"d":"92.3%"},{"$nulls":3},{"$f":"'1月'!AL26+'2月'!AL26+'3月'!AL26+'5月'!AL26+'6月'!AL26+'7月'!AL26+'8月'!AL26+'9月'!AL26+'10月'!AL26+'11月'!AL26+'12月'!AL26","v":4},{"$f":"'1月'!AM26+'2月'!AM26+'3月'!AM26+'5月'!AM26+'6月'!AM26+'7月'!AM26+'8月'!AM26+'9月'!AM26+'10月'!AM26+'11月'!AM26+'12月'!AM26","v":4},{"v":1,"d":"100.0%"},{"$f":"'1月'!AO26+'2月'!AO26+'3月'!AO26+'5月'!AO26+'6月'!AO26+'7月'!AO26+'8月'!AO26+'9月'!AO26+'10月'!AO26+'11月'!AO26+'12月'!AO26","v":12},{"$f":"'1月'!AP26+'2月'!AP26+'3月'!AP26+'5月'!AP26+'6月'!AP26+'7月'!AP26+'8月'!AP26+'9月'!AP26+'10月'!AP26+'11月'!AP26+'12月'!AP26","v":12},{"v":1,"d":"100.0%"},{"$f":"'1月'!AR26+'2月'!AR26+'3月'!AR26+'5月'!AR26+'6月'!AR26+'7月'!AR26+'8月'!AR26+'9月'!AR26+'10月'!AR26+'11月'!AR26+'12月'!AR26","v":12},{"$f":"'1月'!AS26+'2月'!AS26+'3月'!AS26+'5月'!AS26+'6月'!AS26+'7月'!AS26+'8月'!AS26+'9月'!AS26+'10月'!AS26+'11月'!AS26+'12月'!AS26","v":11},{"$f":"AS26/AR26","v":{"v":0.916666666666667,"d":"91.7%"}},{"$nulls":3},{"$f":"'9月'!AX26+'10月'!AX26+'11月'!AX26+'12月'!AX26","v":2},{"$f":"'9月'!AY26+'10月'!AY26+'11月'!AY26+'12月'!AY26","v":2},{"$f":"AY26/AX26","v":{"v":1,"d":"100.0%"}},{"$nulls":6},267,252,{"v":0.943820224719101,"d":"94.4%"}]
["非煤矿山负责人初训",{"$nulls":27},{"$f":"'1月'!AC27+'2月'!AC27+'3月'!AC27+'5月'!AC27+'6月'!AC27+'7月'!AC27+'8月'!AC27+'9月'!AC27+'10月'!AC27+'11月'!AC27+'12月'!AC27","v":1},{"$f":"'1月'!AD27+'2月'!AD27+'3月'!AD27+'5月'!AD27+'6月'!AD27+'7月'!AD27+'8月'!AD27+'9月'!AD27+'10月'!AD27+'11月'!AD27+'12月'!AD27","v":1},{"v":1,"d":"100.0%"},{"$nulls":6},{"$f":"'1月'!AL27+'2月'!AL27+'3月'!AL27+'5月'!AL27+'6月'!AL27+'7月'!AL27+'8月'!AL27+'9月'!AL27+'10月'!AL27+'11月'!AL27+'12月'!AL27","v":4},{"$f":"'1月'!AM27+'2月'!AM27+'3月'!AM27+'5月'!AM27+'6月'!AM27+'7月'!AM27+'8月'!AM27+'9月'!AM27+'10月'!AM27+'11月'!AM27+'12月'!AM27","v":3},{"v":0.75,"d":"75.0%"},{"$nulls":18},5,4,{"v":0.8,"d":"80.0%"}]
["金属冶炼负责人初训",{"$f":"'1月'!B28+'2月'!B28+'3月'!B28+'5月'!B28+'6月'!B28+'7月'!B28+'8月'!B28+'9月'!B28+'10月'!B28+'11月'!B28+'12月'!B28","v":1},{"$f":"'1月'!C28+'2月'!C28+'3月'!C28+'5月'!C28+'6月'!C28+'7月'!C28+'8月'!C28+'9月'!C28+'10月'!C28+'11月'!C28+'12月'!C28","v":1},{"$f":"C28/B28","v":{"v":1,"d":"100.0%"}},{"$nulls":6},{"$f":"'1月'!K28+'2月'!K28+'3月'!K28+'5月'!K28+'6月'!K28+'7月'!K28+'8月'!K28+'9月'!K28+'10月'!K28+'11月'!K28+'12月'!K28","v":4},{"$f":"'1月'!L28+'2月'!L28+'3月'!L28+'5月'!L28+'6月'!L28+'7月'!L28+'8月'!L28+'9月'!L28+'10月'!L28+'11月'!L28+'12月'!L28","v":3},{"v":0.75,"d":"75.0%"},{"$nulls":3},{"$f":"'1月'!Q28+'2月'!Q28+'3月'!Q28+'5月'!Q28+'6月'!Q28+'7月'!Q28+'8月'!Q28+'9月'!Q28+'10月'!Q28+'11月'!Q28+'12月'!Q28","v":7},{"$f":"'1月'!R28+'2月'!R28+'3月'!R28+'5月'!R28+'6月'!R28+'7月'!R28+'8月'!R28+'9月'!R28+'10月'!R28+'11月'!R28+'12月'!R28","v":7},{"v":1,"d":"100.0%"},{"$nulls":12},{"$f":"'1月'!AF28+'2月'!AF28+'3月'!AF28+'5月'!AF28+'6月'!AF28+'7月'!AF28+'8月'!AF28+'9月'!AF28+'10月'!AF28+'11月'!AF28+'12月'!AF28","v":1},{"$f":"'1月'!AG28+'2月'!AG28+'3月'!AG28+'5月'!AG28+'6月'!AG28+'7月'!AG28+'8月'!AG28+'9月'!AG28+'10月'!AG28+'11月'!AG28+'12月'!AG28","v":1},{"v":1,"d":"100.0%"},{"$nulls":6},{"$f":"'1月'!AO28+'2月'!AO28+'3月'!AO28+'5月'!AO28+'6月'!AO28+'7月'!AO28+'8月'!AO28+'9月'!AO28+'10月'!AO28+'11月'!AO28+'12月'!AO28","v":1},{"$f":"'1月'!AP28+'2月'!AP28+'3月'!AP28+'5月'!AP28+'6月'!AP28+'7月'!AP28+'8月'!AP28+'9月'!AP28+'10月'!AP28+'11月'!AP28+'12月'!AP28","v":1},{"v":1,"d":"100.0%"},{"$nulls":15},14,13,{"v":0.928571428571429,"d":"92.9%"}]
["高危行业负责人初训合计",{"$f":"SUM(B24:B28)","v":223},{"$f":"SUM(C24:C28)","v":199},{"$f":"C29/B29","v":{"v":0.89237668161435,"d":"89.2%"}},{"$nulls":6},{"$f":"SUM(K24:K28)","v":90},{"$f":"SUM(L24:L28)","v":80},{"$f":"L29/K29","v":{"v":0.888888888888889,"d":"88.9%"}},{"$nulls":3},{"$f":"SUM(Q24:Q28)","v":13},{"$f":"SUM(R24:R28)","v":12},{"v":0.923076923076923,"d":"92.3%"},{"$nulls":9},{"$f":"SUM(AC24:AC28)","v":44},31,{"v":0.704545454545455,"d":"70.5%"},55,49,{"$f":"AG29/AF29","v":{"v":0.890909090909091,"d":"89.1%"}},{"$nulls":3},{"$f":"SUM(AL24:AL28)","v":13},12,{"v":0.923076923076923,"d":"92.3%"},14,14,{"$f":"AP29/AO29","v":{"v":1,"d":"100.0%"}},12,11,{"$f":"AS29/AR29","v":{"v":0.916666666666667,"d":"91.7%"}},{"$f":"SUM(AU24:AU28)","v":2},2,{"$f":"AV29/AU29","v":{"v":1,"d":"100.0%"}},11,10,{"v":0.909090909090909,"d":"90.9%"},{"$nulls":6},477,420,{"v":0.880503144654088,"d":"88.1%"}]
["烟花爆竹经营负责人复训",{"$f":"'1月'!B30+'2月'!B30+'3月'!B30+'5月'!B30+'6月'!B30+'7月'!B30+'8月'!B30+'9月'!B30+'10月'!B30+'11月'!B30+'12月'!B30","v":14},{"$f":"'1月'!C30+'2月'!C30+'3月'!C30+'5月'!C30+'6月'!C30+'7月'!C30+'8月'!C30+'9月'!C30+'10月'!C30+'11月'!C30+'12月'!C30","v":14},{"v":1,"d":"100.0%"},{"$nulls":6},{"$f":"'1月'!K30+'2月'!K30+'3月'!K30+'5月'!K30+'6月'!K30+'7月'!K30+'8月'!K30+'9月'!K30+'10月'!K30+'11月'!K30+'12月'!K30","v":20},{"$f":"'1月'!L30+'2月'!L30+'3月'!L30+'5月'!L30+'6月'!L30+'7月'!L30+'8月'!L30+'9月'!L30+'10月'!L30+'11月'!L30+'12月'!L30","v":19},{"v":0.95,"d":"95.0%"},{"$nulls":15},{"$f":"'1月'!AC30+'2月'!AC30+'3月'!AC30+'5月'!AC30+'6月'!AC30+'7月'!AC30+'8月'!AC30+'9月'!AC30+'10月'!AC30+'11月'!AC30+'12月'!AC30","v":18},{"$f":"'1月'!AD30+'2月'!AD30+'3月'!AD30+'5月'!AD30+'6月'!AD30+'7月'!AD30+'8月'!AD30+'9月'!AD30+'10月'!AD30+'11月'!AD30+'12月'!AD30","v":16},{"$f":"AD30/AC30","v":{"v":0.888888888888889,"d":"88.9%"}},{"$f":"'1月'!AF30+'2月'!AF30+'3月'!AF30+'5月'!AF30+'6月'!AF30+'7月'!AF30+'8月'!AF30+'9月'!AF30+'10月'!AF30+'11月'!AF30+'12月'!AF30","v":7},{"$f":"'1月'!AG30+'2月'!AG30+'3月'!AG30+'5月'!AG30+'6月'!AG30+'7月'!AG30+'8月'!AG30+'9月'!AG30+'10月'!AG30+'11月'!AG30+'12月'!AG30","v":7},{"v":1,"d":"100.0%"},{"$nulls":24},59,56,{"v":0.949152542372881,"d":"94.9%"}]
["危化生产负责人复训",{"$f":"'1月'!B31+'2月'!B31+'3月'!B31+'5月'!B31+'6月'!B31+'7月'!B31+'8月'!B31+'9月'!B31+'10月'!B31+'11月'!B31+'12月'!B31","v":50},{"$f":"'1月'!C31+'2月'!C31+'3月'!C31+'5月'!C31+'6月'!C31+'7月'!C31+'8月'!C31+'9月'!C31+'10月'!C31+'11月'!C31+'12月'!C31","v":50},{"v":1,"d":"100.0%"},{"$nulls":6},{"$f":"'1月'!K31+'2月'!K31+'3月'!K31+'5月'!K31+'6月'!K31+'7月'!K31+'8月'!K31+'9月'!K31+'10月'!K31+'11月'!K31+'12月'!K31","v":34},{"$f":"'1月'!L31+'2月'!L31+'3月'!L31+'5月'!L31+'6月'!L31+'7月'!L31+'8月'!L31+'9月'!L31+'10月'!L31+'11月'!L31+'12月'!L31","v":33},{"v":0.970588235294118,"d":"97.1%"},{"$nulls":3},{"$f":"'1月'!Q31+'2月'!Q31+'3月'!Q31+'5月'!Q31+'6月'!Q31+'7月'!Q31+'8月'!Q31+'9月'!Q31+'10月'!Q31+'11月'!Q31+'12月'!Q31","v":1},{"$f":"'1月'!R31+'2月'!R31+'3月'!R31+'5月'!R31+'6月'!R31+'7月'!R31+'8月'!R31+'9月'!R31+'10月'!R31+'11月'!R31+'12月'!R31","v":1},{"$f":"R31/Q31","v":{"v":1,"d":"100.0%"}},{"$nulls":9},{"$f":"'1月'!AC31+'2月'!AC31+'3月'!AC31+'5月'!AC31+'6月'!AC31+'7月'!AC31+'8月'!AC31+'9月'!AC31+'10月'!AC31+'11月'!AC31+'12月'!AC31","v":10},{"$f":"'1月'!AD31+'2月'!AD31+'3月'!AD31+'5月'!AD31+'6月'!AD31+'7月'!AD31+'8月'!AD31+'9月'!AD31+'10月'!AD31+'11月'!AD31+'12月'!AD31","v":9},{"v":0.9,"d":"90.0%"},{"$f":"'1月'!AF31+'2月'!AF31+'3月'!AF31+'5月'!AF31+'6月'!AF31+'7月'!AF31+'8月'!AF31+'9月'!AF31+'10月'!AF31+'11月'!AF31+'12月'!AF31","v":45},{"$f":"'1月'!AG31+'2月'!AG31+'3月'!AG31+'5月'!AG31+'6月'!AG31+'7月'!AG31+'8月'!AG31+'9月'!AG31+'10月'!AG31+'11月'!AG31+'12月'!AG31","v":44},{"v":0.977777777777778,"d":"97.8%"},{"$nulls":6},{"$f":"'1月'!AO31+'2月'!AO31+'3月'!AO31+'5月'!AO31+'6月'!AO31+'7月'!AO31+'8月'!AO31+'9月'!AO31+'10月'!AO31+'11月'!AO31+'12月'!AO31","v":5},{"$f":"'1月'!AP31+'2月'!AP31+'3月'!AP31+'5月'!AP31+'6月'!AP31+'7月'!AP31+'8月'!AP31+'9月'!AP31+'10月'!AP31+'11月'!AP31+'12月'!AP31","v":5},{"$f":"AP31/AO31","v":{"v":1,"d":"100.0%"}},{"$f":"'1月'!AR31+'2月'!AR31+'3月'!AR31+'5月'!AR31+'6月'!AR31+'7月'!AR31+'8月'!AR31+'9月'!AR31+'10月'!AR31+'11月'!AR31+'12月'!AR31","v":1},{"$f":"'1月'!AS31+'2月'!AS31+'3月'!AS31+'5月'!AS31+'6月'!AS31+'7月'!AS31+'8月'!AS31+'9月'!AS31+'10月'!AS31+'11月'!AS31+'12月'!AS31","v":1},{"$f":"AS31/AR31","v":{"v":1,"d":"100.0%"}},{"$nulls":12},146,143,{"v":0.979452054794521,"d":"97.9%"}]
["危化经营负责人复训",{"$f":"'1月'!B32+'2月'!B32+'3月'!B32+'5月'!B32+'6月'!B32+'7月'!B32+'8月'!B32+'9月'!B32+'10月'!B32+'11月'!B32+'12月'!B32","v":572},{"$f":"'1月'!C32+'2月'!C32+'3月'!C32+'5月'!C32+'6月'!C32+'7月'!C32+'8月'!C32+'9月'!C32+'10月'!C32+'11月'!C32+'12月'!C32","v":561},{"v":0.980769230769231,"d":"98.1%"},{"$nulls":6},{"$f":"'1月'!K32+'2月'!K32+'3月'!K32+'5月'!K32+'6月'!K32+'7月'!K32+'8月'!K32+'9月'!K32+'10月'!K32+'11月'!K32+'12月'!K32","v":216},{"$f":"'1月'!L32+'2月'!L32+'3月'!L32+'5月'!L32+'6月'!L32+'7月'!L32+'8月'!L32+'9月'!L32+'10月'!L32+'11月'!L32+'12月'!L32","v":208},{"v":0.962962962962963,"d":"96.3%"},{"$nulls":3},{"$f":"'1月'!Q32+'2月'!Q32+'3月'!Q32+'5月'!Q32+'6月'!Q32+'7月'!Q32+'8月'!Q32+'9月'!Q32+'10月'!Q32+'11月'!Q32+'12月'!Q32","v":2},{"$f":"'1月'!R32+'2月'!R32+'3月'!R32+'5月'!R32+'6月'!R32+'7月'!R32+'8月'!R32+'9月'!R32+'10月'!R32+'11月'!R32+'12月'!R32","v":2},{"v":1,"d":"100.0%"},{"$nulls":9},{"$f":"'1月'!AC32+'2月'!AC32+'3月'!AC32+'5月'!AC32+'6月'!AC32+'7月'!AC32+'8月'!AC32+'9月'!AC32+'10月'!AC32+'11月'!AC32+'12月'!AC32","v":36},{"$f":"'1月'!AD32+'2月'!AD32+'3月'!AD32+'5月'!AD32+'6月'!AD32+'7月'!AD32+'8月'!AD32+'9月'!AD32+'10月'!AD32+'11月'!AD32+'12月'!AD32","v":33},{"v":0.916666666666667,"d":"91.7%"},{"$f":"'1月'!AF32+'2月'!AF32+'3月'!AF32+'5月'!AF32+'6月'!AF32+'7月'!AF32+'8月'!AF32+'9月'!AF32+'10月'!AF32+'11月'!AF32+'12月'!AF32","v":64},{"$f":"'1月'!AG32+'2月'!AG32+'3月'!AG32+'5月'!AG32+'6月'!AG32+'7月'!AG32+'8月'!AG32+'9月'!AG32+'10月'!AG32+'11月'!AG32+'12月'!AG32","v":62},{"v":0.96875,"d":"96.9%"},{"$nulls":3},{"$f":"'1月'!AL32+'2月'!AL32+'3月'!AL32+'5月'!AL32+'6月'!AL32+'7月'!AL32+'8月'!AL32+'9月'!AL32+'10月'!AL32+'11月'!AL32+'12月'!AL32","v":4},{"$f":"'1月'!AM32+'2月'!AM32+'3月'!AM32+'5月'!AM32+'6月'!AM32+'7月'!AM32+'8月'!AM32+'9月'!AM32+'10月'!AM32+'11月'!AM32+'12月'!AM32","v":4},{"$f":"AM32/AL32","v":{"v":1,"d":"100.0%"}},{"$f":"'1月'!AO32+'2月'!AO32+'3月'!AO32+'5月'!AO32+'6月'!AO32+'7月'!AO32+'8月'!AO32+'9月'!AO32+'10月'!AO32+'11月'!AO32+'12月'!AO32","v":14},{"$f":"'1月'!AP32+'2月'!AP32+'3月'!AP32+'5月'!AP32+'6月'!AP32+'7月'!AP32+'8月'!AP32+'9月'!AP32+'10月'!AP32+'11月'!AP32+'12月'!AP32","v":13},{"$f":"AP32/AO32","v":{"v":0.928571428571429,"d":"92.9%"}},{"$f":"'1月'!AR32+'2月'!AR32+'3月'!AR32+'5月'!AR32+'6月'!AR32+'7月'!AR32+'8月'!AR32+'9月'!AR32+'10月'!AR32+'11月'!AR32+'12月'!AR32","v":8},{"$f":"'1月'!AS32+'2月'!AS32+'3月'!AS32+'5月'!AS32+'6月'!AS32+'7月'!AS32+'8月'!AS32+'9月'!AS32+'10月'!AS32+'11月'!AS32+'12月'!AS32","v":7},{"v":0.875,"d":"87.5%"},{"$nulls":3},{"$f":"'9月'!AX32+'10月'!AX32+'11月'!AX32+'12月'!AX32","v":1},{"$f":"'9月'!AY32+'10月'!AY32+'11月'!AY32+'12月'!AY32","v":1},{"$f":"AY32/AX32","v":{"v":1,"d":"100.0%"}},{"$nulls":6},917,891,{"v":0.97164667393675,"d":"97.2%"}]
["非煤矿山负责人复训",{"$f":"'1月'!B33+'2月'!B33+'3月'!B33+'5月'!B33+'6月'!B33+'7月'!B33+'8月'!B33+'9月'!B33+'10月'!B33+'11月'!B33+'12月'!B33","v":41},{"$f":"'1月'!C33+'2月'!C33+'3月'!C33+'5月'!C33+'6月'!C33+'7月'!C33+'8月'!C33+'9月'!C33+'10月'!C33+'11月'!C33+'12月'!C33","v":40},{"v":0.975609756097561,"d":"97.6%"},{"$nulls":6},{"$f":"'1月'!K33+'2月'!K33+'3月'!K33+'5月'!K33+'6月'!K33+'7月'!K33+'8月'!K33+'9月'!K33+'10月'!K33+'11月'!K33+'12月'!K33","v":1},{"$f":"'1月'!L33+'2月'!L33+'3月'!L33+'5月'!L33+'6月'!L33+'7月'!L33+'8月'!L33+'9月'!L33+'10月'!L33+'11月'!L33+'12月'!L33","v":1},{"v":1,"d":"100.0%"},{"$nulls":3},{"$f":"'1月'!Q33+'2月'!Q33+'3月'!Q33+'5月'!Q33+'6月'!Q33+'7月'!Q33+'8月'!Q33+'9月'!Q33+'10月'!Q33+'11月'!Q33+'12月'!Q33","v":4},{"$f":"'1月'!R33+'2月'!R33+'3月'!R33+'5月'!R33+'6月'!R33+'7月'!R33+'8月'!R33+'9月'!R33+'10月'!R33+'11月'!R33+'12月'!R33","v":4},{"v":1,"d":"100.0%"},{"$nulls":9},{"$f":"'1月'!AC33+'2月'!AC33+'3月'!AC33+'5月'!AC33+'6月'!AC33+'7月'!AC33+'8月'!AC33+'9月'!AC33+'10月'!AC33+'11月'!AC33+'12月'!AC33","v":9},{"$f":"'1月'!AD33+'2月'!AD33+'3月'!AD33+'5月'!AD33+'6月'!AD33+'7月'!AD33+'8月'!AD33+'9月'!AD33+'10月'!AD33+'11月'!AD33+'12月'!AD33","v":8},{"v":0.888888888888889,"d":"88.9%"},{"$f":"'1月'!AF33+'2月'!AF33+'3月'!AF33+'5月'!AF33+'6月'!AF33+'7月'!AF33+'8月'!AF33+'9月'!AF33+'10月'!AF33+'11月'!AF33+'12月'!AF33","v":1},{"$f":"'1月'!AG33+'2月'!AG33+'3月'!AG33+'5月'!AG33+'6月'!AG33+'7月'!AG33+'8月'!AG33+'9月'!AG33+'10月'!AG33+'11月'!AG33+'12月'!AG33","v":1},{"v":1,"d":"100.0%"},{"$nulls":24},56,54,{"v":0.964285714285714,"d":"96.4%"}]
["金属冶炼负责人复训",{"$f":"'1月'!B34+'2月'!B34+'3月'!B34+'5月'!B34+'6月'!B34+'7月'!B34+'8月'!B34+'9月'!B34+'10月'!B34+'11月'!B34+'12月'!B34","v":1},{"$f":"'1月'!C34+'2月'!C34+'3月'!C34+'5月'!C34+'6月'!C34+'7月'!C34+'8月'!C34+'9月'!C34+'10月'!C34+'11月'!C34+'12月'!C34","v":1},{"v":1,"d":"100.0%"},{"$nulls":6},{"$f":"'1月'!K34+'2月'!K34+'3月'!K34+'5月'!K34+'6月'!K34+'7月'!K34+'8月'!K34+'9月'!K34+'10月'!K34+'11月'!K34+'12月'!K34","v":1},{"$f":"'1月'!L34+'2月'!L34+'3月'!L34+'5月'!L34+'6月'!L34+'7月'!L34+'8月'!L34+'9月'!L34+'10月'!L34+'11月'!L34+'12月'!L34","v":0},{"v":0,"d":"0.0%"},{"$nulls":3},{"$f":"'1月'!Q34+'2月'!Q34+'3月'!Q34+'5月'!Q34+'6月'!Q34+'7月'!Q34+'8月'!Q34+'9月'!Q34+'10月'!Q34+'11月'!Q34+'12月'!Q34","v":9},{"$f":"'1月'!R34+'2月'!R34+'3月'!R34+'5月'!R34+'6月'!R34+'7月'!R34+'8月'!R34+'9月'!R34+'10月'!R34+'11月'!R34+'12月'!R34","v":8},{"v":0.888888888888889,"d":"88.9%"},{"$nulls":39},11,9,{"v":0.818181818181818,"d":"81.8%"}]
["高危行业负责人复训合计",{"$f":"SUM(B30:B34)","v":678},{"$f":"SUM(C30:C34)","v":666},{"$f":"C35/B35","v":{"v":0.982300884955752,"d":"98.2%"}},{"$nulls":6},{"$f":"SUM(K30:K34)","v":272},{"$f":"SUM(L30:L34)","v":261},{"v":0.959558823529412,"d":"96.0%"},{"$nulls":3},{"$f":"SUM(Q30:Q34)","v":16},{"$f":"SUM(R30:R34)","v":15},{"$f":"R35/Q35","v":{"v":0.9375,"d":"93.8%"}},{"$nulls":9},{"$f":"SUM(AC30:AC34)","v":73},66,{"$f":"AD35/AC35","v":{"v":0.904109589041096,"d":"90.4%"}},117,114,{"v":0.974358974358974,"d":"97.4%"},{"$nulls":3},{"$f":"SUM(AL30:AL34)","v":4},4,{"$f":"AM35/AL35","v":{"v":1,"d":"100.0%"}},{"$f":"SUM(AO30:AO34)","v":19},18,{"$f":"AP35/AO35","v":{"v":0.947368421052632,"d":"94.7%"}},9,8,{"$f":"AS35/AR35","v":{"v":0.888888888888889,"d":"88.9%"}},{"$nulls":3},1,1,{"$f":"AY35/AX35","v":{"v":1,"d":"100.0%"}},{"$nulls":6},1189,1153,{"$f":"BH35/BG35","v":{"v":0.969722455845248,"d":"97.0%"}}]
["高危行业主要负责人合计",{"$f":"B29+B35","v":901},{"$f":"C29+C35","v":865},{"v":0.960044395116537,"d":"96.0%"},{"$nulls":6},{"$f":"K29+K35","v":362},{"$f":"L29+L35","v":341},{"v":0.941988950276243,"d":"94.2%"},{"$nulls":3},{"$f":"Q29+Q35","v":29},{"$f":"R29+R35","v":27},{"v":0.931034482758621,"d":"93.1%"},{"$nulls":9},{"$f":"AC29+AC35","v":117},97,{"v":0.829059829059829,"d":"82.9%"},172,163,{"v":0.947674418604651,"d":"94.8%"},{"$nulls":3},{"$f":"AL29+AL35","v":17},16,{"$f":"AM36/AL36","v":{"v":0.941176470588235,"d":"94.1%"}},{"$f":"AO29+AO35","v":33},32,{"v":0.96969696969697,"d":"97.0%"},21,19,{"$f":"AS36/AR36","v":{"v":0.904761904761905,"d":"90.5%"}},{"$f":"AU29+AU35","v":2},2,{"$f":"AV36/AU36","v":{"v":1,"d":"100.0%"}},12,11,{"$f":"AY36/AX36","v":{"v":0.916666666666667,"d":"91.7%"}},{"$nulls":6},1666,1573,{"v":0.944177671068427,"d":"94.4%"}]
["烟花爆竹经营安管初训",{"$f":"'1月'!B37+'2月'!B37+'3月'!B37+'5月'!B37+'6月'!B37+'7月'!B37+'8月'!B37+'9月'!B37+'10月'!B37+'11月'!B37+'12月'!B37","v":61},{"$f":"'1月'!C37+'2月'!C37+'3月'!C37+'5月'!C37+'6月'!C37+'7月'!C37+'8月'!C37+'9月'!C37+'10月'!C37+'11月'!C37+'12月'!C37","v":49},{"v":0.80327868852459,"d":"80.3%"},{"$nulls":6},{"$f":"'1月'!K37+'2月'!K37+'3月'!K37+'5月'!K37+'6月'!K37+'7月'!K37+'8月'!K37+'9月'!K37+'10月'!K37+'11月'!K37+'12月'!K37","v":15},{"$f":"'1月'!L37+'2月'!L37+'3月'!L37+'5月'!L37+'6月'!L37+'7月'!L37+'8月'!L37+'9月'!L37+'10月'!L37+'11月'!L37+'12月'!L37","v":12},{"v":0.8,"d":"80.0%"},{"$nulls":15},{"$f":"'1月'!AC37+'2月'!AC37+'3月'!AC37+'5月'!AC37+'6月'!AC37+'7月'!AC37+'8月'!AC37+'9月'!AC37+'10月'!AC37+'11月'!AC37+'12月'!AC37","v":19},{"$f":"'1月'!AD37+'2月'!AD37+'3月'!AD37+'5月'!AD37+'6月'!AD37+'7月'!AD37+'8月'!AD37+'9月'!AD37+'10月'!AD37+'11月'!AD37+'12月'!AD37","v":14},{"v":0.736842105263158,"d":"73.7%"},{"$f":"'1月'!AF37+'2月'!AF37+'3月'!AF37+'5月'!AF37+'6月'!AF37+'7月'!AF37+'8月'!AF37+'9月'!AF37+'10月'!AF37+'11月'!AF37+'12月'!AF37","v":27},{"$f":"'1月'!AG37+'2月'!AG37+'3月'!AG37+'5月'!AG37+'6月'!AG37+'7月'!AG37+'8月'!AG37+'9月'!AG37+'10月'!AG37+'11月'!AG37+'12月'!AG37","v":20},{"v":0.740740740740741,"d":"74.1%"},{"$nulls":3},{"$f":"'1月'!AL37+'2月'!AL37+'3月'!AL37+'5月'!AL37+'6月'!AL37+'7月'!AL37+'8月'!AL37+'9月'!AL37+'10月'!AL37+'11月'!AL37+'12月'!AL37","v":5},{"$f":"'1月'!AM37+'2月'!AM37+'3月'!AM37+'5月'!AM37+'6月'!AM37+'7月'!AM37+'8月'!AM37+'9月'!AM37+'10月'!AM37+'11月'!AM37+'12月'!AM37","v":4},{"v":0.8,"d":"80.0%"},{"$f":"'1月'!AO37+'2月'!AO37+'3月'!AO37+'5月'!AO37+'6月'!AO37+'7月'!AO37+'8月'!AO37+'9月'!AO37+'10月'!AO37+'11月'!AO37+'12月'!AO37","v":1},{"$f":"'1月'!AP37+'2月'!AP37+'3月'!AP37+'5月'!AP37+'6月'!AP37+'7月'!AP37+'8月'!AP37+'9月'!AP37+'10月'!AP37+'11月'!AP37+'12月'!AP37","v":1},{"v":1,"d":"100.0%"},{"$nulls":3},{"$f":"'8月'!AU37+'9月'!AU37+'10月'!AU37+'11月'!AU37+'12月'!AU37","v":2},{"$f":"'8月'!AV37+'9月'!AV37+'10月'!AV37+'11月'!AV37+'12月'!AV37","v":2},{"$f":"AV37/AU37","v":{"v":1,"d":"100.0%"}},{"$f":"'9月'!AX37+'10月'!AX37+'11月'!AX37+'12月'!AX37","v":7},{"$f":"'9月'!AY37+'10月'!AY37+'11月'!AY37+'12月'!AY37","v":7},{"v":1,"d":"100.0%"},{"$nulls":6},137,109,{"v":0.795620437956204,"d":"79.6%"}]
["危化生产安管初训",{"$f":"'1月'!B38+'2月'!B38+'3月'!B38+'5月'!B38+'6月'!B38+'7月'!B38+'8月'!B38+'9月'!B38+'10月'!B38+'11月'!B38+'12月'!B38","v":40},{"$f":"'1月'!C38+'2月'!C38+'3月'!C38+'5月'!C38+'6月'!C38+'7月'!C38+'8月'!C38+'9月'!C38+'10月'!C38+'11月'!C38+'12月'!C38","v":38},{"v":0.95,"d":"95.0%"},{"$nulls":6},{"$f":"'1月'!K38+'2月'!K38+'3月'!K38+'5月'!K38+'6月'!K38+'7月'!K38+'8月'!K38+'9月'!K38+'10月'!K38+'11月'!K38+'12月'!K38","v":59},{"$f":"'1月'!L38+'2月'!L38+'3月'!L38+'5月'!L38+'6月'!L38+'7月'!L38+'8月'!L38+'9月'!L38+'10月'!L38+'11月'!L38+'12月'!L38","v":54},{"v":0.915254237288136,"d":"91.5%"},{"$nulls":15},{"$f":"'1月'!AC38+'2月'!AC38+'3月'!AC38+'5月'!AC38+'6月'!AC38+'7月'!AC38+'8月'!AC38+'9月'!AC38+'10月'!AC38+'11月'!AC38+'12月'!AC38","v":1},{"$f":"'1月'!AD38+'2月'!AD38+'3月'!AD38+'5月'!AD38+'6月'!AD38+'7月'!AD38+'8月'!AD38+'9月'!AD38+'10月'!AD38+'11月'!AD38+'12月'!AD38","v":1},{"v":1,"d":"100.0%"},{"$f":"'1月'!AF38+'2月'!AF38+'3月'!AF38+'5月'!AF38+'6月'!AF38+'7月'!AF38+'8月'!AF38+'9月'!AF38+'10月'!AF38+'11月'!AF38+'12月'!AF38","v":26},{"$f":"'1月'!AG38+'2月'!AG38+'3月'!AG38+'5月'!AG38+'6月'!AG38+'7月'!AG38+'8月'!AG38+'9月'!AG38+'10月'!AG38+'11月'!AG38+'12月'!AG38","v":24},{"v":0.923076923076923,"d":"92.3%"},{"$nulls":3},{"$f":"'1月'!AL38+'2月'!AL38+'3月'!AL38+'5月'!AL38+'6月'!AL38+'7月'!AL38+'8月'!AL38+'9月'!AL38+'10月'!AL38+'11月'!AL38+'12月'!AL38","v":8},{"$f":"'1月'!AM38+'2月'!AM38+'3月'!AM38+'5月'!AM38+'6月'!AM38+'7月'!AM38+'8月'!AM38+'9月'!AM38+'10月'!AM38+'11月'!AM38+'12月'!AM38","v":5},{"v":0.625,"d":"62.5%"},{"$f":"'1月'!AO38+'2月'!AO38+'3月'!AO38+'5月'!AO38+'6月'!AO38+'7月'!AO38+'8月'!AO38+'9月'!AO38+'10月'!AO38+'11月'!AO38+'12月'!AO38","v":4},{"$f":"'1月'!AP38+'2月'!AP38+'3月'!AP38+'5月'!AP38+'6月'!AP38+'7月'!AP38+'8月'!AP38+'9月'!AP38+'10月'!AP38+'11月'!AP38+'12月'!AP38","v":4},{"v":1,"d":"100.0%"},{"$nulls":15},138,126,{"v":0.91304347826087,"d":"91.3%"}]
["危化经营安管初训",{"$f":"'1月'!B39+'2月'!B39+'3月'!B39+'5月'!B39+'6月'!B39+'7月'!B39+'8月'!B39+'9月'!B39+'10月'!B39+'11月'!B39+'12月'!B39","v":274},{"$f":"'1月'!C39+'2月'!C39+'3月'!C39+'5月'!C39+'6月'!C39+'7月'!C39+'8月'!C39+'9月'!C39+'10月'!C39+'11月'!C39+'12月'!C39","v":223},{"v":0.813868613138686,"d":"81.4%"},{"$nulls":6},{"$f":"'1月'!K39+'2月'!K39+'3月'!K39+'5月'!K39+'6月'!K39+'7月'!K39+'8月'!K39+'9月'!K39+'10月'!K39+'11月'!K39+'12月'!K39","v":186},{"$f":"'1月'!L39+'2月'!L39+'3月'!L39+'5月'!L39+'6月'!L39+'7月'!L39+'8月'!L39+'9月'!L39+'10月'!L39+'11月'!L39+'12月'!L39","v":146},{"v":0.78494623655914,"d":"78.5%"},{"$nulls":3},{"$f":"'1月'!Q39+'2月'!Q39+'3月'!Q39+'5月'!Q39+'6月'!Q39+'7月'!Q39+'8月'!Q39+'9月'!Q39+'10月'!Q39+'11月'!Q39+'12月'!Q39","v":14},{"$f":"'1月'!R39+'2月'!R39+'3月'!R39+'5月'!R39+'6月'!R39+'7月'!R39+'8月'!R39+'9月'!R39+'10月'!R39+'11月'!R39+'12月'!R39","v":14},{"v":1,"d":"100.0%"},{"$nulls":9},{"$f":"'1月'!AC39+'2月'!AC39+'3月'!AC39+'5月'!AC39+'6月'!AC39+'7月'!AC39+'8月'!AC39+'9月'!AC39+'10月'!AC39+'11月'!AC39+'12月'!AC39","v":42},{"$f":"'1月'!AD39+'2月'!AD39+'3月'!AD39+'5月'!AD39+'6月'!AD39+'7月'!AD39+'8月'!AD39+'9月'!AD39+'10月'!AD39+'11月'!AD39+'12月'!AD39","v":35},{"v":0.833333333333333,"d":"83.3%"},{"$f":"'1月'!AF39+'2月'!AF39+'3月'!AF39+'5月'!AF39+'6月'!AF39+'7月'!AF39+'8月'!AF39+'9月'!AF39+'10月'!AF39+'11月'!AF39+'12月'!AF39","v":72},{"$f":"'1月'!AG39+'2月'!AG39+'3月'!AG39+'5月'!AG39+'6月'!AG39+'7月'!AG39+'8月'!AG39+'9月'!AG39+'10月'!AG39+'11月'!AG39+'12月'!AG39","v":57},{"v":0.791666666666667,"d":"79.2%"},{"$nulls":3},{"$f":"'1月'!AL39+'2月'!AL39+'3月'!AL39+'5月'!AL39+'6月'!AL39+'7月'!AL39+'8月'!AL39+'9月'!AL39+'10月'!AL39+'11月'!AL39+'12月'!AL39","v":9},{"$f":"'1月'!AM39+'2月'!AM39+'3月'!AM39+'5月'!AM39+'6月'!AM39+'7月'!AM39+'8月'!AM39+'9月'!AM39+'10月'!AM39+'11月'!AM39+'12月'!AM39","v":7},{"v":0.777777777777778,"d":"77.8%"},{"$f":"'1月'!AO39+'2月'!AO39+'3月'!AO39+'5月'!AO39+'6月'!AO39+'7月'!AO39+'8月'!AO39+'9月'!AO39+'10月'!AO39+'11月'!AO39+'12月'!AO39","v":22},{"$f":"'1月'!AP39+'2月'!AP39+'3月'!AP39+'5月'!AP39+'6月'!AP39+'7月'!AP39+'8月'!AP39+'9月'!AP39+'10月'!AP39+'11月'!AP39+'12月'!AP39","v":20},{"v":0.909090909090909,"d":"90.9%"},{"$f":"'1月'!AR39+'2月'!AR39+'3月'!AR39+'5月'!AR39+'6月'!AR39+'7月'!AR39+'8月'!AR39+'9月'!AR39+'10月'!AR39+'11月'!AR39+'12月'!AR39","v":13},{"$f":"'1月'!AS39+'2月'!AS39+'3月'!AS39+'5月'!AS39+'6月'!AS39+'7月'!AS39+'8月'!AS39+'9月'!AS39+'10月'!AS39+'11月'!AS39+'12月'!AS39","v":12},{"$f":"AS39/AR39","v":{"v":0.923076923076923,"d":"92.3%"}},{"$nulls":3},{"$f":"'9月'!AX39+'10月'!AX39+'11月'!AX39+'12月'!AX39","v":3},{"$f":"'9月'!AY39+'10月'!AY39+'11月'!AY39+'12月'!AY39","v":2},{"v":0.666666666666667,"d":"66.7%"},{"$nulls":6},635,516,{"v":0.81259842519685,"d":"81.3%"}]
["非煤矿山安管初训",{"$f":"'1月'!B40+'2月'!B40+'3月'!B40+'5月'!B40+'6月'!B40+'7月'!B40+'8月'!B40+'9月'!B40+'10月'!B40+'11月'!B40+'12月'!B40","v":8},{"$f":"'1月'!C40+'2月'!C40+'3月'!C40+'5月'!C40+'6月'!C40+'7月'!C40+'8月'!C40+'9月'!C40+'10月'!C40+'11月'!C40+'12月'!C40","v":8},{"v":1,"d":"100.0%"},{"$nulls":6},{"$f":"'1月'!K40+'2月'!K40+'3月'!K40+'5月'!K40+'6月'!K40+'7月'!K40+'8月'!K40+'9月'!K40+'10月'!K40+'11月'!K40+'12月'!K40","v":1},{"$f":"'1月'!L40+'2月'!L40+'3月'!L40+'5月'!L40+'6月'!L40+'7月'!L40+'8月'!L40+'9月'!L40+'10月'!L40+'11月'!L40+'12月'!L40","v":1},{"v":1,"d":"100.0%"},{"$nulls":15},{"$f":"'1月'!AC40+'2月'!AC40+'3月'!AC40+'5月'!AC40+'6月'!AC40+'7月'!AC40+'8月'!AC40+'9月'!AC40+'10月'!AC40+'11月'!AC40+'12月'!AC40","v":5},{"$f":"'1月'!AD40+'2月'!AD40+'3月'!AD40+'5月'!AD40+'6月'!AD40+'7月'!AD40+'8月'!AD40+'9月'!AD40+'10月'!AD40+'11月'!AD40+'12月'!AD40","v":3},{"v":0.6,"d":"60.0%"},{"$f":"'1月'!AF40+'2月'!AF40+'3月'!AF40+'5月'!AF40+'6月'!AF40+'7月'!AF40+'8月'!AF40+'9月'!AF40+'10月'!AF40+'11月'!AF40+'12月'!AF40","v":2},{"$f":"'1月'!AG40+'2月'!AG40+'3月'!AG40+'5月'!AG40+'6月'!AG40+'7月'!AG40+'8月'!AG40+'9月'!AG40+'10月'!AG40+'11月'!AG40+'12月'!AG40","v":2},{"v":1,"d":"100.0%"},{"$nulls":3},{"$f":"'1月'!AL40+'2月'!AL40+'3月'!AL40+'5月'!AL40+'6月'!AL40+'7月'!AL40+'8月'!AL40+'9月'!AL40+'10月'!AL40+'11月'!AL40+'12月'!AL40","v":6},{"$f":"'1月'!AM40+'2月'!AM40+'3月'!AM40+'5月'!AM40+'6月'!AM40+'7月'!AM40+'8月'!AM40+'9月'!AM40+'10月'!AM40+'11月'!AM40+'12月'!AM40","v":4},{"v":0.666666666666667,"d":"66.7%"},{"$nulls":18},22,18,{"v":0.818181818181818,"d":"81.8%"}]
["金属冶炼安管初训",{"$f":"'1月'!B41+'2月'!B41+'3月'!B41+'5月'!B41+'6月'!B41+'7月'!B41+'8月'!B41+'9月'!B41+'10月'!B41+'11月'!B41+'12月'!B41","v":1},{"$f":"'1月'!C41+'2月'!C41+'3月'!C41+'5月'!C41+'6月'!C41+'7月'!C41+'8月'!C41+'9月'!C41+'10月'!C41+'11月'!C41+'12月'!C41","v":1},{"v":1,"d":"100.0%"},{"$nulls":6},{"$f":"'1月'!K41+'2月'!K41+'3月'!K41+'5月'!K41+'6月'!K41+'7月'!K41+'8月'!K41+'9月'!K41+'10月'!K41+'11月'!K41+'12月'!K41","v":1},{"$f":"'1月'!L41+'2月'!L41+'3月'!L41+'5月'!L41+'6月'!L41+'7月'!L41+'8月'!L41+'9月'!L41+'10月'!L41+'11月'!L41+'12月'!L41","v":1},{"v":1,"d":"100.0%"},{"$nulls":3},{"$f":"'1月'!Q41+'2月'!Q41+'3月'!Q41+'5月'!Q41+'6月'!Q41+'7月'!Q41+'8月'!Q41+'9月'!Q41+'10月'!Q41+'11月'!Q41+'12月'!Q41","v":15},{"$f":"'1月'!R41+'2月'!R41+'3月'!R41+'5月'!R41+'6月'!R41+'7月'!R41+'8月'!R41+'9月'!R41+'10月'!R41+'11月'!R41+'12月'!R41","v":13},{"v":0.866666666666667,"d":"86.7%"},{"$nulls":12},{"$f":"'1月'!AF41+'2月'!AF41+'3月'!AF41+'5月'!AF41+'6月'!AF41+'7月'!AF41+'8月'!AF41+'9月'!AF41+'10月'!AF41+'11月'!AF41+'12月'!AF41","v":1},{"$f":"'1月'!AG41+'2月'!AG41+'3月'!AG41+'5月'!AG41+'6月'!AG41+'7月'!AG41+'8月'!AG41+'9月'!AG41+'10月'!AG41+'11月'!AG41+'12月'!AG41","v":1},{"v":1,"d":"100.0%"},{"$nulls":6},{"$f":"'1月'!AO41+'2月'!AO41+'3月'!AO41+'5月'!AO41+'6月'!AO41+'7月'!AO41+'8月'!AO41+'9月'!AO41+'10月'!AO41+'11月'!AO41+'12月'!AO41","v":1},{"$f":"'1月'!AP41+'2月'!AP41+'3月'!AP41+'5月'!AP41+'6月'!AP41+'7月'!AP41+'8月'!AP41+'9月'!AP41+'10月'!AP41+'11月'!AP41+'12月'!AP41","v":1},{"v":1,"d":"100.0%"},{"$nulls":15},19,17,{"v":0.894736842105263,"d":"89.5%"}]
["高危行业安管初训合计",{"$f":"SUM(B37:B41)","v":384},{"$f":"SUM(C37:C41)","v":319},{"$f":"C42/B42","v":{"v":0.830729166666667,"d":"83.1%"}},{"$nulls":6},{"$f":"SUM(K37:K41)","v":262},{"$f":"SUM(L37:L41)","v":214},{"$f":"L42/K42","v":{"v":0.816793893129771,"d":"81.7%"}},{"$nulls":3},{"$f":"SUM(Q37:Q41)","v":29},{"$f":"SUM(R37:R41)","v":27},{"v":0.931034482758621,"d":"93.1%"},{"$nulls":9},{"$f":"SUM(AC37:AC41)","v":67},53,{"$f":"AD42/AC42","v":{"v":0.791044776119403,"d":"79.1%"}},128,104,{"$f":"AG42/AF42","v":{"v":0.8125,"d":"81.3%"}},{"$nulls":3},{"$f":"SUM(AL37:AL41)","v":28},{"$f":"SUM(AM37:AM41)","v":20},{"v":0.714285714285714,"d":"71.4%"},{"$f":"SUM(AO37:AO41)","v":28},{"$f":"SUM(AP37:AP41)","v":26},{"v":0.928571428571429,"d":"92.9%"},{"$f":"SUM(AR37:AR41)","v":13},{"$f":"SUM(AS37:AS41)","v":12},{"$f":"AS42/AR42","v":{"v":0.923076923076923,"d":"92.3%"}},{"$f":"SUM(AU37:AU41)","v":2},2,{"$f":"AV42/AU42","v":{"v":1,"d":"100.0%"}},10,9,{"v":0.9,"d":"90.0%"},{"$nulls":6},951,786,{"v":0.826498422712934,"d":"82.6%"}]
["烟花爆竹经营安管复训",{"$f":"'1月'!B43+'2月'!B43+'3月'!B43+'5月'!B43+'6月'!B43+'7月'!B43+'8月'!B43+'9月'!B43+'10月'!B43+'11月'!B43+'12月'!B43","v":17},{"$f":"'1月'!C43+'2月'!C43+'3月'!C43+'5月'!C43+'6月'!C43+'7月'!C43+'8月'!C43+'9月'!C43+'10月'!C43+'11月'!C43+'12月'!C43","v":16},{"v":0.941176470588235,"d":"94.1%"},{"$nulls":6},{"$f":"'1月'!K43+'2月'!K43+'3月'!K43+'5月'!K43+'6月'!K43+'7月'!K43+'8月'!K43+'9月'!K43+'10月'!K43+'11月'!K43+'12月'!K43","v":27},{"$f":"'1月'!L43+'2月'!L43+'3月'!L43+'5月'!L43+'6月'!L43+'7月'!L43+'8月'!L43+'9月'!L43+'10月'!L43+'11月'!L43+'12月'!L43","v":22},{"v":0.814814814814815,"d":"81.5%"},{"$nulls":15},{"$f":"'1月'!AC43+'2月'!AC43+'3月'!AC43+'5月'!AC43+'6月'!AC43+'7月'!AC43+'8月'!AC43+'9月'!AC43+'10月'!AC43+'11月'!AC43+'12月'!AC43","v":16},{"$f":"'1月'!AD43+'2月'!AD43+'3月'!AD43+'5月'!AD43+'6月'!AD43+'7月'!AD43+'8月'!AD43+'9月'!AD43+'10月'!AD43+'11月'!AD43+'12月'!AD43","v":12},{"v":0.75,"d":"75.0%"},{"$f":"'1月'!AF43+'2月'!AF43+'3月'!AF43+'5月'!AF43+'6月'!AF43+'7月'!AF43+'8月'!AF43+'9月'!AF43+'10月'!AF43+'11月'!AF43+'12月'!AF43","v":3},{"$f":"'1月'!AG43+'2月'!AG43+'3月'!AG43+'5月'!AG43+'6月'!AG43+'7月'!AG43+'8月'!AG43+'9月'!AG43+'10月'!AG43+'11月'!AG43+'12月'!AG43","v":3},{"v":1,"d":"100.0%"},{"$nulls":24},63,53,{"v":0.841269841269841,"d":"84.1%"}]
["危化生产安管复训",{"$f":"'1月'!B44+'2月'!B44+'3月'!B44+'5月'!B44+'6月'!B44+'7月'!B44+'8月'!B44+'9月'!B44+'10月'!B44+'11月'!B44+'12月'!B44","v":143},{"$f":"'1月'!C44+'2月'!C44+'3月'!C44+'5月'!C44+'6月'!C44+'7月'!C44+'8月'!C44+'9月'!C44+'10月'!C44+'11月'!C44+'12月'!C44","v":140},{"v":0.979020979020979,"d":"97.9%"},{"$nulls":6},{"$f":"'1月'!K44+'2月'!K44+'3月'!K44+'5月'!K44+'6月'!K44+'7月'!K44+'8月'!K44+'9月'!K44+'10月'!K44+'11月'!K44+'12月'!K44","v":87},{"$f":"'1月'!L44+'2月'!L44+'3月'!L44+'5月'!L44+'6月'!L44+'7月'!L44+'8月'!L44+'9月'!L44+'10月'!L44+'11月'!L44+'12月'!L44","v":81},{"v":0.931034482758621,"d":"93.1%"},{"$nulls":3},{"$f":"'1月'!Q44+'2月'!Q44+'3月'!Q44+'5月'!Q44+'6月'!Q44+'7月'!Q44+'8月'!Q44+'9月'!Q44+'10月'!Q44+'11月'!Q44+'12月'!Q44","v":2},{"$f":"'1月'!R44+'2月'!R44+'3月'!R44+'5月'!R44+'6月'!R44+'7月'!R44+'8月'!R44+'9月'!R44+'10月'!R44+'11月'!R44+'12月'!R44","v":2},{"$f":"R44/Q44","v":{"v":1,"d":"100.0%"}},{"$nulls":9},{"$f":"'1月'!AC44+'2月'!AC44+'3月'!AC44+'5月'!AC44+'6月'!AC44+'7月'!AC44+'8月'!AC44+'9月'!AC44+'10月'!AC44+'11月'!AC44+'12月'!AC44","v":17},{"$f":"'1月'!AD44+'2月'!AD44+'3月'!AD44+'5月'!AD44+'6月'!AD44+'7月'!AD44+'8月'!AD44+'9月'!AD44+'10月'!AD44+'11月'!AD44+'12月'!AD44","v":17},{"v":1,"d":"100.0%"},{"$f":"'1月'!AF44+'2月'!AF44+'3月'!AF44+'5月'!AF44+'6月'!AF44+'7月'!AF44+'8月'!AF44+'9月'!AF44+'10月'!AF44+'11月'!AF44+'12月'!AF44","v":110},{"$f":"'1月'!AG44+'2月'!AG44+'3月'!AG44+'5月'!AG44+'6月'!AG44+'7月'!AG44+'8月'!AG44+'9月'!AG44+'10月'!AG44+'11月'!AG44+'12月'!AG44","v":99},{"v":0.9,"d":"90.0%"},{"$nulls":6},{"$f":"'1月'!AO44+'2月'!AO44+'3月'!AO44+'5月'!AO44+'6月'!AO44+'7月'!AO44+'8月'!AO44+'9月'!AO44+'10月'!AO44+'11月'!AO44+'12月'!AO44","v":26},{"$f":"'1月'!AP44+'2月'!AP44+'3月'!AP44+'5月'!AP44+'6月'!AP44+'7月'!AP44+'8月'!AP44+'9月'!AP44+'10月'!AP44+'11月'!AP44+'12月'!AP44","v":26},{"$f":"AP44/AO44","v":{"v":1,"d":"100.0%"}},{"$f":"'1月'!AR44+'2月'!AR44+'3月'!AR44+'5月'!AR44+'6月'!AR44+'7月'!AR44+'8月'!AR44+'9月'!AR44+'10月'!AR44+'11月'!AR44+'12月'!AR44","v":1},{"$f":"'1月'!AS44+'2月'!AS44+'3月'!AS44+'5月'!AS44+'6月'!AS44+'7月'!AS44+'8月'!AS44+'9月'!AS44+'10月'!AS44+'11月'!AS44+'12月'!AS44","v":1},{"$f":"AS44/AR44","v":{"v":1,"d":"100.0%"}},{"$nulls":12},386,366,{"v":0.948186528497409,"d":"94.8%"}]
["危化经营安管复训",{"$f":"'1月'!B45+'2月'!B45+'3月'!B45+'5月'!B45+'6月'!B45+'7月'!B45+'8月'!B45+'9月'!B45+'10月'!B45+'11月'!B45+'12月'!B45","v":781},{"$f":"'1月'!C45+'2月'!C45+'3月'!C45+'5月'!C45+'6月'!C45+'7月'!C45+'8月'!C45+'9月'!C45+'10月'!C45+'11月'!C45+'12月'!C45","v":707},{"v":0.905249679897567,"d":"90.5%"},{"$nulls":6},{"$f":"'1月'!K45+'2月'!K45+'3月'!K45+'5月'!K45+'6月'!K45+'7月'!K45+'8月'!K45+'9月'!K45+'10月'!K45+'11月'!K45+'12月'!K45","v":409},{"$f":"'1月'!L45+'2月'!L45+'3月'!L45+'5月'!L45+'6月'!L45+'7月'!L45+'8月'!L45+'9月'!L45+'10月'!L45+'11月'!L45+'12月'!L45","v":383},{"v":0.936430317848411,"d":"93.6%"},{"$nulls":3},{"$f":"'1月'!Q45+'2月'!Q45+'3月'!Q45+'5月'!Q45+'6月'!Q45+'7月'!Q45+'8月'!Q45+'9月'!Q45+'10月'!Q45+'11月'!Q45+'12月'!Q45","v":1},{"$f":"'1月'!R45+'2月'!R45+'3月'!R45+'5月'!R45+'6月'!R45+'7月'!R45+'8月'!R45+'9月'!R45+'10月'!R45+'11月'!R45+'12月'!R45","v":1},{"v":1,"d":"100.0%"},{"$nulls":9},{"$f":"'1月'!AC45+'2月'!AC45+'3月'!AC45+'5月'!AC45+'6月'!AC45+'7月'!AC45+'8月'!AC45+'9月'!AC45+'10月'!AC45+'11月'!AC45+'12月'!AC45","v":89},{"$f":"'1月'!AD45+'2月'!AD45+'3月'!AD45+'5月'!AD45+'6月'!AD45+'7月'!AD45+'8月'!AD45+'9月'!AD45+'10月'!AD45+'11月'!AD45+'12月'!AD45","v":87},{"v":0.97752808988764,"d":"97.8%"},{"$f":"'1月'!AF45+'2月'!AF45+'3月'!AF45+'5月'!AF45+'6月'!AF45+'7月'!AF45+'8月'!AF45+'9月'!AF45+'10月'!AF45+'11月'!AF45+'12月'!AF45","v":78},{"$f":"'1月'!AG45+'2月'!AG45+'3月'!AG45+'5月'!AG45+'6月'!AG45+'7月'!AG45+'8月'!AG45+'9月'!AG45+'10月'!AG45+'11月'!AG45+'12月'!AG45","v":74},{"v":0.948717948717949,"d":"94.9%"},{"$nulls":3},{"$f":"'1月'!AL45+'2月'!AL45+'3月'!AL45+'5月'!AL45+'6月'!AL45+'7月'!AL45+'8月'!AL45+'9月'!AL45+'10月'!AL45+'11月'!AL45+'12月'!AL45","v":10},{"$f":"'1月'!AM45+'2月'!AM45+'3月'!AM45+'5月'!AM45+'6月'!AM45+'7月'!AM45+'8月'!AM45+'9月'!AM45+'10月'!AM45+'11月'!AM45+'12月'!AM45","v":10},{"$f":"AM45/AL45","v":{"v":1,"d":"100.0%"}},{"$f":"'1月'!AO45+'2月'!AO45+'3月'!AO45+'5月'!AO45+'6月'!AO45+'7月'!AO45+'8月'!AO45+'9月'!AO45+'10月'!AO45+'11月'!AO45+'12月'!AO45","v":13},{"$f":"'1月'!AP45+'2月'!AP45+'3月'!AP45+'5月'!AP45+'6月'!AP45+'7月'!AP45+'8月'!AP45+'9月'!AP45+'10月'!AP45+'11月'!AP45+'12月'!AP45","v":13},{"v":1,"d":"100.0%"},{"$f":"'1月'!AR45+'2月'!AR45+'3月'!AR45+'5月'!AR45+'6月'!AR45+'7月'!AR45+'8月'!AR45+'9月'!AR45+'10月'!AR45+'11月'!AR45+'12月'!AR45","v":9},{"$f":"'1月'!AS45+'2月'!AS45+'3月'!AS45+'5月'!AS45+'6月'!AS45+'7月'!AS45+'8月'!AS45+'9月'!AS45+'10月'!AS45+'11月'!AS45+'12月'!AS45","v":8},{"v":0.888888888888889,"d":"88.9%"},{"$nulls":3},{"$f":"'9月'!AX45+'10月'!AX45+'11月'!AX45+'12月'!AX45","v":1},{"$f":"'9月'!AY45+'10月'!AY45+'11月'!AY45+'12月'!AY45","v":1},{"$f":"AY45/AX45","v":{"v":1,"d":"100.0%"}},{"$nulls":6},1391,1284,{"v":0.923076923076923,"d":"92.3%"}]
["非煤矿山安管复训",{"$f":"'1月'!B46+'2月'!B46+'3月'!B46+'5月'!B46+'6月'!B46+'7月'!B46+'8月'!B46+'9月'!B46+'10月'!B46+'11月'!B46+'12月'!B46","v":56},{"$f":"'1月'!C46+'2月'!C46+'3月'!C46+'5月'!C46+'6月'!C46+'7月'!C46+'8月'!C46+'9月'!C46+'10月'!C46+'11月'!C46+'12月'!C46","v":56},{"v":1,"d":"100.0%"},{"$nulls":6},{"$f":"'1月'!K46+'2月'!K46+'3月'!K46+'5月'!K46+'6月'!K46+'7月'!K46+'8月'!K46+'9月'!K46+'10月'!K46+'11月'!K46+'12月'!K46","v":6},{"$f":"'1月'!L46+'2月'!L46+'3月'!L46+'5月'!L46+'6月'!L46+'7月'!L46+'8月'!L46+'9月'!L46+'10月'!L46+'11月'!L46+'12月'!L46","v":6},{"v":1,"d":"100.0%"},{"$nulls":3},{"$f":"'1月'!Q46+'2月'!Q46+'3月'!Q46+'5月'!Q46+'6月'!Q46+'7月'!Q46+'8月'!Q46+'9月'!Q46+'10月'!Q46+'11月'!Q46+'12月'!Q46","v":8},{"$f":"'1月'!R46+'2月'!R46+'3月'!R46+'5月'!R46+'6月'!R46+'7月'!R46+'8月'!R46+'9月'!R46+'10月'!R46+'11月'!R46+'12月'!R46","v":8},{"v":1,"d":"100.0%"},{"$nulls":9},{"$f":"'1月'!AC46+'2月'!AC46+'3月'!AC46+'5月'!AC46+'6月'!AC46+'7月'!AC46+'8月'!AC46+'9月'!AC46+'10月'!AC46+'11月'!AC46+'12月'!AC46","v":17},{"$f":"'1月'!AD46+'2月'!AD46+'3月'!AD46+'5月'!AD46+'6月'!AD46+'7月'!AD46+'8月'!AD46+'9月'!AD46+'10月'!AD46+'11月'!AD46+'12月'!AD46","v":16},{"v":0.941176470588235,"d":"94.1%"},{"$f":"'1月'!AF46+'2月'!AF46+'3月'!AF46+'5月'!AF46+'6月'!AF46+'7月'!AF46+'8月'!AF46+'9月'!AF46+'10月'!AF46+'11月'!AF46+'12月'!AF46","v":1},{"$f":"'1月'!AG46+'2月'!AG46+'3月'!AG46+'5月'!AG46+'6月'!AG46+'7月'!AG46+'8月'!AG46+'9月'!AG46+'10月'!AG46+'11月'!AG46+'12月'!AG46","v":1},{"v":1,"d":"100.0%"},{"$nulls":24},88,87,{"v":0.988636363636364,"d":"98.9%"}]
["金属冶炼安管复训",{"$nulls":15},{"$f":"'1月'!Q47+'2月'!Q47+'3月'!Q47+'5月'!Q47+'6月'!Q47+'7月'!Q47+'8月'!Q47+'9月'!Q47+'10月'!Q47+'11月'!Q47+'12月'!Q47","v":12},{"$f":"'1月'!R47+'2月'!R47+'3月'!R47+'5月'!R47+'6月'!R47+'7月'!R47+'8月'!R47+'9月'!R47+'10月'!R47+'11月'!R47+'12月'!R47","v":12},{"v":1,"d":"100.0%"},{"$nulls":39},12,12,{"v":1,"d":"100.0%"}]
["高危行业安管复训合计",{"$f":"SUM(B43:B47)","v":997},{"$f":"SUM(C43:C47)","v":919},{"$f":"C48/B48","v":{"v":0.921765295887663,"d":"92.2%"}},{"$nulls":6},{"$f":"SUM(K43:K47)","v":529},{"$f":"SUM(L43:L47)","v":492},{"$f":"L48/K48","v":{"v":0.930056710775047,"d":"93.0%"}},{"$nulls":3},{"$f":"SUM(Q43:Q47)","v":23},{"$f":"SUM(R43:R47)","v":23},{"v":1,"d":"100.0%"},{"$nulls":9},{"$f":"SUM(AC43:AC47)","v":139},{"$f":"SUM(AD43:AD47)","v":132},{"v":0.949640287769784,"d":"95.0%"},{"$f":"SUM(AF43:AF47)","v":192},{"$f":"SUM(AG43:AG47)","v":177},{"$f":"AG48/AF48","v":{"v":0.921875,"d":"92.2%"}},{"$nulls":3},{"$f":"SUM(AL43:AL47)","v":10},{"$f":"SUM(AM43:AM47)","v":10},{"$f":"AM48/AL48","v":{"v":1,"d":"100.0%"}},39,39,{"$f":"AP48/AO48","v":{"v":1,"d":"100.0%"}},{"$f":"SUM(AR43:AR47)","v":10},9,{"v":0.9,"d":"90.0%"},{"$nulls":3},1,1,{"$f":"AY48/AX48","v":{"v":1,"d":"100.0%"}},{"$nulls":6},1940,1802,{"$f":"BH48/BG48","v":{"v":0.928865979381443,"d":"92.9%"}}]
["高危行业安管人员合计",{"$f":"B42+B48","v":1381},{"$f":"C42+C48","v":1238},{"v":0.896451846488052,"d":"89.6%"},{"$nulls":6},{"$f":"K42+K48","v":791},{"$f":"L42+L48","v":706},{"v":0.892541087231353,"d":"89.3%"},{"$nulls":3},{"$f":"Q42+Q48","v":52},{"$f":"R42+R48","v":50},{"$f":"R49/Q49","v":{"v":0.961538461538462,"d":"96.2%"}},{"$nulls":9},{"$f":"AC42+AC48","v":206},185,{"$f":"AD49/AC49","v":{"v":0.898058252427185,"d":"89.8%"}},320,281,{"v":0.878125,"d":"87.8%"},{"$nulls":3},{"$f":"AL42+AL48","v":38},{"$f":"AM42+AM48","v":30},{"v":0.789473684210526,"d":"78.9%"},67,65,{"v":0.970149253731343,"d":"97.0%"},{"$f":"AR42+AR48","v":23},21,{"v":0.91304347826087,"d":"91.3%"},{"$f":"AU42+AU48","v":2},2,{"$f":"AV49/AU49","v":{"v":1,"d":"100.0%"}},11,10,{"$f":"AY49/AX49","v":{"v":0.909090909090909,"d":"90.9%"}},{"$nulls":6},2891,2588,{"v":0.895191975095123,"d":"89.5%"}]
["高危行业负责人安管合计",{"$f":"B36+B49","v":2282},{"$f":"C36+C49","v":2103},{"v":0.921560035056968,"d":"92.2%"},{"$nulls":6},{"$f":"K36+K49","v":1153},{"$f":"L36+L49","v":1047},{"v":0.908065915004337,"d":"90.8%"},{"$nulls":3},{"$f":"Q36+Q49","v":81},{"$f":"R36+R49","v":77},{"v":0.950617283950617,"d":"95.1%"},{"$nulls":9},{"$f":"AC36+AC49","v":323},282,{"v":0.873065015479876,"d":"87.3%"},492,444,{"v":0.902439024390244,"d":"90.2%"},{"$nulls":3},{"$f":"AL36+AL49","v":55},46,{"v":0.836363636363636,"d":"83.6%"},100,97,{"v":0.97,"d":"97.0%"},{"$f":"AR36+AR49","v":44},{"$f":"AS36+AS49","v":40},{"$f":"AS50/AR50","v":{"v":0.909090909090909,"d":"90.9%"}},{"$f":"AU36+AU49","v":4},4,{"v":1,"d":"100.0%"},23,21,{"v":0.91304347826087,"d":"91.3%"},{"$nulls":6},4557,4161,{"v":0.913100724160632,"d":"91.3%"}]
["全工种合计",{"$f":"B23+B50","v":7474},6918,{"v":0.925608777093926,"d":"92.6%"},2839,2645,{"$f":"F51/E51","v":{"v":0.931666079605495,"d":"93.2%"}},{"$f":"H23+H50","v":540},410,{"$f":"I51/H51","v":{"v":0.759259259259259,"d":"75.9%"}},3821,3387,{"v":0.886417168280555,"d":"88.6%"},{"$f":"N23+N50","v":1471},1314,{"$f":"O51/N51","v":{"v":0.893269884432359,"d":"89.3%"}},492,457,{"v":0.928861788617886,"d":"92.9%"},{"$f":"T23+T50","v":643},546,{"$f":"U51/T51","v":{"v":0.849144634525661,"d":"84.9%"}},470,413,{"$f":"X51/W51","v":{"v":0.878723404255319,"d":"87.9%"}},{"$f":"Z23+Z50","v":846},655,{"$f":"AA51/Z51","v":{"v":0.774231678486998,"d":"77.4%"}},1863,1677,{"v":0.900161030595813,"d":"90.0%"},{"$f":"AF23+AF50","v":1781},1666,{"v":0.93542953396968,"d":"93.5%"},1436,1096,{"$f":"AJ51/AI51","v":{"v":0.763231197771588,"d":"76.3%"}},{"$f":"AL23+AL50","v":1072},949,{"v":0.885261194029851,"d":"88.5%"},211,188,{"v":0.890995260663507,"d":"89.1%"},{"$f":"AR23+AR50","v":44},{"$f":"AS23+AS50","v":40},{"v":0.909090909090909,"d":"90.9%"},{"$f":"AU23+AU50","v":51},44,{"v":0.862745098039216,"d":"86.3%"},{"$f":"AX23+AX50","v":58},{"$f":"AY23+AY50","v":54},{"v":0.931034482758621,"d":"93.1%"},{"$f":"BA23+BA50","v":252},{"$f":"BB23+BB50","v":217},{"$f":"BB51/BA51","v":{"v":0.861111111111111,"d":"86.1%"}},{"$f":"BD23+BD50","v":144},{"$f":"BE23+BE50","v":113},{"$f":"BE51/BD51","v":{"v":0.784722222222222,"d":"78.5%"}},25508,22789,{"v":0.89340599027756,"d":"89.3%"}]
["备注：\n1.培训机构名称以全国安全生产培训考试信息管理系统记录为准，按系统顺序排序；\n2.实考人数=报考总人数-正考补考均缺考人数-考试违规被取消成绩人数；\n3.仅统计已完成考试者，还有补考机会者不统计。"]