{"text_format":"3","workbook":"xlsx","n_sheets":6,"sheets":["2月","3月","4月","5月","6月","上半年"],"not_rendered":{"defined_names":6},"read":"whole","date_system":"1900"}

{"sheet":"2月","index":0,"n_rows":53,"n_cols":25,"rows_kept":53,"merged":[[0,0,0,24],[1,0,2,0],[1,1,1,3],[1,4,1,6],[1,7,1,9],[1,10,1,12],[1,13,1,15],[1,16,1,18],[1,19,1,21],[1,22,1,24],[52,0,52,24]]}
["2023年2月各考试点考生通过率统计表"]
["            培训机构\n    工种","江门市安全生产知识考试点（江门市安信职业安全培训有限公司）",null,null,"开平四维考试点（广东四维培训有限公司）",null,null,"开平市安全生产管理协会",null,null,"江门市技师学院",null,null,"江门市新会机电职业技术学校",null,null,"江门市新会技师学院",null,null,"鹤山市新供销协力教育咨询有限公司",null,null,"全市合计"]
[null,"实考人数","合格人数","通过率","实考人数","合格人数","通过率","实考人数","合格人数","通过率","实考人数","合格人数","通过率","实考人数","合格人数","通过率","实考人数","合格人数","通过率","实考人数","合格人数","通过率","实考人数","合格人数","通过率"]
["低压电工初训",220,165,{"$f":"C4/B4","v":{"v":0.75,"d":"75.0%"}},28,24,{"$f":"F4/E4","v":{"v":0.857142857142857,"d":"85.7%"}},{"$nulls":12},46,35,{"$f":"U4/T4","v":{"v":0.760869565217391,"d":"76.1%"}},{"$f":"B4+E4+H4+K4+N4+Q4+T4","v":294},{"$f":"C4+F4+I4+L4+O4+R4+U4","v":224},{"$f":"X4/W4","v":{"v":0.761904761904762,"d":"76.2%"}}]
["高压电工初训",{"$nulls":3},20,14,{"v":0.7,"d":"70.0%"},{"$nulls":15},20,14,{"v":0.7,"d":"70.0%"}]
["电力电缆初训",{"$nulls":3},5,2,{"v":0.4,"d":"40.0%"},{"$nulls":15},5,2,{"v":0.4,"d":"40.0%"}]
["熔化焊接与热切割初训",222,178,{"$f":"C7/B7","v":{"v":0.801801801801802,"d":"80.2%"}},{"$nulls":15},58,39,{"$f":"U7/T7","v":{"v":0.672413793103448,"d":"67.2%"}},280,217,{"v":0.775,"d":"77.5%"}]
["高处安装维护拆除初训",128,105,{"v":0.8203125,"d":"82.0%"},77,73,{"$f":"F8/E8","v":{"v":0.948051948051948,"d":"94.8%"}},{"$nulls":15},205,178,{"v":0.868292682926829,"d":"86.8%"}]
["特种作业初训合计",{"$f":"SUM(B4:B8)","v":570},{"$f":"SUM(C4:C8)","v":448},{"v":0.785964912280702,"d":"78.6%"},{"$f":"SUM(E4:E8)","v":130},{"$f":"SUM(F4:F8)","v":113},{"v":0.869230769230769,"d":"86.9%"},{"$nulls":12},{"$f":"SUM(T4:T8)","v":104},{"$f":"SUM(U4:U8)","v":74},{"$f":"U9/T9","v":{"v":0.711538461538462,"d":"71.2%"}},804,635,{"v":0.789800995024876,"d":"79.0%"}]
["低压电工复训",613,595,{"v":0.970636215334421,"d":"97.1%"},50,48,{"$f":"F10/E10","v":{"v":0.96,"d":"96.0%"}},{"$nulls":12},25,22,{"$f":"U10/T10","v":{"v":0.88,"d":"88.0%"}},688,665,{"v":0.966569767441861,"d":"96.7%"}]
["高压电工复训",83,78,{"$f":"C11/B11","v":{"v":0.939759036144578,"d":"94.0%"}},32,28,{"v":0.875,"d":"87.5%"},{"$nulls":15},115,106,{"v":0.921739130434783,"d":"92.2%"}]
["熔化焊接与热切割复训",120,108,{"v":0.9,"d":"90.0%"},9,9,{"v":1,"d":"100.0%"},{"$nulls":15},129,117,{"v":0.906976744186046,"d":"90.7%"}]
["钎焊复训"]
["高处安装维护拆除复训",68,60,{"v":0.882352941176471,"d":"88.2%"},39,38,{"v":0.974358974358974,"d":"97.4%"},{"$nulls":15},107,98,{"v":0.91588785046729,"d":"91.6%"}]
["登高架设复训",2,2,{"v":1,"d":"100.0%"},{"$nulls":18},2,2,{"v":1,"d":"100.0%"}]
["制冷与空调运行操作复训"]
["制冷与空调安装修理复训",1,1,{"$f":"C17/B17","v":{"v":1,"d":"100.0%"}},{"$nulls":18},1,1,{"v":1,"d":"100.0%"}]
["矿山安检复训"]
["电力电缆复训",1,1,{"$f":"C19/B19","v":{"v":1,"d":"100.0%"}},1,1,{"v":1,"d":"100.0%"},{"$nulls":15},2,2,{"v":1,"d":"100.0%"}]
["电气试验复训",3,3,{"v":1,"d":"100.0%"},4,4,{"v":1,"d":"100.0%"},{"$nulls":15},7,7,{"v":1,"d":"100.0%"}]
["继电保护复训",1,1,{"v":1,"d":"100.0%"},1,0,{"v":0,"d":"0.0%"},{"$nulls":15},2,1,{"v":0.5,"d":"50.0%"}]
["危化操作工复训",47,46,{"v":0.978723404255319,"d":"97.9%"},{"$nulls":18},47,46,{"v":0.978723404255319,"d":"97.9%"}]
["特种作业复训合计",{"$f":"SUM(B10:B22)","v":939},895,{"$f":"C23/B23","v":{"v":0.953141640042598,"d":"95.3%"}},136,128,{"v":0.941176470588235,"d":"94.1%"},{"$nulls":12},{"$f":"SUM(T10:T22)","v":25},{"$f":"SUM(U10:U22)","v":22},{"$f":"U23/T23","v":{"v":0.88,"d":"88.0%"}},1100,1045,{"$f":"X23/W23","v":{"v":0.95,"d":"95.0%"}}]
["特种作业人员合计",{"$f":"B9+B23","v":1509},{"$f":"C9+C23","v":1343},{"v":0.889993373094765,"d":"89.0%"},{"$f":"E9+E23","v":266},{"$f":"F9+F23","v":241},{"v":0.906015037593985,"d":"90.6%"},{"$nulls":12},{"$f":"T9+T23","v":129},{"$f":"U9+U23","v":96},{"$f":"U24/T24","v":{"v":0.744186046511628,"d":"74.4%"}},1904,1680,{"v":0.882352941176471,"d":"88.2%"}]
["烟花爆竹经营负责人初训",6,3,{"v":0.5,"d":"50.0%"},2,1,{"v":0.5,"d":"50.0%"},{"$nulls":15},8,4,{"v":0.5,"d":"50.0%"}]
["危化生产负责人初训",2,2,{"v":1,"d":"100.0%"},{"$nulls":18},2,2,{"v":1,"d":"100.0%"}]
["危化经营负责人初训",7,7,{"v":1,"d":"100.0%"},{"$nulls":18},7,7,{"v":1,"d":"100.0%"}]
["非煤矿山负责人初训"]
["金属冶炼负责人初训",4,4,{"$f":"C29/B29","v":{"v":1,"d":"100.0%"}},{"$nulls":18},4,4,{"v":1,"d":"100.0%"}]
["高危行业负责人初训合计",{"$f":"SUM(B25:B29)","v":19},16,{"v":0.842105263157895,"d":"84.2%"},2,1,{"$f":"F30/E30","v":{"v":0.5,"d":"50.0%"}},{"$nulls":15},21,17,{"$f":"X30/W30","v":{"v":0.80952380952381,"d":"81.0%"}}]
["烟花爆竹经营负责人复训"]
["危化生产负责人复训",6,6,{"v":1,"d":"100.0%"},1,1,{"$f":"F32/E32","v":{"v":1,"d":"100.0%"}},{"$nulls":15},7,7,{"v":1,"d":"100.0%"}]
["危化经营负责人复训",20,19,{"v":0.95,"d":"95.0%"},{"$nulls":18},20,19,{"v":0.95,"d":"95.0%"}]
["非煤矿山负责人复训",1,1,{"v":1,"d":"100.0%"},{"$nulls":18},1,1,{"v":1,"d":"100.0%"}]
["金属冶炼负责人复训",3,3,{"v":1,"d":"100.0%"},{"$nulls":18},3,3,{"v":1,"d":"100.0%"}]
["高危行业负责人复训合计",{"$f":"SUM(B31:B35)","v":30},29,{"v":0.966666666666667,"d":"96.7%"},1,1,{"v":1,"d":"100.0%"},{"$nulls":15},31,30,{"$f":"X36/W36","v":{"v":0.967741935483871,"d":"96.8%"}}]
["高危行业主要负责人合计",{"$f":"B30+B36","v":49},45,{"v":0.918367346938776,"d":"91.8%"},3,2,{"v":0.666666666666667,"d":"66.7%"},{"$nulls":15},52,47,{"v":0.903846153846154,"d":"90.4%"}]
["烟花爆竹经营安管初训",4,2,{"v":0.5,"d":"50.0%"},2,2,{"v":1,"d":"100.0%"},{"$nulls":15},6,4,{"v":0.666666666666667,"d":"66.7%"}]
["危化生产安管初训",7,6,{"v":0.857142857142857,"d":"85.7%"},{"$nulls":18},7,6,{"v":0.857142857142857,"d":"85.7%"}]
["危化经营安管初训",28,24,{"v":0.857142857142857,"d":"85.7%"},{"$nulls":18},28,24,{"v":0.857142857142857,"d":"85.7%"}]
["非煤矿山安管初训"]
["金属冶炼安管初训",18,15,{"$f":"C42/B42","v":{"v":0.833333333333333,"d":"83.3%"}},{"$nulls":18},18,15,{"v":0.833333333333333,"d":"83.3%"}]
["高危行业安管初训合计",{"$f":"SUM(B38:B42)","v":57},47,{"v":0.824561403508772,"d":"82.5%"},2,2,{"$f":"F43/E43","v":{"v":1,"d":"100.0%"}},{"$nulls":15},59,49,{"$f":"X43/W43","v":{"v":0.830508474576271,"d":"83.1%"}}]
["烟花爆竹经营安管复训"]
["危化生产安管复训",10,10,{"v":1,"d":"100.0%"},2,2,{"$f":"F45/E45","v":{"v":1,"d":"100.0%"}},{"$nulls":15},12,12,{"v":1,"d":"100.0%"}]
["危化经营安管复训",38,33,{"v":0.868421052631579,"d":"86.8%"},{"$nulls":18},38,33,{"v":0.868421052631579,"d":"86.8%"}]
["非煤矿山安管复训",1,1,{"v":1,"d":"100.0%"},{"$nulls":18},1,1,{"v":1,"d":"100.0%"}]
["金属冶炼安管复训",5,5,{"v":1,"d":"100.0%"},{"$nulls":18},5,5,{"v":1,"d":"100.0%"}]
["高危行业安管复训合计",{"$f":"SUM(B44:B48)","v":54},49,{"v":0.907407407407407,"d":"90.7%"},2,2,{"$f":"F49/E49","v":{"v":1,"d":"100.0%"}},{"$nulls":15},56,51,{"$f":"X49/W49","v":{"v":0.910714285714286,"d":"91.1%"}}]
["高危行业安管人员合计",{"$f":"B43+B49","v":111},96,{"v":0.864864864864865,"d":"86.5%"},4,4,{"v":1,"d":"100.0%"},{"$nulls":15},115,100,{"v":0.869565217391304,"d":"87.0%"}]
["高危行业负责人安管合计",{"$f":"B37+B50","v":160},141,{"v":0.88125,"d":"88.1%"},7,6,{"v":0.857142857142857,"d":"85.7%"},{"$nulls":15},167,147,{"v":0.880239520958084,"d":"88.0%"}]
["全工种合计",{"$f":"B24+B51","v":1669},{"$f":"C24+C51","v":1484},{"v":0.889155182744158,"d":"88.9%"},{"$f":"E24+E51","v":273},{"$f":"F24+F51","v":247},{"v":0.904761904761905,"d":"90.5%"},{"$nulls":12},{"$f":"T24+T51","v":129},{"$f":"U24+U51","v":96},{"$f":"U52/T52","v":{"v":0.744186046511628,"d":"74.4%"}},2071,1827,{"v":0.882182520521487,"d":"88.2%"}]
["备注：\n1.考试点名称以全国安全生产培训考试信息管理系统记录为准，按系统顺序排序；\n2.实考人数=报考总人数-正考补考均缺考人数-考试违规被取消成绩人数；\n3.仅统计已完成考试者，还有补考机会者不统计。"]

{"sheet":"3月","index":1,"n_rows":53,"n_cols":25,"rows_kept":53,"merged":[[0,0,0,24],[1,0,2,0],[1,1,1,3],[1,4,1,6],[1,7,1,9],[1,10,1,12],[1,13,1,15],[1,16,1,18],[1,19,1,21],[1,22,1,24],[52,0,52,24]]}
["2023年3月各考试点考生通过率统计表"]
["            培训机构\n    工种","江门市安全生产知识考试点（江门市安信职业安全培训有限公司）",null,null,"开平四维考试点（广东四维培训有限公司）",null,null,"开平市安全生产管理协会",null,null,"江门市技师学院",null,null,"江门市新会机电职业技术学校",null,null,"江门市新会技师学院",null,null,"鹤山市新供销协力教育咨询有限公司",null,null,"全市合计"]
[null,"实考人数","合格人数","通过率","实考人数","合格人数","通过率","实考人数","合格人数","通过率","实考人数","合格人数","通过率","实考人数","合格人数","通过率","实考人数","合格人数","通过率","实考人数","合格人数","通过率","实考人数","合格人数","通过率"]
["低压电工初训",254,155,{"$f":"C4/B4","v":{"v":0.610236220472441,"d":"61.0%"}},{"$nulls":9},134,110,{"$f":"O4/N4","v":{"v":0.82089552238806,"d":"82.1%"}},{"$nulls":3},100,64,{"$f":"U4/T4","v":{"v":0.64,"d":"64.0%"}},{"$f":"B4+E4+H4+K4+N4+Q4+T4","v":488},329,{"$f":"X4/W4","v":{"v":0.674180327868853,"d":"67.4%"}}]
["高压电工初训",{"$nulls":3},67,61,{"$f":"F5/E5","v":{"v":0.91044776119403,"d":"91.0%"}},{"$nulls":15},67,61,{"v":0.91044776119403,"d":"91.0%"}]
["电力电缆初训",{"$nulls":3},1,1,{"v":1,"d":"100.0%"},{"$nulls":15},1,1,{"v":1,"d":"100.0%"}]
["熔化焊接与热切割初训",144,122,{"$f":"C7/B7","v":{"v":0.847222222222222,"d":"84.7%"}},{"$nulls":15},60,51,{"$f":"U7/T7","v":{"v":0.85,"d":"85.0%"}},204,173,{"v":0.848039215686274,"d":"84.8%"}]
["高处安装维护拆除初训",173,147,{"v":0.84971098265896,"d":"85.0%"},90,86,{"$f":"F8/E8","v":{"v":0.955555555555556,"d":"95.6%"}},{"$nulls":12},51,47,{"$f":"U8/T8","v":{"v":0.92156862745098,"d":"92.2%"}},314,280,{"v":0.89171974522293,"d":"89.2%"}]
["特种作业初训合计",{"$f":"SUM(B4:B8)","v":571},{"$f":"SUM(C4:C8)","v":424},{"v":0.742556917688266,"d":"74.3%"},{"$f":"SUM(E4:E8)","v":158},{"$f":"SUM(F4:F8)","v":148},{"v":0.936708860759494,"d":"93.7%"},{"$nulls":6},{"$f":"SUM(N4:N8)","v":134},{"$f":"SUM(O4:O8)","v":110},{"$f":"O9/N9","v":{"v":0.82089552238806,"d":"82.1%"}},{"$nulls":3},{"$f":"SUM(T4:T8)","v":211},{"$f":"SUM(U4:U8)","v":162},{"$f":"U9/T9","v":{"v":0.767772511848341,"d":"76.8%"}},1074,844,{"v":0.78584729981378,"d":"78.6%"}]
["低压电工复训",331,322,{"v":0.972809667673716,"d":"97.3%"},100,97,{"v":0.97,"d":"97.0%"},{"$nulls":6},107,105,{"$f":"O10/N10","v":{"v":0.981308411214953,"d":"98.1%"}},{"$nulls":3},5,5,{"$f":"U10/T10","v":{"v":1,"d":"100.0%"}},543,529,{"v":0.974217311233886,"d":"97.4%"}]
["高压电工复训",78,68,{"v":0.871794871794872,"d":"87.2%"},13,11,{"v":0.846153846153846,"d":"84.6%"},{"$nulls":6},13,12,{"$f":"O11/N11","v":{"v":0.923076923076923,"d":"92.3%"}},{"$nulls":6},104,91,{"v":0.875,"d":"87.5%"}]
["熔化焊接与热切割复训",77,77,{"v":1,"d":"100.0%"},7,6,{"v":0.857142857142857,"d":"85.7%"},{"$nulls":6},10,10,{"v":1,"d":"100.0%"},{"$nulls":3},1,1,{"$f":"U12/T12","v":{"v":1,"d":"100.0%"}},95,94,{"v":0.989473684210526,"d":"98.9%"}]
["钎焊复训",1,1,{"v":1,"d":"100.0%"},{"$nulls":18},{"$f":"B13+E13+H13+K13+N13+Q13+T13","v":1},{"$f":"C13+F13+I13+L13+O13+R13+U13","v":1},{"v":1,"d":"100.0%"}]
["高处安装维护拆除复训",35,33,{"v":0.942857142857143,"d":"94.3%"},3,3,{"v":1,"d":"100.0%"},{"$nulls":6},3,3,{"v":1,"d":"100.0%"},{"$nulls":3},4,4,{"$f":"U14/T14","v":{"v":1,"d":"100.0%"}},45,43,{"v":0.955555555555556,"d":"95.6%"}]
["登高架设复训"]
["制冷与空调运行操作复训"]
["制冷与空调安装修理复训",3,2,{"$f":"C17/B17","v":{"v":0.666666666666667,"d":"66.7%"}},{"$nulls":18},3,2,{"v":0.666666666666667,"d":"66.7%"}]
["矿山安检复训"]
["电力电缆复训",{"$nulls":3},3,3,{"v":1,"d":"100.0%"},{"$nulls":15},3,3,{"v":1,"d":"100.0%"}]
["电气试验复训",1,1,{"v":1,"d":"100.0%"},1,1,{"v":1,"d":"100.0%"},{"$nulls":15},2,2,{"v":1,"d":"100.0%"}]
["继电保护复训",2,2,{"v":1,"d":"100.0%"},{"$nulls":18},2,2,{"v":1,"d":"100.0%"}]
["危化操作工复训"]
["特种作业复训合计",{"$f":"SUM(B10:B22)","v":528},506,{"v":0.958333333333333,"d":"95.8%"},127,121,{"v":0.952755905511811,"d":"95.3%"},{"$nulls":6},{"$f":"SUM(N10:N22)","v":133},130,{"$f":"O23/N23","v":{"v":0.977443609022556,"d":"97.7%"}},{"$nulls":3},{"$f":"SUM(T10:T22)","v":10},{"$f":"SUM(U10:U22)","v":10},{"$f":"U23/T23","v":{"v":1,"d":"100.0%"}},798,767,{"v":0.961152882205514,"d":"96.1%"}]
["特种作业人员合计",{"$f":"B9+B23","v":1099},{"$f":"C9+C23","v":930},{"v":0.846223839854413,"d":"84.6%"},{"$f":"E9+E23","v":285},{"$f":"F9+F23","v":269},{"v":0.943859649122807,"d":"94.4%"},{"$nulls":6},{"$f":"N9+N23","v":267},{"$f":"O9+O23","v":240},{"v":0.898876404494382,"d":"89.9%"},{"$nulls":3},{"$f":"T9+T23","v":221},{"$f":"U9+U23","v":172},{"$f":"U24/T24","v":{"v":0.778280542986425,"d":"77.8%"}},1872,1611,{"v":0.860576923076923,"d":"86.1%"}]
["烟花爆竹经营负责人初训",68,56,{"v":0.823529411764706,"d":"82.4%"},1,1,{"v":1,"d":"100.0%"},{"$nulls":15},69,57,{"v":0.826086956521739,"d":"82.6%"}]
["危化生产负责人初训",1,1,{"v":1,"d":"100.0%"},{"$nulls":18},1,1,{"v":1,"d":"100.0%"}]
["危化经营负责人初训",26,25,{"v":0.961538461538462,"d":"96.2%"},{"$nulls":18},26,25,{"v":0.961538461538462,"d":"96.2%"}]
["非煤矿山负责人初训",1,1,{"v":1,"d":"100.0%"}]
["金属冶炼负责人初训",2,2,{"v":1,"d":"100.0%"},{"$nulls":18},2,2,{"v":1,"d":"100.0%"}]
["高危行业负责人初训合计",{"$f":"SUM(B25:B29)","v":98},85,{"v":0.86734693877551,"d":"86.7%"},1,1,{"$f":"F30/E30","v":{"v":1,"d":"100.0%"}},{"$nulls":15},99,86,{"v":0.868686868686869,"d":"86.9%"}]
["烟花爆竹经营负责人复训",9,8,{"v":0.888888888888889,"d":"88.9%"},{"$nulls":18},{"$f":"B31+E31+H31+K31+N31+Q31+T31","v":9},{"$f":"C31+F31+I31+L31+O31+R31+U31","v":8},{"v":0.888888888888889,"d":"88.9%"}]
["危化生产负责人复训",6,6,{"v":1,"d":"100.0%"},{"$nulls":18},6,6,{"v":1,"d":"100.0%"}]
["危化经营负责人复训",93,88,{"v":0.946236559139785,"d":"94.6%"},{"$nulls":18},93,88,{"v":0.946236559139785,"d":"94.6%"}]
["非煤矿山负责人复训"]
["金属冶炼负责人复训",3,3,{"v":1,"d":"100.0%"},{"$nulls":18},3,3,{"v":1,"d":"100.0%"}]
["高危行业负责人复训合计",{"$f":"SUM(B31:B35)","v":111},105,{"v":0.945945945945946,"d":"94.6%"},{"$nulls":18},111,105,{"v":0.945945945945946,"d":"94.6%"}]
["高危行业主要负责人合计",{"$f":"B30+B36","v":209},190,{"v":0.909090909090909,"d":"90.9%"},1,1,{"$f":"F37/E37","v":{"v":1,"d":"100.0%"}},{"$nulls":15},210,191,{"v":0.90952380952381,"d":"91.0%"}]
["烟花爆竹经营安管初训",58,45,{"v":0.775862068965517,"d":"77.6%"},3,2,{"$f":"F38/E38","v":{"v":0.666666666666667,"d":"66.7%"}},{"$nulls":15},61,47,{"v":0.770491803278688,"d":"77.0%"}]
["危化生产安管初训",11,11,{"v":1,"d":"100.0%"},{"$nulls":18},11,11,{"v":1,"d":"100.0%"}]
["危化经营安管初训",95,68,{"v":0.715789473684211,"d":"71.6%"},3,3,{"$f":"F40/E40","v":{"v":1,"d":"100.0%"}},{"$nulls":15},98,71,{"v":0.724489795918367,"d":"72.4%"}]
["非煤矿山安管初训",2,2,{"v":1,"d":"100.0%"},3,3,{"$f":"F41/E41","v":{"v":1,"d":"100.0%"}},{"$nulls":15},{"$f":"B41+E41+H41+K41+N41+Q41+T41","v":5},{"$f":"C41+F41+I41+L41+O41+R41+U41","v":5},{"v":1,"d":"100.0%"}]
["金属冶炼安管初训",1,1,{"v":1,"d":"100.0%"},{"$nulls":18},1,1,{"v":1,"d":"100.0%"}]
["高危行业安管初训合计",{"$f":"SUM(B38:B42)","v":167},127,{"v":0.760479041916168,"d":"76.0%"},9,8,{"v":0.888888888888889,"d":"88.9%"},{"$nulls":15},176,135,{"v":0.767045454545455,"d":"76.7%"}]
["烟花爆竹经营安管复训",7,7,{"v":1,"d":"100.0%"},{"$nulls":18},{"$f":"B44+E44+H44+K44+N44+Q44+T44","v":7},{"$f":"C44+F44+I44+L44+O44+R44+U44","v":7},{"v":1,"d":"100.0%"}]
["危化生产安管复训",15,14,{"v":0.933333333333333,"d":"93.3%"},{"$nulls":18},15,14,{"v":0.933333333333333,"d":"93.3%"}]
["危化经营安管复训",164,153,{"v":0.932926829268293,"d":"93.3%"},2,2,{"v":1,"d":"100.0%"},{"$nulls":15},166,155,{"v":0.933734939759036,"d":"93.4%"}]
["非煤矿山安管复训"]
["金属冶炼安管复训",7,7,{"v":1,"d":"100.0%"},{"$nulls":18},7,7,{"v":1,"d":"100.0%"}]
["高危行业安管复训合计",{"$f":"SUM(B44:B48)","v":193},181,{"v":0.937823834196891,"d":"93.8%"},2,2,{"$f":"F49/E49","v":{"v":1,"d":"100.0%"}},{"$nulls":15},195,183,{"v":0.938461538461538,"d":"93.8%"}]
["高危行业安管人员合计",{"$f":"B43+B49","v":360},308,{"v":0.855555555555556,"d":"85.6%"},11,10,{"v":0.909090909090909,"d":"90.9%"},{"$nulls":15},371,318,{"v":0.857142857142857,"d":"85.7%"}]
["高危行业负责人安管合计",{"$f":"B37+B50","v":569},498,{"v":0.875219683655536,"d":"87.5%"},12,11,{"v":0.916666666666667,"d":"91.7%"},{"$nulls":15},581,509,{"v":0.876075731497418,"d":"87.6%"}]
["全工种合计",{"$f":"B24+B51","v":1668},{"$f":"C24+C51","v":1428},{"v":0.856115107913669,"d":"85.6%"},{"$f":"E24+E51","v":297},{"$f":"F24+F51","v":280},{"v":0.942760942760943,"d":"94.3%"},{"$nulls":6},{"$f":"N24+N51","v":267},{"$f":"O24+O51","v":240},{"$f":"O52/N52","v":{"v":0.898876404494382,"d":"89.9%"}},{"$nulls":3},{"$f":"T24+T51","v":221},{"$f":"U24+U51","v":172},{"$f":"U52/T52","v":{"v":0.778280542986425,"d":"77.8%"}},2453,2120,{"v":0.864247859763555,"d":"86.4%"}]
["备注：\n1.考试点名称以全国安全生产培训考试信息管理系统记录为准，按系统顺序排序；\n2.实考人数=报考总人数-正考补考均缺考人数-考试违规被取消成绩人数；\n3.仅统计已完成考试者，还有补考机会者不统计。"]

{"sheet":"4月","index":2,"n_rows":53,"n_cols":25,"rows_kept":53,"merged":[[0,0,0,24],[1,0,2,0],[1,1,1,3],[1,4,1,6],[1,7,1,9],[1,10,1,12],[1,13,1,15],[1,16,1,18],[1,19,1,21],[1,22,1,24],[52,0,52,24]]}
["2023年4月各考试点考生通过率统计表"]
["            培训机构\n    工种","江门市安全生产知识考试点（江门市安信职业安全培训有限公司）",null,null,"开平四维考试点（广东四维培训有限公司）",null,null,"开平市安全生产管理协会",null,null,"江门市技师学院",null,null,"江门市新会机电职业技术学校",null,null,"江门市新会技师学院",null,null,"鹤山市新供销协力教育咨询有限公司",null,null,"全市合计"]
[null,"实考人数","合格人数","通过率","实考人数","合格人数","通过率","实考人数","合格人数","通过率","实考人数","合格人数","通过率","实考人数","合格人数","通过率","实考人数","合格人数","通过率","实考人数","合格人数","通过率","实考人数","合格人数","通过率"]
["低压电工初训",230,136,{"$f":"C4/B4","v":{"v":0.591304347826087,"d":"59.1%"}},90,76,{"$f":"F4/E4","v":{"v":0.844444444444444,"d":"84.4%"}},{"$nulls":6},134,119,{"$f":"O4/N4","v":{"v":0.888059701492537,"d":"88.8%"}},{"$nulls":3},132,95,{"$f":"U4/T4","v":{"v":0.71969696969697,"d":"72.0%"}},{"$f":"B4+E4+H4+K4+N4+Q4+T4","v":586},426,{"$f":"X4/W4","v":{"v":0.726962457337884,"d":"72.7%"}}]
["高压电工初训",{"$nulls":3},68,60,{"$f":"F5/E5","v":{"v":0.882352941176471,"d":"88.2%"}},{"$nulls":15},68,60,{"v":0.882352941176471,"d":"88.2%"}]
["电力电缆初训"]
["熔化焊接与热切割初训",201,176,{"$f":"C7/B7","v":{"v":0.875621890547264,"d":"87.6%"}},{"$nulls":6},50,50,{"$f":"L7/K7","v":{"v":1,"d":"100.0%"}},{"$nulls":6},85,69,{"$f":"U7/T7","v":{"v":0.811764705882353,"d":"81.2%"}},336,295,{"v":0.87797619047619,"d":"87.8%"}]
["高处安装维护拆除初训",141,130,{"v":0.921985815602837,"d":"92.2%"},{"$nulls":15},92,83,{"$f":"U8/T8","v":{"v":0.902173913043478,"d":"90.2%"}},233,213,{"v":0.914163090128755,"d":"91.4%"}]
["特种作业初训合计",{"$f":"SUM(B4:B8)","v":572},{"$f":"SUM(C4:C8)","v":442},{"v":0.772727272727273,"d":"77.3%"},{"$f":"SUM(E4:E8)","v":158},{"$f":"SUM(F4:F8)","v":136},{"v":0.860759493670886,"d":"86.1%"},{"$nulls":3},{"$f":"SUM(K4:K8)","v":50},{"$f":"SUM(L4:L8)","v":50},{"$f":"L9/K9","v":{"v":1,"d":"100.0%"}},{"$f":"SUM(N4:N8)","v":134},{"$f":"SUM(O4:O8)","v":119},{"$f":"O9/N9","v":{"v":0.888059701492537,"d":"88.8%"}},{"$nulls":3},{"$f":"SUM(T4:T8)","v":309},{"$f":"SUM(U4:U8)","v":247},{"$f":"U9/T9","v":{"v":0.799352750809062,"d":"79.9%"}},1223,994,{"v":0.812755519215045,"d":"81.3%"}]
["低压电工复训",251,247,{"v":0.98406374501992,"d":"98.4%"},67,67,{"v":1,"d":"100.0%"},{"$nulls":3},1,1,{"$f":"L10/K10","v":{"v":1,"d":"100.0%"}},273,271,{"$f":"O10/N10","v":{"v":0.992673992673993,"d":"99.3%"}},{"$nulls":3},16,16,{"$f":"U10/T10","v":{"v":1,"d":"100.0%"}},608,602,{"v":0.990131578947368,"d":"99.0%"}]
["高压电工复训",49,49,{"v":1,"d":"100.0%"},12,9,{"v":0.75,"d":"75.0%"},{"$nulls":6},40,36,{"v":0.9,"d":"90.0%"},{"$nulls":6},101,94,{"v":0.930693069306931,"d":"93.1%"}]
["熔化焊接与热切割复训",55,52,{"v":0.945454545454545,"d":"94.5%"},5,5,{"v":1,"d":"100.0%"},{"$nulls":6},43,39,{"v":0.906976744186046,"d":"90.7%"},{"$nulls":3},3,2,{"$f":"U12/T12","v":{"v":0.666666666666667,"d":"66.7%"}},106,98,{"v":0.924528301886792,"d":"92.5%"}]
["钎焊复训"]
["高处安装维护拆除复训",7,7,{"v":1,"d":"100.0%"},16,16,{"v":1,"d":"100.0%"},{"$nulls":6},6,6,{"v":1,"d":"100.0%"},{"$nulls":3},2,2,{"$f":"U14/T14","v":{"v":1,"d":"100.0%"}},31,31,{"v":1,"d":"100.0%"}]
["登高架设复训",3,3,{"v":1,"d":"100.0%"},{"$nulls":18},{"$f":"B15+E15+H15+K15+N15+Q15+T15","v":3},{"$f":"C15+F15+I15+L15+O15+R15+U15","v":3},{"v":1,"d":"100.0%"}]
["制冷与空调运行操作复训"]
["制冷与空调安装修理复训"]
["矿山安检复训"]
["电力电缆复训",1,0,{"$f":"C19/B19","v":{"v":0,"d":"0.0%"}},{"$nulls":18},1,0,{"v":0,"d":"0.0%"}]
["电气试验复训",1,1,{"v":1,"d":"100.0%"},1,1,{"v":1,"d":"100.0%"},{"$nulls":15},2,2,{"v":1,"d":"100.0%"}]
["继电保护复训",{"$nulls":12},1,1,{"$f":"O21/N21","v":{"v":1,"d":"100.0%"}},{"$nulls":6},1,1,{"v":1,"d":"100.0%"}]
["危化操作工复训",1,1,{"v":1,"d":"100.0%"},{"$nulls":18},{"$f":"B22+E22+H22+K22+N22+Q22+T22","v":1},{"$f":"C22+F22+I22+L22+O22+R22+U22","v":1},{"v":1,"d":"100.0%"}]
["特种作业复训合计",{"$f":"SUM(B10:B22)","v":368},360,{"v":0.978260869565217,"d":"97.8%"},101,98,{"v":0.97029702970297,"d":"97.0%"},{"$nulls":3},{"$f":"SUM(K10:K22)","v":1},1,{"$f":"L23/K23","v":{"v":1,"d":"100.0%"}},{"$f":"SUM(N10:N22)","v":363},353,{"$f":"O23/N23","v":{"v":0.972451790633609,"d":"97.2%"}},{"$nulls":3},{"$f":"SUM(T10:T22)","v":21},{"$f":"SUM(U10:U22)","v":20},{"$f":"U23/T23","v":{"v":0.952380952380952,"d":"95.2%"}},854,832,{"v":0.97423887587822,"d":"97.4%"}]
["特种作业人员合计",{"$f":"B9+B23","v":940},{"$f":"C9+C23","v":802},{"v":0.853191489361702,"d":"85.3%"},{"$f":"E9+E23","v":259},{"$f":"F9+F23","v":234},{"v":0.903474903474903,"d":"90.3%"},{"$nulls":3},{"$f":"K9+K23","v":51},{"$f":"L9+L23","v":51},{"v":1,"d":"100.0%"},{"$f":"N9+N23","v":497},{"$f":"O9+O23","v":472},{"v":0.949698189134809,"d":"95.0%"},{"$nulls":3},{"$f":"T9+T23","v":330},{"$f":"U9+U23","v":267},{"$f":"U24/T24","v":{"v":0.809090909090909,"d":"80.9%"}},2077,1826,{"v":0.87915262397689,"d":"87.9%"}]
["烟花爆竹经营负责人初训",17,12,{"v":0.705882352941177,"d":"70.6%"},4,3,{"v":0.75,"d":"75.0%"},{"$nulls":15},21,15,{"v":0.714285714285714,"d":"71.4%"}]
["危化生产负责人初训"]
["危化经营负责人初训",13,13,{"v":1,"d":"100.0%"},{"$nulls":18},13,13,{"v":1,"d":"100.0%"}]
["非煤矿山负责人初训"]
["金属冶炼负责人初训"]
["高危行业负责人初训合计",{"$f":"SUM(B25:B29)","v":30},25,{"v":0.833333333333333,"d":"83.3%"},4,3,{"$f":"F30/E30","v":{"v":0.75,"d":"75.0%"}},{"$nulls":15},34,28,{"v":0.823529411764706,"d":"82.4%"}]
["烟花爆竹经营负责人复训",3,3,{"v":1,"d":"100.0%"},{"$nulls":18},{"$f":"B31+E31+H31+K31+N31+Q31+T31","v":3},{"$f":"C31+F31+I31+L31+O31+R31+U31","v":3},{"v":1,"d":"100.0%"}]
["危化生产负责人复训",37,36,{"v":0.972972972972973,"d":"97.3%"},{"$nulls":18},37,36,{"v":0.972972972972973,"d":"97.3%"}]
["危化经营负责人复训",50,50,{"v":1,"d":"100.0%"},2,2,{"$f":"F33/E33","v":{"v":1,"d":"100.0%"}},{"$nulls":15},52,52,{"v":1,"d":"100.0%"}]
["非煤矿山负责人复训"]
["金属冶炼负责人复训",2,2,{"v":1,"d":"100.0%"},{"$nulls":18},2,2,{"v":1,"d":"100.0%"}]
["高危行业负责人复训合计",{"$f":"SUM(B31:B35)","v":92},91,{"v":0.989130434782609,"d":"98.9%"},{"$f":"SUM(E31:E35)","v":2},{"$f":"SUM(F31:F35)","v":2},{"$f":"F36/E36","v":{"v":1,"d":"100.0%"}},{"$nulls":15},94,93,{"v":0.98936170212766,"d":"98.9%"}]
["高危行业主要负责人合计",{"$f":"B30+B36","v":122},116,{"v":0.950819672131147,"d":"95.1%"},6,5,{"$f":"F37/E37","v":{"v":0.833333333333333,"d":"83.3%"}},{"$nulls":15},128,121,{"v":0.9453125,"d":"94.5%"}]
["烟花爆竹经营安管初训",9,8,{"v":0.888888888888889,"d":"88.9%"},4,2,{"$f":"F38/E38","v":{"v":0.5,"d":"50.0%"}},{"$nulls":15},13,10,{"v":0.769230769230769,"d":"76.9%"}]
["危化生产安管初训",11,10,{"v":0.909090909090909,"d":"90.9%"},{"$nulls":18},11,10,{"v":0.909090909090909,"d":"90.9%"}]
["危化经营安管初训",54,50,{"v":0.925925925925926,"d":"92.6%"},{"$nulls":18},54,50,{"v":0.925925925925926,"d":"92.6%"}]
["非煤矿山安管初训",3,3,{"v":1,"d":"100.0%"},1,1,{"$f":"F41/E41","v":{"v":1,"d":"100.0%"}},{"$nulls":15},{"$f":"B41+E41+H41+K41+N41+Q41+T41","v":4},{"$f":"C41+F41+I41+L41+O41+R41+U41","v":4},{"v":1,"d":"100.0%"}]
["金属冶炼安管初训",2,1,{"v":0.5,"d":"50.0%"},{"$nulls":18},2,1,{"v":0.5,"d":"50.0%"}]
["高危行业安管初训合计",{"$f":"SUM(B38:B42)","v":79},72,{"v":0.911392405063291,"d":"91.1%"},5,3,{"v":0.6,"d":"60.0%"},{"$nulls":15},84,75,{"v":0.892857142857143,"d":"89.3%"}]
["烟花爆竹经营安管复训",3,3,{"v":1,"d":"100.0%"},{"$nulls":18},{"$f":"B44+E44+H44+K44+N44+Q44+T44","v":3},{"$f":"C44+F44+I44+L44+O44+R44+U44","v":3},{"v":1,"d":"100.0%"}]
["危化生产安管复训",44,43,{"v":0.977272727272727,"d":"97.7%"},{"$nulls":18},44,43,{"v":0.977272727272727,"d":"97.7%"}]
["危化经营安管复训",49,47,{"v":0.959183673469388,"d":"95.9%"},3,3,{"v":1,"d":"100.0%"},{"$nulls":15},52,50,{"v":0.961538461538462,"d":"96.2%"}]
["非煤矿山安管复训"]
["金属冶炼安管复训",2,2,{"v":1,"d":"100.0%"},{"$nulls":18},2,2,{"v":1,"d":"100.0%"}]
["高危行业安管复训合计",{"$f":"SUM(B44:B48)","v":98},95,{"v":0.969387755102041,"d":"96.9%"},3,3,{"$f":"F49/E49","v":{"v":1,"d":"100.0%"}},{"$nulls":15},101,98,{"v":0.97029702970297,"d":"97.0%"}]
["高危行业安管人员合计",{"$f":"B43+B49","v":177},167,{"v":0.943502824858757,"d":"94.4%"},8,6,{"v":0.75,"d":"75.0%"},{"$nulls":15},185,173,{"v":0.935135135135135,"d":"93.5%"}]
["高危行业负责人安管合计",{"$f":"B37+B50","v":299},283,{"v":0.946488294314381,"d":"94.6%"},14,11,{"v":0.785714285714286,"d":"78.6%"},{"$nulls":15},313,294,{"v":0.939297124600639,"d":"93.9%"}]
["全工种合计",{"$f":"B24+B51","v":1239},{"$f":"C24+C51","v":1085},{"v":0.875706214689266,"d":"87.6%"},{"$f":"E24+E51","v":273},{"$f":"F24+F51","v":245},{"v":0.897435897435897,"d":"89.7%"},{"$nulls":3},{"$f":"K24+K51","v":51},{"$f":"L24+L51","v":51},{"$f":"L52/K52","v":{"v":1,"d":"100.0%"}},{"$f":"N24+N51","v":497},{"$f":"O24+O51","v":472},{"$f":"O52/N52","v":{"v":0.949698189134809,"d":"95.0%"}},{"$nulls":3},{"$f":"T24+T51","v":330},{"$f":"U24+U51","v":267},{"$f":"U52/T52","v":{"v":0.809090909090909,"d":"80.9%"}},2390,2120,{"v":0.887029288702929,"d":"88.7%"}]
["备注：\n1.考试点名称以全国安全生产培训考试信息管理系统记录为准，按系统顺序排序；\n2.实考人数=报考总人数-正考补考均缺考人数-考试违规被取消成绩人数；\n3.仅统计已完成考试者，还有补考机会者不统计。"]

{"sheet":"5月","index":3,"n_rows":53,"n_cols":25,"rows_kept":53,"merged":[[0,0,0,24],[1,0,2,0],[1,1,1,3],[1,4,1,6],[1,7,1,9],[1,10,1,12],[1,13,1,15],[1,16,1,18],[1,19,1,21],[1,22,1,24],[52,0,52,24]]}
["2023年5月各考试点考生通过率统计表"]
["            培训机构\n    工种","江门市安全生产知识考试点（江门市安信职业安全培训有限公司）",null,null,"开平四维考试点（广东四维培训有限公司）",null,null,"开平市安全生产管理协会",null,null,"江门市技师学院",null,null,"江门市新会机电职业技术学校",null,null,"江门市新会技师学院",null,null,"鹤山市新供销协力教育咨询有限公司",null,null,"全市合计"]
[null,"实考人数","合格人数","通过率","实考人数","合格人数","通过率","实考人数","合格人数","通过率","实考人数","合格人数","通过率","实考人数","合格人数","通过率","实考人数","合格人数","通过率","实考人数","合格人数","通过率","实考人数","合格人数","通过率"]
["低压电工初训",295,211,{"$f":"C4/B4","v":{"v":0.715254237288136,"d":"71.5%"}},49,36,{"$f":"F4/E4","v":{"v":0.73469387755102,"d":"73.5%"}},{"$nulls":6},99,69,{"$f":"O4/N4","v":{"v":0.696969696969697,"d":"69.7%"}},{"$nulls":3},39,24,{"$f":"U4/T4","v":{"v":0.615384615384615,"d":"61.5%"}},{"$f":"B4+E4+H4+K4+N4+Q4+T4","v":482},340,{"$f":"X4/W4","v":{"v":0.705394190871369,"d":"70.5%"}}]
["高压电工初训",{"$nulls":3},52,49,{"$f":"F5/E5","v":{"v":0.942307692307692,"d":"94.2%"}},{"$nulls":15},52,49,{"v":0.942307692307692,"d":"94.2%"}]
["电力电缆初训"]
["熔化焊接与热切割初训",152,127,{"$f":"C7/B7","v":{"v":0.835526315789474,"d":"83.6%"}},{"$nulls":15},131,104,{"$f":"U7/T7","v":{"v":0.793893129770992,"d":"79.4%"}},283,231,{"v":0.816254416961131,"d":"81.6%"}]
["高处安装维护拆除初训",184,164,{"v":0.891304347826087,"d":"89.1%"},{"$nulls":15},73,62,{"$f":"U8/T8","v":{"v":0.849315068493151,"d":"84.9%"}},257,226,{"v":0.879377431906615,"d":"87.9%"}]
["特种作业初训合计",{"$f":"SUM(B4:B8)","v":631},{"$f":"SUM(C4:C8)","v":502},{"v":0.795562599049128,"d":"79.6%"},{"$f":"SUM(E4:E8)","v":101},{"$f":"SUM(F4:F8)","v":85},{"v":0.841584158415842,"d":"84.2%"},{"$nulls":6},{"$f":"SUM(N4:N8)","v":99},{"$f":"SUM(O4:O8)","v":69},{"$f":"O9/N9","v":{"v":0.696969696969697,"d":"69.7%"}},{"$nulls":3},{"$f":"SUM(T4:T8)","v":243},{"$f":"SUM(U4:U8)","v":190},{"$f":"U9/T9","v":{"v":0.781893004115226,"d":"78.2%"}},1074,846,{"v":0.787709497206704,"d":"78.8%"}]
["低压电工复训",283,278,{"v":0.982332155477032,"d":"98.2%"},33,33,{"v":1,"d":"100.0%"},{"$nulls":6},178,168,{"$f":"O10/N10","v":{"v":0.943820224719101,"d":"94.4%"}},{"$nulls":3},13,13,{"$f":"U10/T10","v":{"v":1,"d":"100.0%"}},507,492,{"v":0.970414201183432,"d":"97.0%"}]
["高压电工复训",27,24,{"v":0.888888888888889,"d":"88.9%"},16,16,{"v":1,"d":"100.0%"},{"$nulls":6},30,26,{"v":0.866666666666667,"d":"86.7%"},{"$nulls":6},73,66,{"v":0.904109589041096,"d":"90.4%"}]
["熔化焊接与热切割复训",42,41,{"v":0.976190476190476,"d":"97.6%"},5,5,{"v":1,"d":"100.0%"},{"$nulls":6},23,23,{"v":1,"d":"100.0%"},{"$nulls":3},13,10,{"$f":"U12/T12","v":{"v":0.769230769230769,"d":"76.9%"}},83,79,{"v":0.951807228915663,"d":"95.2%"}]
["钎焊复训"]
["高处安装维护拆除复训",13,13,{"v":1,"d":"100.0%"},10,10,{"v":1,"d":"100.0%"},{"$nulls":6},23,20,{"v":0.869565217391304,"d":"87.0%"},{"$nulls":3},1,1,{"$f":"U14/T14","v":{"v":1,"d":"100.0%"}},47,44,{"v":0.936170212765957,"d":"93.6%"}]
["登高架设复训",1,1,{"v":1,"d":"100.0%"},{"$nulls":15},1,1,{"$f":"U15/T15","v":{"v":1,"d":"100.0%"}},{"$f":"B15+E15+H15+K15+N15+Q15+T15","v":2},{"$f":"C15+F15+I15+L15+O15+R15+U15","v":2},{"v":1,"d":"100.0%"}]
["制冷与空调运行操作复训"]
["制冷与空调安装修理复训"]
["矿山安检复训"]
["电力电缆复训",1,1,{"$f":"C19/B19","v":{"v":1,"d":"100.0%"}},{"$nulls":18},1,1,{"v":1,"d":"100.0%"}]
["电气试验复训",{"$nulls":3},1,1,{"v":1,"d":"100.0%"},{"$nulls":15},1,1,{"v":1,"d":"100.0%"}]
["继电保护复训",{"$nulls":3},1,1,{"v":1,"d":"100.0%"},{"$nulls":15},1,1,{"v":1,"d":"100.0%"}]
["危化操作工复训"]
["特种作业复训合计",{"$f":"SUM(B10:B22)","v":367},358,{"v":0.975476839237057,"d":"97.5%"},66,66,{"v":1,"d":"100.0%"},{"$nulls":6},{"$f":"SUM(N10:N22)","v":254},237,{"$f":"O23/N23","v":{"v":0.933070866141732,"d":"93.3%"}},{"$nulls":3},{"$f":"SUM(T10:T22)","v":28},{"$f":"SUM(U10:U22)","v":25},{"$f":"U23/T23","v":{"v":0.892857142857143,"d":"89.3%"}},715,686,{"v":0.959440559440559,"d":"95.9%"}]
["特种作业人员合计",{"$f":"B9+B23","v":998},{"$f":"C9+C23","v":860},{"v":0.861723446893788,"d":"86.2%"},{"$f":"E9+E23","v":167},{"$f":"F9+F23","v":151},{"v":0.904191616766467,"d":"90.4%"},{"$nulls":6},{"$f":"N9+N23","v":353},{"$f":"O9+O23","v":306},{"v":0.86685552407932,"d":"86.7%"},{"$nulls":3},{"$f":"T9+T23","v":271},{"$f":"U9+U23","v":215},{"$f":"U24/T24","v":{"v":0.793357933579336,"d":"79.3%"}},1789,1532,{"v":0.856344326439352,"d":"85.6%"}]
["烟花爆竹经营负责人初训",34,30,{"v":0.882352941176471,"d":"88.2%"},5,4,{"v":0.8,"d":"80.0%"},{"$nulls":6},3,3,{"$f":"O25/N25","v":{"v":1,"d":"100.0%"}},{"$nulls":6},42,37,{"v":0.880952380952381,"d":"88.1%"}]
["危化生产负责人初训",5,5,{"v":1,"d":"100.0%"},{"$nulls":18},{"$f":"B26+E26+H26+K26+N26+Q26+T26","v":5},{"$f":"C26+F26+I26+L26+O26+R26+U26","v":5},{"v":1,"d":"100.0%"}]
["危化经营负责人初训",16,16,{"v":1,"d":"100.0%"},2,2,{"$f":"F27/E27","v":{"v":1,"d":"100.0%"}},{"$nulls":6},1,1,{"v":1,"d":"100.0%"},{"$nulls":6},19,19,{"v":1,"d":"100.0%"}]
["非煤矿山负责人初训",1,1,{"v":1,"d":"100.0%"},{"$nulls":18},1,1,{"v":1,"d":"100.0%"}]
["金属冶炼负责人初训",1,1,{"v":1,"d":"100.0%"},{"$nulls":18},1,1,{"v":1,"d":"100.0%"}]
["高危行业负责人初训合计",{"$f":"SUM(B25:B29)","v":57},53,{"v":0.929824561403509,"d":"93.0%"},7,6,{"$f":"F30/E30","v":{"v":0.857142857142857,"d":"85.7%"}},{"$nulls":6},{"$f":"SUM(N25:N29)","v":4},4,{"$f":"O30/N30","v":{"v":1,"d":"100.0%"}},{"$nulls":6},68,63,{"v":0.926470588235294,"d":"92.6%"}]
["烟花爆竹经营负责人复训",14,12,{"v":0.857142857142857,"d":"85.7%"},{"$nulls":18},{"$f":"B31+E31+H31+K31+N31+Q31+T31","v":14},{"$f":"C31+F31+I31+L31+O31+R31+U31","v":12},{"v":0.857142857142857,"d":"85.7%"}]
["危化生产负责人复训",12,12,{"v":1,"d":"100.0%"},{"$nulls":9},2,2,{"$f":"O32/N32","v":{"v":1,"d":"100.0%"}},{"$nulls":6},14,14,{"v":1,"d":"100.0%"}]
["危化经营负责人复训",52,50,{"v":0.961538461538462,"d":"96.2%"},{"$nulls":9},13,13,{"$f":"O33/N33","v":{"v":1,"d":"100.0%"}},{"$nulls":6},65,63,{"v":0.969230769230769,"d":"96.9%"}]
["非煤矿山负责人复训",10,10,{"v":1,"d":"100.0%"},{"$nulls":18},{"$f":"B34+E34+H34+K34+N34+Q34+T34","v":10},{"$f":"C34+F34+I34+L34+O34+R34+U34","v":10},{"v":1,"d":"100.0%"}]
["金属冶炼负责人复训"]
["高危行业负责人复训合计",{"$f":"SUM(B31:B35)","v":88},84,{"v":0.954545454545455,"d":"95.5%"},{"$nulls":9},{"$f":"SUM(N31:N35)","v":15},{"$f":"SUM(O31:O35)","v":15},{"$f":"O36/N36","v":{"v":1,"d":"100.0%"}},{"$nulls":6},103,99,{"v":0.961165048543689,"d":"96.1%"}]
["高危行业主要负责人合计",{"$f":"B30+B36","v":145},137,{"v":0.944827586206897,"d":"94.5%"},7,6,{"$f":"F37/E37","v":{"v":0.857142857142857,"d":"85.7%"}},{"$nulls":6},{"$f":"N30+N36","v":19},19,{"$f":"O37/N37","v":{"v":1,"d":"100.0%"}},{"$nulls":6},171,162,{"v":0.947368421052632,"d":"94.7%"}]
["烟花爆竹经营安管初训",35,29,{"v":0.828571428571429,"d":"82.9%"},3,2,{"v":0.666666666666667,"d":"66.7%"},{"$nulls":6},2,1,{"$f":"O38/N38","v":{"v":0.5,"d":"50.0%"}},{"$nulls":6},40,32,{"v":0.8,"d":"80.0%"}]
["危化生产安管初训",24,23,{"v":0.958333333333333,"d":"95.8%"},{"$nulls":18},24,23,{"v":0.958333333333333,"d":"95.8%"}]
["危化经营安管初训",70,44,{"v":0.628571428571429,"d":"62.9%"},5,5,{"v":1,"d":"100.0%"},{"$nulls":6},4,4,{"$f":"O40/N40","v":{"v":1,"d":"100.0%"}},{"$nulls":6},79,53,{"v":0.670886075949367,"d":"67.1%"}]
["非煤矿山安管初训",2,1,{"v":0.5,"d":"50.0%"},{"$nulls":18},{"$f":"B41+E41+H41+K41+N41+Q41+T41","v":2},{"$f":"C41+F41+I41+L41+O41+R41+U41","v":1},{"v":0.5,"d":"50.0%"}]
["金属冶炼安管初训"]
["高危行业安管初训合计",{"$f":"SUM(B38:B42)","v":131},97,{"v":0.740458015267176,"d":"74.0%"},8,7,{"$f":"F43/E43","v":{"v":0.875,"d":"87.5%"}},{"$nulls":6},{"$f":"SUM(N38:N42)","v":6},5,{"$f":"O43/N43","v":{"v":0.833333333333333,"d":"83.3%"}},{"$nulls":6},145,109,{"v":0.751724137931034,"d":"75.2%"}]
["烟花爆竹经营安管复训",1,1,{"v":1,"d":"100.0%"},{"$nulls":18},{"$f":"B44+E44+H44+K44+N44+Q44+T44","v":1},{"$f":"C44+F44+I44+L44+O44+R44+U44","v":1},{"v":1,"d":"100.0%"}]
["危化生产安管复训",34,34,{"v":1,"d":"100.0%"},{"$nulls":9},1,1,{"$f":"O45/N45","v":{"v":1,"d":"100.0%"}},{"$nulls":6},35,35,{"v":1,"d":"100.0%"}]
["危化经营安管复训",73,66,{"v":0.904109589041096,"d":"90.4%"},{"$nulls":9},12,12,{"v":1,"d":"100.0%"},{"$nulls":6},85,78,{"v":0.917647058823529,"d":"91.8%"}]
["非煤矿山安管复训",20,19,{"v":0.95,"d":"95.0%"},{"$nulls":18},{"$f":"B47+E47+H47+K47+N47+Q47+T47","v":20},{"$f":"C47+F47+I47+L47+O47+R47+U47","v":19},{"v":0.95,"d":"95.0%"}]
["金属冶炼安管复训"]
["高危行业安管复训合计",{"$f":"SUM(B44:B48)","v":128},120,{"v":0.9375,"d":"93.8%"},{"$nulls":9},{"$f":"SUM(N44:N48)","v":13},13,{"$f":"O49/N49","v":{"v":1,"d":"100.0%"}},{"$nulls":6},141,133,{"v":0.943262411347518,"d":"94.3%"}]
["高危行业安管人员合计",{"$f":"B43+B49","v":259},217,{"v":0.837837837837838,"d":"83.8%"},8,7,{"$f":"F50/E50","v":{"v":0.875,"d":"87.5%"}},{"$nulls":6},{"$f":"N43+N49","v":19},18,{"v":0.947368421052632,"d":"94.7%"},{"$nulls":6},286,242,{"v":0.846153846153846,"d":"84.6%"}]
["高危行业负责人安管合计",{"$f":"B37+B50","v":404},354,{"v":0.876237623762376,"d":"87.6%"},15,13,{"v":0.866666666666667,"d":"86.7%"},{"$nulls":6},{"$f":"N37+N50","v":38},37,{"v":0.973684210526316,"d":"97.4%"},{"$nulls":6},457,404,{"v":0.884026258205689,"d":"88.4%"}]
["全工种合计",{"$f":"B24+B51","v":1402},{"$f":"C24+C51","v":1214},{"v":0.865905848787446,"d":"86.6%"},{"$f":"E24+E51","v":182},{"$f":"F24+F51","v":164},{"v":0.901098901098901,"d":"90.1%"},{"$nulls":6},{"$f":"N24+N51","v":391},{"$f":"O24+O51","v":343},{"v":0.877237851662404,"d":"87.7%"},{"$nulls":3},{"$f":"T24+T51","v":271},{"$f":"U24+U51","v":215},{"$f":"U52/T52","v":{"v":0.793357933579336,"d":"79.3%"}},2246,1936,{"v":0.861976847729297,"d":"86.2%"}]
["备注：\n1.考试点名称以全国安全生产培训考试信息管理系统记录为准，按系统顺序排序；\n2.实考人数=报考总人数-正考补考均缺考人数-考试违规被取消成绩人数；\n3.仅统计已完成考试者，还有补考机会者不统计。"]

{"sheet":"6月","index":4,"n_rows":53,"n_cols":25,"rows_kept":53,"merged":[[0,0,0,24],[1,0,2,0],[1,1,1,3],[1,4,1,6],[1,7,1,9],[1,10,1,12],[1,13,1,15],[1,16,1,18],[1,19,1,21],[1,22,1,24],[52,0,52,24]]}
["2023年6月各考试点考生通过率统计表"]
["            培训机构\n    工种","江门市安全生产知识考试点（江门市安信职业安全培训有限公司）",null,null,"开平四维考试点（广东四维培训有限公司）",null,null,"开平市安全生产管理协会",null,null,"江门市技师学院",null,null,"江门市新会机电职业技术学校",null,null,"江门市新会技师学院",null,null,"鹤山市新供销协力教育咨询有限公司",null,null,"全市合计"]
[null,"实考人数","合格人数","通过率","实考人数","合格人数","通过率","实考人数","合格人数","通过率","实考人数","合格人数","通过率","实考人数","合格人数","通过率","实考人数","合格人数","通过率","实考人数","合格人数","通过率","实考人数","合格人数","通过率"]
["低压电工初训",443,264,{"$f":"C4/B4","v":{"v":0.595936794582393,"d":"59.6%"}},62,33,{"$f":"F4/E4","v":{"v":0.532258064516129,"d":"53.2%"}},{"$nulls":6},130,99,{"$f":"O4/N4","v":{"v":0.761538461538461,"d":"76.2%"}},{"$nulls":3},110,82,{"$f":"U4/T4","v":{"v":0.745454545454545,"d":"74.5%"}},{"$f":"B4+E4+H4+K4+N4+Q4+T4","v":745},478,{"$f":"X4/W4","v":{"v":0.641610738255034,"d":"64.2%"}}]
["高压电工初训",{"$nulls":3},92,69,{"$f":"F5/E5","v":{"v":0.75,"d":"75.0%"}},{"$nulls":15},92,69,{"v":0.75,"d":"75.0%"}]
["电力电缆初训"]
["熔化焊接与热切割初训",277,216,{"$f":"C7/B7","v":{"v":0.779783393501805,"d":"78.0%"}},{"$nulls":15},121,103,{"$f":"U7/T7","v":{"v":0.851239669421488,"d":"85.1%"}},398,319,{"v":0.801507537688442,"d":"80.2%"}]
["高处安装维护拆除初训",52,51,{"v":0.980769230769231,"d":"98.1%"},{"$nulls":18},52,51,{"v":0.980769230769231,"d":"98.1%"}]
["特种作业初训合计",{"$f":"SUM(B4:B8)","v":772},{"$f":"SUM(C4:C8)","v":531},{"v":0.687823834196891,"d":"68.8%"},{"$f":"SUM(E4:E8)","v":154},{"$f":"SUM(F4:F8)","v":102},{"v":0.662337662337662,"d":"66.2%"},{"$nulls":6},{"$f":"SUM(N4:N8)","v":130},{"$f":"SUM(O4:O8)","v":99},{"$f":"O9/N9","v":{"v":0.761538461538461,"d":"76.2%"}},{"$nulls":3},{"$f":"SUM(T4:T8)","v":231},{"$f":"SUM(U4:U8)","v":185},{"$f":"U9/T9","v":{"v":0.800865800865801,"d":"80.1%"}},1287,917,{"v":0.712509712509713,"d":"71.3%"}]
["低压电工复训",276,275,{"v":0.996376811594203,"d":"99.6%"},69,67,{"v":0.971014492753623,"d":"97.1%"},{"$nulls":6},138,135,{"$f":"O10/N10","v":{"v":0.978260869565217,"d":"97.8%"}},{"$nulls":3},25,25,{"$f":"U10/T10","v":{"v":1,"d":"100.0%"}},508,502,{"v":0.988188976377953,"d":"98.8%"}]
["高压电工复训",55,54,{"v":0.981818181818182,"d":"98.2%"},29,23,{"v":0.793103448275862,"d":"79.3%"},{"$nulls":6},19,18,{"v":0.947368421052632,"d":"94.7%"},{"$nulls":6},103,95,{"v":0.922330097087379,"d":"92.2%"}]
["熔化焊接与热切割复训",85,84,{"v":0.988235294117647,"d":"98.8%"},14,13,{"v":0.928571428571429,"d":"92.9%"},{"$nulls":6},33,33,{"v":1,"d":"100.0%"},{"$nulls":3},23,20,{"$f":"U12/T12","v":{"v":0.869565217391304,"d":"87.0%"}},155,150,{"v":0.967741935483871,"d":"96.8%"}]
["钎焊复训"]
["高处安装维护拆除复训",31,31,{"v":1,"d":"100.0%"},16,15,{"v":0.9375,"d":"93.8%"},{"$nulls":6},36,34,{"v":0.944444444444444,"d":"94.4%"},{"$nulls":3},26,25,{"$f":"U14/T14","v":{"v":0.961538461538462,"d":"96.2%"}},109,105,{"v":0.963302752293578,"d":"96.3%"}]
["登高架设复训",10,10,{"v":1,"d":"100.0%"},{"$nulls":15},7,7,{"$f":"U15/T15","v":{"v":1,"d":"100.0%"}},{"$f":"B15+E15+H15+K15+N15+Q15+T15","v":17},{"$f":"C15+F15+I15+L15+O15+R15+U15","v":17},{"v":1,"d":"100.0%"}]
["制冷与空调运行操作复训"]
["制冷与空调安装修理复训"]
["矿山安检复训"]
["电力电缆复训",1,1,{"$f":"C19/B19","v":{"v":1,"d":"100.0%"}},11,7,{"v":0.636363636363636,"d":"63.6%"},{"$nulls":6},1,0,{"$f":"O19/N19","v":{"v":0,"d":"0.0%"}},{"$nulls":6},13,8,{"v":0.615384615384615,"d":"61.5%"}]
["电气试验复训",{"$nulls":3},2,1,{"v":0.5,"d":"50.0%"},{"$nulls":6},2,1,{"v":0.5,"d":"50.0%"},{"$nulls":6},4,2,{"v":0.5,"d":"50.0%"}]
["继电保护复训",{"$nulls":3},3,1,{"v":0.333333333333333,"d":"33.3%"},{"$nulls":15},3,1,{"v":0.333333333333333,"d":"33.3%"}]
["危化操作工复训"]
["特种作业复训合计",{"$f":"SUM(B10:B22)","v":458},455,{"v":0.993449781659389,"d":"99.3%"},144,127,{"v":0.881944444444444,"d":"88.2%"},{"$nulls":6},{"$f":"SUM(N10:N22)","v":229},221,{"$f":"O23/N23","v":{"v":0.965065502183406,"d":"96.5%"}},{"$nulls":3},{"$f":"SUM(T10:T22)","v":81},{"$f":"SUM(U10:U22)","v":77},{"$f":"U23/T23","v":{"v":0.950617283950617,"d":"95.1%"}},912,880,{"v":0.964912280701754,"d":"96.5%"}]
["特种作业人员合计",{"$f":"B9+B23","v":1230},{"$f":"C9+C23","v":986},{"v":0.801626016260163,"d":"80.2%"},{"$f":"E9+E23","v":298},{"$f":"F9+F23","v":229},{"v":0.768456375838926,"d":"76.8%"},{"$nulls":6},{"$f":"N9+N23","v":359},{"$f":"O9+O23","v":320},{"v":0.891364902506964,"d":"89.1%"},{"$nulls":3},{"$f":"T9+T23","v":312},{"$f":"U9+U23","v":262},{"$f":"U24/T24","v":{"v":0.83974358974359,"d":"84.0%"}},2199,1797,{"v":0.81718963165075,"d":"81.7%"}]
["烟花爆竹经营负责人初训",19,9,{"v":0.473684210526316,"d":"47.4%"},{"$nulls":18},19,9,{"v":0.473684210526316,"d":"47.4%"}]
["危化生产负责人初训",3,2,{"v":0.666666666666667,"d":"66.7%"},{"$nulls":18},3,2,{"v":0.666666666666667,"d":"66.7%"}]
["危化经营负责人初训",15,13,{"v":0.866666666666667,"d":"86.7%"},1,1,{"$f":"F27/E27","v":{"v":1,"d":"100.0%"}},{"$nulls":15},16,14,{"v":0.875,"d":"87.5%"}]
["非煤矿山负责人初训",2,2,{"v":1,"d":"100.0%"},{"$nulls":18},2,2,{"v":1,"d":"100.0%"}]
["金属冶炼负责人初训"]
["高危行业负责人初训合计",{"$f":"SUM(B25:B29)","v":39},26,{"v":0.666666666666667,"d":"66.7%"},1,1,{"$f":"F30/E30","v":{"v":1,"d":"100.0%"}},{"$nulls":15},40,27,{"v":0.675,"d":"67.5%"}]
["烟花爆竹经营负责人复训",5,5,{"v":1,"d":"100.0%"},{"$nulls":18},{"$f":"B31+E31+H31+K31+N31+Q31+T31","v":5},{"$f":"C31+F31+I31+L31+O31+R31+U31","v":5},{"v":1,"d":"100.0%"}]
["危化生产负责人复训",24,23,{"v":0.958333333333333,"d":"95.8%"},2,2,{"$f":"F32/E32","v":{"v":1,"d":"100.0%"}},{"$nulls":15},26,25,{"v":0.961538461538462,"d":"96.2%"}]
["危化经营负责人复训",53,52,{"v":0.981132075471698,"d":"98.1%"},6,6,{"$f":"F33/E33","v":{"v":1,"d":"100.0%"}},{"$nulls":6},7,7,{"$f":"O33/N33","v":{"v":1,"d":"100.0%"}},{"$nulls":6},66,65,{"v":0.984848484848485,"d":"98.5%"}]
["非煤矿山负责人复训"]
["金属冶炼负责人复训",1,1,{"v":1,"d":"100.0%"},{"$nulls":18},{"$f":"B35+E35+H35+K35+N35+Q35+T35","v":1},{"$f":"C35+F35+I35+L35+O35+R35+U35","v":1},{"$f":"X35/W35","v":{"v":1,"d":"100.0%"}}]
["高危行业负责人复训合计",{"$f":"SUM(B31:B35)","v":83},81,{"v":0.975903614457831,"d":"97.6%"},8,8,{"$f":"F36/E36","v":{"v":1,"d":"100.0%"}},{"$nulls":6},{"$f":"SUM(N31:N35)","v":7},{"$f":"SUM(O31:O35)","v":7},{"$f":"O36/N36","v":{"v":1,"d":"100.0%"}},{"$nulls":6},98,96,{"v":0.979591836734694,"d":"98.0%"}]
["高危行业主要负责人合计",{"$f":"B30+B36","v":122},107,{"v":0.877049180327869,"d":"87.7%"},9,9,{"$f":"F37/E37","v":{"v":1,"d":"100.0%"}},{"$nulls":6},{"$f":"N30+N36","v":7},7,{"$f":"O37/N37","v":{"v":1,"d":"100.0%"}},{"$nulls":6},138,123,{"v":0.891304347826087,"d":"89.1%"}]
["烟花爆竹经营安管初训",18,14,{"v":0.777777777777778,"d":"77.8%"},{"$nulls":9},3,3,{"$f":"O38/N38","v":{"v":1,"d":"100.0%"}},{"$nulls":6},21,17,{"v":0.80952380952381,"d":"81.0%"}]
["危化生产安管初训",14,12,{"v":0.857142857142857,"d":"85.7%"},{"$nulls":18},14,12,{"v":0.857142857142857,"d":"85.7%"}]
["危化经营安管初训",31,24,{"v":0.774193548387097,"d":"77.4%"},5,5,{"v":1,"d":"100.0%"},{"$nulls":6},2,1,{"$f":"O40/N40","v":{"v":0.5,"d":"50.0%"}},{"$nulls":6},38,30,{"v":0.789473684210526,"d":"78.9%"}]
["非煤矿山安管初训",5,5,{"v":1,"d":"100.0%"},6,6,{"v":1,"d":"100.0%"},{"$nulls":15},{"$f":"B41+E41+H41+K41+N41+Q41+T41","v":11},{"$f":"C41+F41+I41+L41+O41+R41+U41","v":11},{"v":1,"d":"100.0%"}]
["金属冶炼安管初训",2,2,{"v":1,"d":"100.0%"},2,2,{"v":1,"d":"100.0%"},{"$nulls":15},{"$f":"B42+E42+H42+K42+N42+Q42+T42","v":4},{"$f":"C42+F42+I42+L42+O42+R42+U42","v":4},{"$f":"X42/W42","v":{"v":1,"d":"100.0%"}}]
["高危行业安管初训合计",{"$f":"SUM(B38:B42)","v":70},57,{"v":0.814285714285714,"d":"81.4%"},13,13,{"$f":"F43/E43","v":{"v":1,"d":"100.0%"}},{"$nulls":6},{"$f":"SUM(N38:N42)","v":5},4,{"$f":"O43/N43","v":{"v":0.8,"d":"80.0%"}},{"$nulls":6},88,74,{"v":0.840909090909091,"d":"84.1%"}]
["烟花爆竹经营安管复训",3,3,{"v":1,"d":"100.0%"},{"$nulls":18},{"$f":"B44+E44+H44+K44+N44+Q44+T44","v":3},{"$f":"C44+F44+I44+L44+O44+R44+U44","v":3},{"v":1,"d":"100.0%"}]
["危化生产安管复训",71,66,{"v":0.929577464788732,"d":"93.0%"},2,2,{"$f":"F45/E45","v":{"v":1,"d":"100.0%"}},{"$nulls":15},73,68,{"v":0.931506849315068,"d":"93.2%"}]
["危化经营安管复训",97,95,{"v":0.979381443298969,"d":"97.9%"},22,21,{"v":0.954545454545455,"d":"95.5%"},{"$nulls":6},15,15,{"$f":"O46/N46","v":{"v":1,"d":"100.0%"}},{"$nulls":6},134,131,{"v":0.977611940298508,"d":"97.8%"}]
["非煤矿山安管复训",1,1,{"v":1,"d":"100.0%"},{"$nulls":18},{"$f":"B47+E47+H47+K47+N47+Q47+T47","v":1},{"$f":"C47+F47+I47+L47+O47+R47+U47","v":1},{"v":1,"d":"100.0%"}]
["金属冶炼安管复训"]
["高危行业安管复训合计",{"$f":"SUM(B44:B48)","v":172},165,{"v":0.959302325581395,"d":"95.9%"},24,23,{"$f":"F49/E49","v":{"v":0.958333333333333,"d":"95.8%"}},{"$nulls":6},{"$f":"SUM(N44:N48)","v":15},15,{"$f":"O49/N49","v":{"v":1,"d":"100.0%"}},{"$nulls":6},211,203,{"v":0.962085308056872,"d":"96.2%"}]
["高危行业安管人员合计",{"$f":"B43+B49","v":242},222,{"v":0.917355371900826,"d":"91.7%"},37,36,{"$f":"F50/E50","v":{"v":0.972972972972973,"d":"97.3%"}},{"$nulls":6},{"$f":"N43+N49","v":20},19,{"v":0.95,"d":"95.0%"},{"$nulls":6},299,277,{"v":0.926421404682274,"d":"92.6%"}]
["高危行业负责人安管合计",{"$f":"B37+B50","v":364},329,{"v":0.903846153846154,"d":"90.4%"},46,45,{"v":0.978260869565217,"d":"97.8%"},{"$nulls":6},{"$f":"N37+N50","v":27},26,{"v":0.962962962962963,"d":"96.3%"},{"$nulls":6},437,400,{"v":0.91533180778032,"d":"91.5%"}]
["全工种合计",{"$f":"B24+B51","v":1594},{"$f":"C24+C51","v":1315},{"v":0.824968632371393,"d":"82.5%"},{"$f":"E24+E51","v":344},{"$f":"F24+F51","v":274},{"v":0.796511627906977,"d":"79.7%"},{"$nulls":6},{"$f":"N24+N51","v":386},{"$f":"O24+O51","v":346},{"v":0.896373056994819,"d":"89.6%"},{"$nulls":3},{"$f":"T24+T51","v":312},{"$f":"U24+U51","v":262},{"$f":"U52/T52","v":{"v":0.83974358974359,"d":"84.0%"}},2636,2197,{"v":0.833459787556904,"d":"83.3%"}]
["备注：\n1.考试点名称以全国安全生产培训考试信息管理系统记录为准，按系统顺序排序；\n2.实考人数=报考总人数-正考补考均缺考人数-考试违规被取消成绩人数；\n3.仅统计已完成考试者，还有补考机会者不统计。"]

{"sheet":"上半年","index":5,"n_rows":53,"n_cols":25,"rows_kept":53,"merged":[[0,0,0,24],[1,0,2,0],[1,1,1,3],[1,4,1,6],[1,7,1,9],[1,10,1,12],[1,13,1,15],[1,16,1,18],[1,19,1,21],[1,22,1,24],[52,0,52,24]]}
["2023年上半年各考试点考生通过率统计表"]
["            培训机构\n    工种","江门市安全生产知识考试点（江门市安信职业安全培训有限公司）",null,null,"开平四维考试点（广东四维培训有限公司）",null,null,"开平市安全生产管理协会",null,null,"江门市技师学院",null,null,"江门市新会机电职业技术学校",null,null,"江门市新会技师学院",null,null,"鹤山市新供销协力教育咨询有限公司",null,null,"全市合计"]
[null,"实考人数","合格人数","通过率","实考人数","合格人数","通过率","实考人数","合格人数","通过率","实考人数","合格人数","通过率","实考人数","合格人数","通过率","实考人数","合格人数","通过率","实考人数","合格人数","通过率","实考人数","合格人数","通过率"]
["低压电工初训",{"$f":"'2月'!B4+'3月'!B4+'4月'!B4+'5月'!B4+'6月'!B4","v":1442},{"$f":"'2月'!C4+'3月'!C4+'4月'!C4+'5月'!C4+'6月'!C4","v":931},{"$f":"C4/B4","v":{"v":0.645631067961165,"d":"64.6%"}},{"$f":"'2月'!E4+'3月'!E4+'4月'!E4+'5月'!E4+'6月'!E4","v":229},{"$f":"'2月'!F4+'3月'!F4+'4月'!F4+'5月'!F4+'6月'!F4","v":169},{"$f":"F4/E4","v":{"v":0.737991266375546,"d":"73.8%"}},{"$nulls":6},{"$f":"'2月'!N4+'3月'!N4+'4月'!N4+'5月'!N4+'6月'!N4","v":497},{"$f":"'2月'!O4+'3月'!O4+'4月'!O4+'5月'!O4+'6月'!O4","v":397},{"$f":"O4/N4","v":{"v":0.798792756539235,"d":"79.9%"}},{"$nulls":3},{"$f":"'2月'!T4+'3月'!T4+'4月'!T4+'5月'!T4+'6月'!T4","v":427},{"$f":"'2月'!U4+'3月'!U4+'4月'!U4+'5月'!U4+'6月'!U4","v":300},{"$f":"U4/T4","v":{"v":0.702576112412178,"d":"70.3%"}},{"$f":"B4+E4+H4+K4+N4+Q4+T4","v":2595},1797,{"$f":"X4/W4","v":{"v":0.692485549132948,"d":"69.2%"}}]
["高压电工初训",{"$nulls":3},{"$f":"'2月'!E5+'3月'!E5+'4月'!E5+'5月'!E5+'6月'!E5","v":299},{"$f":"'2月'!F5+'3月'!F5+'4月'!F5+'5月'!F5+'6月'!F5","v":253},{"v":0.846153846153846,"d":"84.6%"},{"$nulls":15},299,253,{"v":0.846153846153846,"d":"84.6%"}]
["电力电缆初训",{"$nulls":3},{"$f":"'2月'!E6+'3月'!E6+'4月'!E6+'5月'!E6+'6月'!E6","v":6},{"$f":"'2月'!F6+'3月'!F6+'4月'!F6+'5月'!F6+'6月'!F6","v":3},{"v":0.5,"d":"50.0%"},{"$nulls":15},{"$f":"B6+E6+H6+K6+N6+Q6+T6","v":6},{"$f":"C6+F6+I6+L6+O6+R6+U6","v":3},{"$f":"X6/W6","v":{"v":0.5,"d":"50.0%"}}]
["熔化焊接与热切割初训",{"$f":"'2月'!B7+'3月'!B7+'4月'!B7+'5月'!B7+'6月'!B7","v":996},{"$f":"'2月'!C7+'3月'!C7+'4月'!C7+'5月'!C7+'6月'!C7","v":819},{"$f":"C7/B7","v":{"v":0.822289156626506,"d":"82.2%"}},{"$nulls":6},{"$f":"'2月'!K7+'3月'!K7+'4月'!K7+'5月'!K7+'6月'!K7","v":50},{"$f":"'2月'!L7+'3月'!L7+'4月'!L7+'5月'!L7+'6月'!L7","v":50},{"$f":"L7/K7","v":{"v":1,"d":"100.0%"}},{"$nulls":6},{"$f":"'2月'!T7+'3月'!T7+'4月'!T7+'5月'!T7+'6月'!T7","v":455},{"$f":"'2月'!U7+'3月'!U7+'4月'!U7+'5月'!U7+'6月'!U7","v":366},{"v":0.804395604395604,"d":"80.4%"},1501,1235,{"v":0.822784810126582,"d":"82.3%"}]
["高处安装维护拆除初训",{"$f":"'2月'!B8+'3月'!B8+'4月'!B8+'5月'!B8+'6月'!B8","v":678},{"$f":"'2月'!C8+'3月'!C8+'4月'!C8+'5月'!C8+'6月'!C8","v":597},{"v":0.880530973451327,"d":"88.1%"},{"$f":"'2月'!E8+'3月'!E8+'4月'!E8+'5月'!E8+'6月'!E8","v":167},{"$f":"'2月'!F8+'3月'!F8+'4月'!F8+'5月'!F8+'6月'!F8","v":159},{"v":0.952095808383233,"d":"95.2%"},{"$nulls":12},{"$f":"'2月'!T8+'3月'!T8+'4月'!T8+'5月'!T8+'6月'!T8","v":216},{"$f":"'2月'!U8+'3月'!U8+'4月'!U8+'5月'!U8+'6月'!U8","v":192},{"v":0.888888888888889,"d":"88.9%"},1061,948,{"v":0.893496701225259,"d":"89.3%"}]
["特种作业初训合计",{"$f":"SUM(B4:B8)","v":3116},{"$f":"SUM(C4:C8)","v":2347},{"v":0.753209242618742,"d":"75.3%"},{"$f":"SUM(E4:E8)","v":701},{"$f":"SUM(F4:F8)","v":584},{"$f":"F9/E9","v":{"v":0.833095577746077,"d":"83.3%"}},{"$nulls":3},{"$f":"SUM(K4:K8)","v":50},{"$f":"SUM(L4:L8)","v":50},{"v":1,"d":"100.0%"},{"$f":"SUM(N4:N8)","v":497},{"$f":"SUM(O4:O8)","v":397},{"$f":"O9/N9","v":{"v":0.798792756539235,"d":"79.9%"}},{"$nulls":3},{"$f":"SUM(T4:T8)","v":1098},{"$f":"SUM(U4:U8)","v":858},{"v":0.781420765027322,"d":"78.1%"},5462,4236,{"v":0.775540095203222,"d":"77.6%"}]
["低压电工复训",{"$f":"'2月'!B10+'3月'!B10+'4月'!B10+'5月'!B10+'6月'!B10","v":1754},{"$f":"'2月'!C10+'3月'!C10+'4月'!C10+'5月'!C10+'6月'!C10","v":1717},{"$f":"C10/B10","v":{"v":0.978905359179019,"d":"97.9%"}},{"$f":"'2月'!E10+'3月'!E10+'4月'!E10+'5月'!E10+'6月'!E10","v":319},{"$f":"'2月'!F10+'3月'!F10+'4月'!F10+'5月'!F10+'6月'!F10","v":312},{"v":0.978056426332288,"d":"97.8%"},{"$nulls":3},{"$f":"'2月'!K10+'3月'!K10+'4月'!K10+'5月'!K10+'6月'!K10","v":1},{"$f":"'2月'!L10+'3月'!L10+'4月'!L10+'5月'!L10+'6月'!L10","v":1},{"$f":"L10/K10","v":{"v":1,"d":"100.0%"}},{"$f":"'2月'!N10+'3月'!N10+'4月'!N10+'5月'!N10+'6月'!N10","v":696},{"$f":"'2月'!O10+'3月'!O10+'4月'!O10+'5月'!O10+'6月'!O10","v":679},{"$f":"O10/N10","v":{"v":0.975574712643678,"d":"97.6%"}},{"$nulls":3},{"$f":"'2月'!T10+'3月'!T10+'4月'!T10+'5月'!T10+'6月'!T10","v":84},{"$f":"'2月'!U10+'3月'!U10+'4月'!U10+'5月'!U10+'6月'!U10","v":81},{"$f":"U10/T10","v":{"v":0.964285714285714,"d":"96.4%"}},2854,2790,{"v":0.977575332866153,"d":"97.8%"}]
["高压电工复训",{"$f":"'2月'!B11+'3月'!B11+'4月'!B11+'5月'!B11+'6月'!B11","v":292},{"$f":"'2月'!C11+'3月'!C11+'4月'!C11+'5月'!C11+'6月'!C11","v":273},{"v":0.934931506849315,"d":"93.5%"},{"$f":"'2月'!E11+'3月'!E11+'4月'!E11+'5月'!E11+'6月'!E11","v":102},{"$f":"'2月'!F11+'3月'!F11+'4月'!F11+'5月'!F11+'6月'!F11","v":87},{"v":0.852941176470588,"d":"85.3%"},{"$nulls":6},{"$f":"'2月'!N11+'3月'!N11+'4月'!N11+'5月'!N11+'6月'!N11","v":102},{"$f":"'2月'!O11+'3月'!O11+'4月'!O11+'5月'!O11+'6月'!O11","v":92},{"v":0.901960784313726,"d":"90.2%"},{"$nulls":6},496,452,{"v":0.911290322580645,"d":"91.1%"}]
["熔化焊接与热切割复训",{"$f":"'2月'!B12+'3月'!B12+'4月'!B12+'5月'!B12+'6月'!B12","v":379},{"$f":"'2月'!C12+'3月'!C12+'4月'!C12+'5月'!C12+'6月'!C12","v":362},{"v":0.955145118733509,"d":"95.5%"},{"$f":"'2月'!E12+'3月'!E12+'4月'!E12+'5月'!E12+'6月'!E12","v":40},{"$f":"'2月'!F12+'3月'!F12+'4月'!F12+'5月'!F12+'6月'!F12","v":38},{"v":0.95,"d":"95.0%"},{"$nulls":6},{"$f":"'2月'!N12+'3月'!N12+'4月'!N12+'5月'!N12+'6月'!N12","v":109},{"$f":"'2月'!O12+'3月'!O12+'4月'!O12+'5月'!O12+'6月'!O12","v":105},{"v":0.963302752293578,"d":"96.3%"},{"$nulls":3},{"$f":"'2月'!T12+'3月'!T12+'4月'!T12+'5月'!T12+'6月'!T12","v":40},{"$f":"'2月'!U12+'3月'!U12+'4月'!U12+'5月'!U12+'6月'!U12","v":33},{"v":0.825,"d":"82.5%"},568,538,{"v":0.947183098591549,"d":"94.7%"}]
["钎焊复训",{"$f":"'2月'!B13+'3月'!B13+'4月'!B13+'5月'!B13+'6月'!B13","v":1},{"$f":"'2月'!C13+'3月'!C13+'4月'!C13+'5月'!C13+'6月'!C13","v":1},{"v":1,"d":"100.0%"},{"$nulls":18},{"$f":"B13+E13+H13+K13+N13+Q13+T13","v":1},{"$f":"C13+F13+I13+L13+O13+R13+U13","v":1},{"$f":"X13/W13","v":{"v":1,"d":"100.0%"}}]
["高处安装维护拆除复训",{"$f":"'2月'!B14+'3月'!B14+'4月'!B14+'5月'!B14+'6月'!B14","v":154},{"$f":"'2月'!C14+'3月'!C14+'4月'!C14+'5月'!C14+'6月'!C14","v":144},{"v":0.935064935064935,"d":"93.5%"},{"$f":"'2月'!E14+'3月'!E14+'4月'!E14+'5月'!E14+'6月'!E14","v":84},{"$f":"'2月'!F14+'3月'!F14+'4月'!F14+'5月'!F14+'6月'!F14","v":82},{"v":0.976190476190476,"d":"97.6%"},{"$nulls":6},{"$f":"'2月'!N14+'3月'!N14+'4月'!N14+'5月'!N14+'6月'!N14","v":68},{"$f":"'2月'!O14+'3月'!O14+'4月'!O14+'5月'!O14+'6月'!O14","v":63},{"v":0.926470588235294,"d":"92.6%"},{"$nulls":3},{"$f":"'2月'!T14+'3月'!T14+'4月'!T14+'5月'!T14+'6月'!T14","v":33},{"$f":"'2月'!U14+'3月'!U14+'4月'!U14+'5月'!U14+'6月'!U14","v":32},{"v":0.96969696969697,"d":"97.0%"},339,321,{"v":0.946902654867257,"d":"94.7%"}]
["登高架设复训",{"$f":"'2月'!B15+'3月'!B15+'4月'!B15+'5月'!B15+'6月'!B15","v":16},{"$f":"'2月'!C15+'3月'!C15+'4月'!C15+'5月'!C15+'6月'!C15","v":16},{"v":1,"d":"100.0%"},{"$nulls":15},{"$f":"'2月'!T15+'3月'!T15+'4月'!T15+'5月'!T15+'6月'!T15","v":8},{"$f":"'2月'!U15+'3月'!U15+'4月'!U15+'5月'!U15+'6月'!U15","v":8},{"v":1,"d":"100.0%"},{"$f":"B15+E15+H15+K15+N15+Q15+T15","v":24},{"$f":"C15+F15+I15+L15+O15+R15+U15","v":24},{"v":1,"d":"100.0%"}]
["制冷与空调运行操作复训"]
["制冷与空调安装修理复训",{"$f":"'2月'!B17+'3月'!B17+'4月'!B17+'5月'!B17+'6月'!B17","v":4},{"$f":"'2月'!C17+'3月'!C17+'4月'!C17+'5月'!C17+'6月'!C17","v":3},{"v":0.75,"d":"75.0%"},{"$nulls":18},{"$f":"B17+E17+H17+K17+N17+Q17+T17","v":4},{"$f":"C17+F17+I17+L17+O17+R17+U17","v":3},{"$f":"X17/W17","v":{"v":0.75,"d":"75.0%"}}]
["矿山安检复训"]
["电力电缆复训",{"$f":"'2月'!B19+'3月'!B19+'4月'!B19+'5月'!B19+'6月'!B19","v":4},{"$f":"'2月'!C19+'3月'!C19+'4月'!C19+'5月'!C19+'6月'!C19","v":3},{"v":0.75,"d":"75.0%"},{"$f":"'2月'!E19+'3月'!E19+'4月'!E19+'5月'!E19+'6月'!E19","v":15},{"$f":"'2月'!F19+'3月'!F19+'4月'!F19+'5月'!F19+'6月'!F19","v":11},{"v":0.733333333333333,"d":"73.3%"},{"$nulls":6},{"$f":"'2月'!N19+'3月'!N19+'4月'!N19+'5月'!N19+'6月'!N19","v":1},{"$f":"'2月'!O19+'3月'!O19+'4月'!O19+'5月'!O19+'6月'!O19","v":0},{"v":0,"d":"0.0%"},{"$nulls":6},20,14,{"v":0.7,"d":"70.0%"}]
["电气试验复训",{"$f":"'2月'!B20+'3月'!B20+'4月'!B20+'5月'!B20+'6月'!B20","v":5},{"$f":"'2月'!C20+'3月'!C20+'4月'!C20+'5月'!C20+'6月'!C20","v":5},{"v":1,"d":"100.0%"},{"$f":"'2月'!E20+'3月'!E20+'4月'!E20+'5月'!E20+'6月'!E20","v":9},{"$f":"'2月'!F20+'3月'!F20+'4月'!F20+'5月'!F20+'6月'!F20","v":8},{"v":0.888888888888889,"d":"88.9%"},{"$nulls":6},{"$f":"'2月'!N20+'3月'!N20+'4月'!N20+'5月'!N20+'6月'!N20","v":2},{"$f":"'2月'!O20+'3月'!O20+'4月'!O20+'5月'!O20+'6月'!O20","v":1},{"v":0.5,"d":"50.0%"},{"$nulls":6},16,14,{"v":0.875,"d":"87.5%"}]
["继电保护复训",{"$f":"'2月'!B21+'3月'!B21+'4月'!B21+'5月'!B21+'6月'!B21","v":3},{"$f":"'2月'!C21+'3月'!C21+'4月'!C21+'5月'!C21+'6月'!C21","v":3},{"v":1,"d":"100.0%"},{"$f":"'2月'!E21+'3月'!E21+'4月'!E21+'5月'!E21+'6月'!E21","v":5},{"$f":"'2月'!F21+'3月'!F21+'4月'!F21+'5月'!F21+'6月'!F21","v":2},{"v":0.4,"d":"40.0%"},{"$nulls":6},{"$f":"'2月'!N21+'3月'!N21+'4月'!N21+'5月'!N21+'6月'!N21","v":1},{"$f":"'2月'!O21+'3月'!O21+'4月'!O21+'5月'!O21+'6月'!O21","v":1},{"v":1,"d":"100.0%"},{"$nulls":6},9,6,{"v":0.666666666666667,"d":"66.7%"}]
["危化操作工复训",{"$f":"'2月'!B22+'3月'!B22+'4月'!B22+'5月'!B22+'6月'!B22","v":48},{"$f":"'2月'!C22+'3月'!C22+'4月'!C22+'5月'!C22+'6月'!C22","v":47},{"v":0.979166666666667,"d":"97.9%"},{"$nulls":18},{"$f":"B22+E22+H22+K22+N22+Q22+T22","v":48},{"$f":"C22+F22+I22+L22+O22+R22+U22","v":47},{"$f":"X22/W22","v":{"v":0.979166666666667,"d":"97.9%"}}]
["特种作业复训合计",{"$f":"SUM(B10:B22)","v":2660},2574,{"v":0.967669172932331,"d":"96.8%"},574,540,{"v":0.940766550522648,"d":"94.1%"},{"$nulls":3},{"$f":"SUM(K10:K22)","v":1},1,{"v":1,"d":"100.0%"},{"$f":"SUM(N10:N22)","v":979},941,{"$f":"O23/N23","v":{"v":0.961184882533197,"d":"96.1%"}},{"$nulls":3},{"$f":"SUM(T10:T22)","v":165},{"$f":"SUM(U10:U22)","v":154},{"$f":"U23/T23","v":{"v":0.933333333333333,"d":"93.3%"}},4379,4210,{"v":0.961406713861612,"d":"96.1%"}]
["特种作业人员合计",{"$f":"B9+B23","v":5776},{"$f":"C9+C23","v":4921},{"v":0.851973684210526,"d":"85.2%"},{"$f":"E9+E23","v":1275},{"$f":"F9+F23","v":1124},{"v":0.88156862745098,"d":"88.2%"},{"$nulls":3},{"$f":"K9+K23","v":51},{"$f":"L9+L23","v":51},{"v":1,"d":"100.0%"},{"$f":"N9+N23","v":1476},{"$f":"O9+O23","v":1338},{"v":0.90650406504065,"d":"90.7%"},{"$nulls":3},{"$f":"T9+T23","v":1263},{"$f":"U9+U23","v":1012},{"$f":"U24/T24","v":{"v":0.801266825019794,"d":"80.1%"}},9841,8446,{"v":0.858246113199878,"d":"85.8%"}]
["烟花爆竹经营负责人初训",{"$f":"'2月'!B25+'3月'!B25+'4月'!B25+'5月'!B25+'6月'!B25","v":144},{"$f":"'2月'!C25+'3月'!C25+'4月'!C25+'5月'!C25+'6月'!C25","v":110},{"$f":"C25/B25","v":{"v":0.763888888888889,"d":"76.4%"}},{"$f":"'2月'!E25+'3月'!E25+'4月'!E25+'5月'!E25+'6月'!E25","v":12},{"$f":"'2月'!F25+'3月'!F25+'4月'!F25+'5月'!F25+'6月'!F25","v":9},{"v":0.75,"d":"75.0%"},{"$nulls":6},{"$f":"'2月'!N25+'3月'!N25+'4月'!N25+'5月'!N25+'6月'!N25","v":3},{"$f":"'2月'!O25+'3月'!O25+'4月'!O25+'5月'!O25+'6月'!O25","v":3},{"v":1,"d":"100.0%"},{"$nulls":6},159,122,{"v":0.767295597484277,"d":"76.7%"}]
["危化生产负责人初训",{"$f":"'2月'!B26+'3月'!B26+'4月'!B26+'5月'!B26+'6月'!B26","v":11},{"$f":"'2月'!C26+'3月'!C26+'4月'!C26+'5月'!C26+'6月'!C26","v":10},{"v":0.909090909090909,"d":"90.9%"},{"$nulls":18},11,10,{"v":0.909090909090909,"d":"90.9%"}]
["危化经营负责人初训",{"$f":"'2月'!B27+'3月'!B27+'4月'!B27+'5月'!B27+'6月'!B27","v":77},{"$f":"'2月'!C27+'3月'!C27+'4月'!C27+'5月'!C27+'6月'!C27","v":74},{"v":0.961038961038961,"d":"96.1%"},{"$f":"'2月'!E27+'3月'!E27+'4月'!E27+'5月'!E27+'6月'!E27","v":3},{"$f":"'2月'!F27+'3月'!F27+'4月'!F27+'5月'!F27+'6月'!F27","v":3},{"v":1,"d":"100.0%"},{"$nulls":6},{"$f":"'2月'!N27+'3月'!N27+'4月'!N27+'5月'!N27+'6月'!N27","v":1},{"$f":"'2月'!O27+'3月'!O27+'4月'!O27+'5月'!O27+'6月'!O27","v":1},{"v":1,"d":"100.0%"},{"$nulls":6},81,78,{"v":0.962962962962963,"d":"96.3%"}]
["非煤矿山负责人初训",{"$f":"'2月'!B28+'3月'!B28+'4月'!B28+'5月'!B28+'6月'!B28","v":4},{"$f":"'2月'!C28+'3月'!C28+'4月'!C28+'5月'!C28+'6月'!C28","v":4},{"v":1,"d":"100.0%"},{"$nulls":18},4,4,{"v":1,"d":"100.0%"}]
["金属冶炼负责人初训",{"$f":"'2月'!B29+'3月'!B29+'4月'!B29+'5月'!B29+'6月'!B29","v":7},{"$f":"'2月'!C29+'3月'!C29+'4月'!C29+'5月'!C29+'6月'!C29","v":7},{"v":1,"d":"100.0%"},{"$nulls":18},7,7,{"v":1,"d":"100.0%"}]
["高危行业负责人初训合计",{"$f":"SUM(B25:B29)","v":243},205,{"v":0.843621399176955,"d":"84.4%"},15,12,{"$f":"F30/E30","v":{"v":0.8,"d":"80.0%"}},{"$nulls":6},{"$f":"SUM(N25:N29)","v":4},4,{"$f":"O30/N30","v":{"v":1,"d":"100.0%"}},{"$nulls":6},262,221,{"v":0.843511450381679,"d":"84.4%"}]
["烟花爆竹经营负责人复训",{"$f":"'2月'!B31+'3月'!B31+'4月'!B31+'5月'!B31+'6月'!B31","v":31},{"$f":"'2月'!C31+'3月'!C31+'4月'!C31+'5月'!C31+'6月'!C31","v":28},{"$f":"C31/B31","v":{"v":0.903225806451613,"d":"90.3%"}},{"$nulls":18},{"$f":"B31+E31+H31+K31+N31+Q31+T31","v":31},{"$f":"C31+F31+I31+L31+O31+R31+U31","v":28},{"v":0.903225806451613,"d":"90.3%"}]
["危化生产负责人复训",{"$f":"'2月'!B32+'3月'!B32+'4月'!B32+'5月'!B32+'6月'!B32","v":85},{"$f":"'2月'!C32+'3月'!C32+'4月'!C32+'5月'!C32+'6月'!C32","v":83},{"v":0.976470588235294,"d":"97.6%"},{"$f":"'2月'!E32+'3月'!E32+'4月'!E32+'5月'!E32+'6月'!E32","v":3},{"$f":"'2月'!F32+'3月'!F32+'4月'!F32+'5月'!F32+'6月'!F32","v":3},{"$f":"F32/E32","v":{"v":1,"d":"100.0%"}},{"$nulls":6},{"$f":"'2月'!N32+'3月'!N32+'4月'!N32+'5月'!N32+'6月'!N32","v":2},{"$f":"'2月'!O32+'3月'!O32+'4月'!O32+'5月'!O32+'6月'!O32","v":2},{"$f":"O32/N32","v":{"v":1,"d":"100.0%"}},{"$nulls":6},90,88,{"v":0.977777777777778,"d":"97.8%"}]
["危化经营负责人复训",{"$f":"'2月'!B33+'3月'!B33+'4月'!B33+'5月'!B33+'6月'!B33","v":268},{"$f":"'2月'!C33+'3月'!C33+'4月'!C33+'5月'!C33+'6月'!C33","v":259},{"v":0.966417910447761,"d":"96.6%"},{"$f":"'2月'!E33+'3月'!E33+'4月'!E33+'5月'!E33+'6月'!E33","v":8},{"$f":"'2月'!F33+'3月'!F33+'4月'!F33+'5月'!F33+'6月'!F33","v":8},{"v":1,"d":"100.0%"},{"$nulls":6},{"$f":"'2月'!N33+'3月'!N33+'4月'!N33+'5月'!N33+'6月'!N33","v":20},{"$f":"'2月'!O33+'3月'!O33+'4月'!O33+'5月'!O33+'6月'!O33","v":20},{"v":1,"d":"100.0%"},{"$nulls":6},296,287,{"v":0.969594594594595,"d":"97.0%"}]
["非煤矿山负责人复训",{"$f":"'2月'!B34+'3月'!B34+'4月'!B34+'5月'!B34+'6月'!B34","v":11},{"$f":"'2月'!C34+'3月'!C34+'4月'!C34+'5月'!C34+'6月'!C34","v":11},{"v":1,"d":"100.0%"},{"$nulls":18},{"$f":"B34+E34+H34+K34+N34+Q34+T34","v":11},{"$f":"C34+F34+I34+L34+O34+R34+U34","v":11},{"v":1,"d":"100.0%"}]
["金属冶炼负责人复训",{"$f":"'2月'!B35+'3月'!B35+'4月'!B35+'5月'!B35+'6月'!B35","v":9},{"$f":"'2月'!C35+'3月'!C35+'4月'!C35+'5月'!C35+'6月'!C35","v":9},{"v":1,"d":"100.0%"},{"$nulls":18},{"$f":"B35+E35+H35+K35+N35+Q35+T35","v":9},{"$f":"C35+F35+I35+L35+O35+R35+U35","v":9},{"$f":"X35/W35","v":{"v":1,"d":"100.0%"}}]
["高危行业负责人复训合计",{"$f":"SUM(B31:B35)","v":404},390,{"v":0.965346534653465,"d":"96.5%"},11,11,{"v":1,"d":"100.0%"},{"$nulls":6},{"$f":"SUM(N31:N35)","v":22},{"$f":"SUM(O31:O35)","v":22},{"$f":"O36/N36","v":{"v":1,"d":"100.0%"}},{"$nulls":6},437,423,{"v":0.967963386727689,"d":"96.8%"}]
["高危行业主要负责人合计",{"$f":"B30+B36","v":647},595,{"v":0.919629057187017,"d":"92.0%"},26,23,{"$f":"F37/E37","v":{"v":0.884615384615385,"d":"88.5%"}},{"$nulls":6},{"$f":"N30+N36","v":26},26,{"$f":"O37/N37","v":{"v":1,"d":"100.0%"}},{"$nulls":6},699,644,{"v":0.921316165951359,"d":"92.1%"}]
["烟花爆竹经营安管初训",{"$f":"'2月'!B38+'3月'!B38+'4月'!B38+'5月'!B38+'6月'!B38","v":124},{"$f":"'2月'!C38+'3月'!C38+'4月'!C38+'5月'!C38+'6月'!C38","v":98},{"$f":"C38/B38","v":{"v":0.790322580645161,"d":"79.0%"}},{"$f":"'2月'!E38+'3月'!E38+'4月'!E38+'5月'!E38+'6月'!E38","v":12},{"$f":"'2月'!F38+'3月'!F38+'4月'!F38+'5月'!F38+'6月'!F38","v":8},{"v":0.666666666666667,"d":"66.7%"},{"$nulls":6},{"$f":"'2月'!N38+'3月'!N38+'4月'!N38+'5月'!N38+'6月'!N38","v":5},{"$f":"'2月'!O38+'3月'!O38+'4月'!O38+'5月'!O38+'6月'!O38","v":4},{"$f":"O38/N38","v":{"v":0.8,"d":"80.0%"}},{"$nulls":6},141,110,{"v":0.780141843971631,"d":"78.0%"}]
["危化生产安管初训",{"$f":"'2月'!B39+'3月'!B39+'4月'!B39+'5月'!B39+'6月'!B39","v":67},{"$f":"'2月'!C39+'3月'!C39+'4月'!C39+'5月'!C39+'6月'!C39","v":62},{"v":0.925373134328358,"d":"92.5%"},{"$nulls":18},67,62,{"v":0.925373134328358,"d":"92.5%"}]
["危化经营安管初训",{"$f":"'2月'!B40+'3月'!B40+'4月'!B40+'5月'!B40+'6月'!B40","v":278},{"$f":"'2月'!C40+'3月'!C40+'4月'!C40+'5月'!C40+'6月'!C40","v":210},{"v":0.755395683453237,"d":"75.5%"},{"$f":"'2月'!E40+'3月'!E40+'4月'!E40+'5月'!E40+'6月'!E40","v":13},{"$f":"'2月'!F40+'3月'!F40+'4月'!F40+'5月'!F40+'6月'!F40","v":13},{"v":1,"d":"100.0%"},{"$nulls":6},{"$f":"'2月'!N40+'3月'!N40+'4月'!N40+'5月'!N40+'6月'!N40","v":6},{"$f":"'2月'!O40+'3月'!O40+'4月'!O40+'5月'!O40+'6月'!O40","v":5},{"v":0.833333333333333,"d":"83.3%"},{"$nulls":6},297,228,{"v":0.767676767676768,"d":"76.8%"}]
["非煤矿山安管初训",{"$f":"'2月'!B41+'3月'!B41+'4月'!B41+'5月'!B41+'6月'!B41","v":12},{"$f":"'2月'!C41+'3月'!C41+'4月'!C41+'5月'!C41+'6月'!C41","v":11},{"v":0.916666666666667,"d":"91.7%"},{"$f":"'2月'!E41+'3月'!E41+'4月'!E41+'5月'!E41+'6月'!E41","v":10},{"$f":"'2月'!F41+'3月'!F41+'4月'!F41+'5月'!F41+'6月'!F41","v":10},{"v":1,"d":"100.0%"},{"$nulls":15},{"$f":"B41+E41+H41+K41+N41+Q41+T41","v":22},{"$f":"C41+F41+I41+L41+O41+R41+U41","v":21},{"v":0.954545454545455,"d":"95.5%"}]
["金属冶炼安管初训",{"$f":"'2月'!B42+'3月'!B42+'4月'!B42+'5月'!B42+'6月'!B42","v":23},{"$f":"'2月'!C42+'3月'!C42+'4月'!C42+'5月'!C42+'6月'!C42","v":19},{"v":0.826086956521739,"d":"82.6%"},{"$f":"'2月'!E42+'3月'!E42+'4月'!E42+'5月'!E42+'6月'!E42","v":2},{"$f":"'2月'!F42+'3月'!F42+'4月'!F42+'5月'!F42+'6月'!F42","v":2},{"v":1,"d":"100.0%"},{"$nulls":15},{"$f":"B42+E42+H42+K42+N42+Q42+T42","v":25},{"$f":"C42+F42+I42+L42+O42+R42+U42","v":21},{"$f":"X42/W42","v":{"v":0.84,"d":"84.0%"}}]
["高危行业安管初训合计",{"$f":"SUM(B38:B42)","v":504},400,{"v":0.793650793650794,"d":"79.4%"},37,33,{"$f":"F43/E43","v":{"v":0.891891891891892,"d":"89.2%"}},{"$nulls":6},{"$f":"SUM(N38:N42)","v":11},9,{"$f":"O43/N43","v":{"v":0.818181818181818,"d":"81.8%"}},{"$nulls":6},552,442,{"v":0.800724637681159,"d":"80.1%"}]
["烟花爆竹经营安管复训",{"$f":"'2月'!B44+'3月'!B44+'4月'!B44+'5月'!B44+'6月'!B44","v":14},{"$f":"'2月'!C44+'3月'!C44+'4月'!C44+'5月'!C44+'6月'!C44","v":14},{"$f":"C44/B44","v":{"v":1,"d":"100.0%"}},{"$nulls":18},{"$f":"B44+E44+H44+K44+N44+Q44+T44","v":14},{"$f":"C44+F44+I44+L44+O44+R44+U44","v":14},{"v":1,"d":"100.0%"}]
["危化生产安管复训",{"$f":"'2月'!B45+'3月'!B45+'4月'!B45+'5月'!B45+'6月'!B45","v":174},{"$f":"'2月'!C45+'3月'!C45+'4月'!C45+'5月'!C45+'6月'!C45","v":167},{"v":0.959770114942529,"d":"96.0%"},{"$f":"'2月'!E45+'3月'!E45+'4月'!E45+'5月'!E45+'6月'!E45","v":4},{"$f":"'2月'!F45+'3月'!F45+'4月'!F45+'5月'!F45+'6月'!F45","v":4},{"v":1,"d":"100.0%"},{"$nulls":6},{"$f":"'2月'!N45+'3月'!N45+'4月'!N45+'5月'!N45+'6月'!N45","v":1},{"$f":"'2月'!O45+'3月'!O45+'4月'!O45+'5月'!O45+'6月'!O45","v":1},{"v":1,"d":"100.0%"},{"$nulls":6},179,172,{"v":0.960893854748603,"d":"96.1%"}]
["危化经营安管复训",{"$f":"'2月'!B46+'3月'!B46+'4月'!B46+'5月'!B46+'6月'!B46","v":421},{"$f":"'2月'!C46+'3月'!C46+'4月'!C46+'5月'!C46+'6月'!C46","v":394},{"v":0.935866983372922,"d":"93.6%"},{"$f":"'2月'!E46+'3月'!E46+'4月'!E46+'5月'!E46+'6月'!E46","v":27},{"$f":"'2月'!F46+'3月'!F46+'4月'!F46+'5月'!F46+'6月'!F46","v":26},{"v":0.962962962962963,"d":"96.3%"},{"$nulls":6},{"$f":"'2月'!N46+'3月'!N46+'4月'!N46+'5月'!N46+'6月'!N46","v":27},{"$f":"'2月'!O46+'3月'!O46+'4月'!O46+'5月'!O46+'6月'!O46","v":27},{"v":1,"d":"100.0%"},{"$nulls":6},475,447,{"v":0.941052631578947,"d":"94.1%"}]
["非煤矿山安管复训",{"$f":"'2月'!B47+'3月'!B47+'4月'!B47+'5月'!B47+'6月'!B47","v":22},{"$f":"'2月'!C47+'3月'!C47+'4月'!C47+'5月'!C47+'6月'!C47","v":21},{"v":0.954545454545455,"d":"95.5%"},{"$nulls":18},{"$f":"B47+E47+H47+K47+N47+Q47+T47","v":22},{"$f":"C47+F47+I47+L47+O47+R47+U47","v":21},{"v":0.954545454545455,"d":"95.5%"}]
["金属冶炼安管复训",{"$f":"'2月'!B48+'3月'!B48+'4月'!B48+'5月'!B48+'6月'!B48","v":14},{"$f":"'2月'!C48+'3月'!C48+'4月'!C48+'5月'!C48+'6月'!C48","v":14},{"v":1,"d":"100.0%"},{"$nulls":18},{"$f":"B48+E48+H48+K48+N48+Q48+T48","v":14},{"$f":"C48+F48+I48+L48+O48+R48+U48","v":14},{"$f":"X48/W48","v":{"v":1,"d":"100.0%"}}]
["高危行业安管复训合计",{"$f":"SUM(B44:B48)","v":645},610,{"v":0.945736434108527,"d":"94.6%"},31,30,{"v":0.967741935483871,"d":"96.8%"},{"$nulls":6},{"$f":"SUM(N44:N48)","v":28},28,{"$f":"O49/N49","v":{"v":1,"d":"100.0%"}},{"$nulls":6},704,668,{"v":0.948863636363636,"d":"94.9%"}]
["高危行业安管人员合计",{"$f":"B43+B49","v":1149},1010,{"v":0.879025239338555,"d":"87.9%"},68,63,{"$f":"F50/E50","v":{"v":0.926470588235294,"d":"92.6%"}},{"$nulls":6},{"$f":"N43+N49","v":39},37,{"v":0.948717948717949,"d":"94.9%"},{"$nulls":6},1256,1110,{"v":0.883757961783439,"d":"88.4%"}]
["高危行业负责人安管合计",{"$f":"B37+B50","v":1796},1605,{"v":0.893652561247216,"d":"89.4%"},94,86,{"v":0.914893617021277,"d":"91.5%"},{"$nulls":6},{"$f":"N37+N50","v":65},63,{"v":0.969230769230769,"d":"96.9%"},{"$nulls":6},1955,1754,{"v":0.897186700767263,"d":"89.7%"}]
["全工种合计",{"$f":"B24+B51","v":7572},{"$f":"C24+C51","v":6526},{"v":0.861859482303222,"d":"86.2%"},{"$f":"E24+E51","v":1369},{"$f":"F24+F51","v":1210},{"v":0.883856829802776,"d":"88.4%"},{"$nulls":3},{"$f":"K24+K51","v":51},{"$f":"L24+L51","v":51},{"$f":"L52/K52","v":{"v":1,"d":"100.0%"}},{"$f":"N24+N51","v":1541},{"$f":"O24+O51","v":1401},{"v":0.90914990266061,"d":"90.9%"},{"$nulls":3},{"$f":"T24+T51","v":1263},{"$f":"U24+U51","v":1012},{"$f":"U52/T52","v":{"v":0.801266825019794,"d":"80.1%"}},11796,10200,{"v":0.8646998982706,"d":"86.5%"}]
["备注：\n1.考试点名称以全国安全生产培训考试信息管理系统记录为准，按系统顺序排序；\n2.实考人数=报考总人数-正考补考均缺考人数-考试违规被取消成绩人数；\n3.仅统计已完成考试者，还有补考机会者不统计。"]