{"text_format":"3","workbook":"xlsx","n_sheets":7,"sheets":["1月","2月","3月","4月","5月","6月","半年合计"],"read":"whole","date_system":"1900"}

{"sheet":"1月","index":0,"n_rows":54,"n_cols":10,"rows_kept":54,"merged":[[0,0,0,9],[1,0,2,0],[1,1,1,3],[1,4,1,6],[1,7,1,9],[52,0,52,9]]}
["2025年1月各考试点考生通过率统计表"]
["            培训机构\n    工种","（待新增考点）",null,null,"江门市应急救援和保障中心",null,null,"全市合计"]
[null,"实考人数","合格人数","通过率","实考人数","合格人数","通过率","实考人数","合格人数","通过率"]
["低压电工初训",0,0,{"$f":"C4/B4","v":{"$error":"#DIV/0!"}},{"$nulls":3},{"$f":"B4+E4","v":0},{"$f":"C4+F4","v":0},{"$f":"I4/H4","v":{"$error":"#DIV/0!"}}]
["高压电工初训",{"$nulls":6},0,0,{"$error":"#DIV/0!"}]
["电力电缆初训",{"$nulls":6},0,0,{"$error":"#DIV/0!"}]
["熔化焊接与热切割初训",{"$nulls":6},0,0,{"$error":"#DIV/0!"}]
["高处安装维护拆除初训",{"$nulls":3},123,103,{"$f":"F8/E8","v":{"v":0.83739837398374,"d":"83.7%"}},123,103,{"v":0.83739837398374,"d":"83.7%"}]
["特种作业初训合计",{"$f":"SUM(B4:B8)","v":0},{"$f":"SUM(C4:C8)","v":0},{"$f":"C9/B9","v":{"$error":"#DIV/0!"}},{"$f":"SUM(E4:E8)","v":123},{"$f":"SUM(F4:F8)","v":103},{"$f":"F9/E9","v":{"v":0.83739837398374,"d":"83.7%"}},{"$f":"SUM(H4:H8)","v":123},{"$f":"SUM(I4:I8)","v":103},{"v":0.83739837398374,"d":"83.7%"}]
["低压电工复训",{"$nulls":3},782,673,{"$f":"F10/E10","v":{"v":0.860613810741688,"d":"86.1%"}},{"$f":"B10+E10","v":782},{"$f":"C10+F10","v":673},{"v":0.860613810741688,"d":"86.1%"}]
["高压电工复训",{"$nulls":3},165,144,{"$f":"F11/E11","v":{"v":0.872727272727273,"d":"87.3%"}},165,144,{"v":0.872727272727273,"d":"87.3%"}]
["熔化焊接与热切割复训",{"$nulls":3},399,348,{"$f":"F12/E12","v":{"v":0.87218045112782,"d":"87.2%"}},399,348,{"v":0.87218045112782,"d":"87.2%"}]
["钎焊复训",{"$nulls":6},0,0,{"$error":"#DIV/0!"}]
["高处安装维护拆除复训",{"$nulls":3},267,234,{"$f":"F14/E14","v":{"v":0.876404494382023,"d":"87.6%"}},267,234,{"v":0.876404494382023,"d":"87.6%"}]
["登高架设复训",{"$nulls":6},0,0,{"$error":"#DIV/0!"}]
["制冷与空调运行操作复训",{"$nulls":6},0,0,{"$error":"#DIV/0!"}]
["制冷与空调安装修理复训",{"$nulls":6},0,0,{"$error":"#DIV/0!"}]
["矿山安检复训",{"$nulls":6},0,0,{"$error":"#DIV/0!"}]
["电力电缆复训",{"$nulls":3},6,6,{"$f":"F19/E19","v":{"v":1,"d":"100.0%"}},6,6,{"v":1,"d":"100.0%"}]
["电气试验复训",{"$nulls":3},3,3,{"$f":"F20/E20","v":{"v":1,"d":"100.0%"}},3,3,{"v":1,"d":"100.0%"}]
["继电保护复训",{"$nulls":3},7,5,{"$f":"F21/E21","v":{"v":0.714285714285714,"d":"71.4%"}},7,5,{"v":0.714285714285714,"d":"71.4%"}]
["危化操作工复训",{"$nulls":6},0,0,{"$error":"#DIV/0!"}]
["特种作业复训合计",{"$f":"SUM(B10:B22)","v":0},{"$f":"SUM(C10:C22)","v":0},{"$f":"C23/B23","v":{"$error":"#DIV/0!"}},{"$f":"SUM(E10:E22)","v":1629},{"$f":"SUM(F10:F22)","v":1413},{"$f":"F23/E23","v":{"v":0.867403314917127,"d":"86.7%"}},{"$f":"SUM(H10:H22)","v":1629},{"$f":"SUM(I10:I22)","v":1413},{"v":0.867403314917127,"d":"86.7%"}]
["特种作业人员合计",{"$f":"B9+B23","v":0},{"$f":"C9+C23","v":0},{"$f":"C24/B24","v":{"$error":"#DIV/0!"}},{"$f":"E9+E23","v":1752},{"$f":"F9+F23","v":1516},{"$f":"F24/E24","v":{"v":0.865296803652968,"d":"86.5%"}},{"$f":"H9+H23","v":1752},{"$f":"I9+I23","v":1516},{"v":0.865296803652968,"d":"86.5%"}]
["烟花爆竹经营负责人初训",{"$nulls":3},7,7,{"$f":"F25/E25","v":{"v":1,"d":"100.0%"}},{"$f":"B25+E25","v":7},{"$f":"C25+F25","v":7},{"v":1,"d":"100.0%"}]
["危化生产负责人初训",{"$nulls":3},1,1,{"$f":"F26/E26","v":{"v":1,"d":"100.0%"}},1,1,{"v":1,"d":"100.0%"}]
["危化经营负责人初训",{"$nulls":3},17,13,{"$f":"F27/E27","v":{"v":0.764705882352941,"d":"76.5%"}},17,13,{"v":0.764705882352941,"d":"76.5%"}]
["非煤矿山负责人初训",{"$nulls":6},0,0,{"$error":"#DIV/0!"}]
["金属冶炼负责人初训",{"$nulls":3},1,1,{"$f":"F29/E29","v":{"v":1,"d":"100.0%"}},1,1,{"v":1,"d":"100.0%"}]
["高危行业负责人初训合计",{"$f":"SUM(B25:B29)","v":0},{"$f":"SUM(C25:C29)","v":0},{"$f":"C30/B30","v":{"$error":"#DIV/0!"}},{"$f":"SUM(E25:E29)","v":26},{"$f":"SUM(F25:F29)","v":22},{"$f":"F30/E30","v":{"v":0.846153846153846,"d":"84.6%"}},{"$f":"SUM(H25:H29)","v":26},{"$f":"SUM(I25:I29)","v":22},{"v":0.846153846153846,"d":"84.6%"}]
["烟花爆竹经营负责人复训",{"$nulls":3},1,1,{"$f":"F31/E31","v":{"v":1,"d":"100.0%"}},{"$f":"B31+E31","v":1},{"$f":"C31+F31","v":1},{"v":1,"d":"100.0%"}]
["危化生产负责人复训",{"$nulls":6},0,0,{"$error":"#DIV/0!"}]
["危化经营负责人复训",{"$nulls":3},6,3,{"$f":"F33/E33","v":{"v":0.5,"d":"50.0%"}},6,3,{"v":0.5,"d":"50.0%"}]
["非煤矿山负责人复训",{"$nulls":6},0,0,{"$error":"#DIV/0!"}]
["金属冶炼负责人复训",{"$nulls":6},0,0,{"$error":"#DIV/0!"}]
["高危行业负责人复训合计",{"$f":"SUM(B31:B35)","v":0},{"$f":"SUM(C31:C35)","v":0},{"$f":"C36/B36","v":{"$error":"#DIV/0!"}},{"$f":"SUM(E31:E35)","v":7},{"$f":"SUM(F31:F35)","v":4},{"$f":"F36/E36","v":{"v":0.571428571428571,"d":"57.1%"}},{"$f":"SUM(H31:H35)","v":7},{"$f":"SUM(I31:I35)","v":4},{"v":0.571428571428571,"d":"57.1%"}]
["高危行业主要负责人合计",{"$f":"B30+B36","v":0},{"$f":"C30+C36","v":0},{"$error":"#DIV/0!"},{"$f":"E30+E36","v":33},{"$f":"F30+F36","v":26},{"v":0.787878787878788,"d":"78.8%"},{"$f":"H30+H36","v":33},{"$f":"I30+I36","v":26},{"v":0.787878787878788,"d":"78.8%"}]
["烟花爆竹经营安管初训",{"$nulls":3},6,4,{"$f":"F38/E38","v":{"v":0.666666666666667,"d":"66.7%"}},{"$f":"B38+E38","v":6},{"$f":"C38+F38","v":4},{"v":0.666666666666667,"d":"66.7%"}]
["危化生产安管初训",{"$nulls":3},6,4,{"v":0.666666666666667,"d":"66.7%"},6,4,{"v":0.666666666666667,"d":"66.7%"}]
["危化经营安管初训",{"$nulls":3},24,16,{"v":0.666666666666667,"d":"66.7%"},24,16,{"v":0.666666666666667,"d":"66.7%"}]
["非煤矿山安管初训",{"$nulls":3},3,3,{"v":1,"d":"100.0%"},3,3,{"v":1,"d":"100.0%"}]
["金属冶炼安管初训",{"$nulls":3},0,0,{"$error":"#DIV/0!"},0,0,{"$error":"#DIV/0!"}]
["高危行业安管初训合计",{"$f":"SUM(B38:B42)","v":0},{"$f":"SUM(C38:C42)","v":0},{"$f":"C43/B43","v":{"$error":"#DIV/0!"}},{"$f":"SUM(E38:E42)","v":39},{"$f":"SUM(F38:F42)","v":27},{"v":0.692307692307692,"d":"69.2%"},{"$f":"SUM(H38:H42)","v":39},{"$f":"SUM(I38:I42)","v":27},{"v":0.692307692307692,"d":"69.2%"}]
["烟花爆竹经营安管复训",{"$nulls":6},{"$f":"B44+E44","v":0},{"$f":"C44+F44","v":0},{"$error":"#DIV/0!"}]
["危化生产安管复训",{"$nulls":3},4,3,{"$f":"F45/E45","v":{"v":0.75,"d":"75.0%"}},4,3,{"v":0.75,"d":"75.0%"}]
["危化经营安管复训",{"$nulls":3},7,6,{"$f":"F46/E46","v":{"v":0.857142857142857,"d":"85.7%"}},7,6,{"v":0.857142857142857,"d":"85.7%"}]
["非煤矿山安管复训",{"$nulls":6},0,0,{"$error":"#DIV/0!"}]
["金属冶炼安管复训",{"$nulls":6},0,0,{"$error":"#DIV/0!"}]
["高危行业安管复训合计",{"$f":"SUM(B44:B48)","v":0},{"$f":"SUM(C44:C48)","v":0},{"$f":"C49/B49","v":{"$error":"#DIV/0!"}},{"$f":"SUM(E44:E48)","v":11},{"$f":"SUM(F44:F48)","v":9},{"$f":"F49/E49","v":{"v":0.818181818181818,"d":"81.8%"}},{"$f":"SUM(H44:H48)","v":11},{"$f":"SUM(I44:I48)","v":9},{"v":0.818181818181818,"d":"81.8%"}]
["高危行业安管人员合计",{"$f":"B43+B49","v":0},{"$f":"C43+C49","v":0},{"$error":"#DIV/0!"},{"$f":"E43+E49","v":50},{"$f":"F43+F49","v":36},{"v":0.72,"d":"72.0%"},{"$f":"H43+H49","v":50},{"$f":"I43+I49","v":36},{"v":0.72,"d":"72.0%"}]
["高危行业负责人安管合计",{"$f":"B37+B50","v":0},{"$f":"C37+C50","v":0},{"$error":"#DIV/0!"},{"$f":"E37+E50","v":83},{"$f":"F37+F50","v":62},{"v":0.746987951807229,"d":"74.7%"},{"$f":"H37+H50","v":83},{"$f":"I37+I50","v":62},{"v":0.746987951807229,"d":"74.7%"}]
["全工种合计",{"$f":"B24+B51","v":0},{"$f":"C24+C51","v":0},{"$error":"#DIV/0!"},{"$f":"E24+E51","v":1835},{"$f":"F24+F51","v":1578},{"$f":"F52/E52","v":{"v":0.859945504087194,"d":"86.0%"}},{"$f":"E52+B52","v":1835},{"$f":"F52+C52","v":1578},{"v":0.859945504087194,"d":"86.0%"}]
["备注：\n1.培训机构名称以全国安全生产培训考试信息管理系统记录为准，排序不分先后；\n2.实考人数=报考总人数-正考补考均缺考人数-考试违规被取消成绩人数；\n3.仅统计已完成考试者，还有补考机会者不统计。"]
[{"$nulls":9},"  "]

{"sheet":"2月","index":1,"n_rows":54,"n_cols":10,"rows_kept":54,"merged":[[0,0,0,9],[1,0,2,0],[1,1,1,3],[1,4,1,6],[1,7,1,9],[52,0,52,9]]}
["2025年2月各考试点考生通过率统计表"]
["            培训机构\n    工种","（待新增考点）",null,null,"江门市应急救援和保障中心",null,null,"全市合计"]
[null,"实考人数","合格人数","通过率","实考人数","合格人数","通过率","实考人数","合格人数","通过率"]
["低压电工初训",0,0,{"$f":"C4/B4","v":{"$error":"#DIV/0!"}},189,114,{"$f":"F4/E4","v":{"v":0.603174603174603,"d":"60.3%"}},{"$f":"B4+E4","v":189},114,{"$f":"I4/H4","v":{"v":0.603174603174603,"d":"60.3%"}}]
["高压电工初训",{"$nulls":6},0,0,{"$error":"#DIV/0!"}]
["电力电缆初训",{"$nulls":6},0,0,{"$error":"#DIV/0!"}]
["熔化焊接与热切割初训",{"$nulls":3},45,25,{"$f":"F7/E7","v":{"v":0.555555555555556,"d":"55.6%"}},45,25,{"v":0.555555555555556,"d":"55.6%"}]
["高处安装维护拆除初训",{"$nulls":3},115,102,{"v":0.88695652173913,"d":"88.7%"},115,102,{"v":0.88695652173913,"d":"88.7%"}]
["特种作业初训合计",{"$f":"SUM(B4:B8)","v":0},{"$f":"SUM(C4:C8)","v":0},{"$f":"C9/B9","v":{"$error":"#DIV/0!"}},{"$f":"SUM(E4:E8)","v":349},{"$f":"SUM(F4:F8)","v":241},{"v":0.69054441260745,"d":"69.1%"},{"$f":"SUM(H4:H8)","v":349},{"$f":"SUM(I4:I8)","v":241},{"v":0.69054441260745,"d":"69.1%"}]
["低压电工复训",{"$nulls":3},197,177,{"v":0.898477157360406,"d":"89.8%"},{"$f":"B10+E10","v":197},177,{"v":0.898477157360406,"d":"89.8%"}]
["高压电工复训",{"$nulls":3},30,24,{"v":0.8,"d":"80.0%"},30,24,{"v":0.8,"d":"80.0%"}]
["熔化焊接与热切割复训",{"$nulls":3},100,82,{"v":0.82,"d":"82.0%"},100,82,{"v":0.82,"d":"82.0%"}]
["钎焊复训",{"$nulls":6},0,0,{"$error":"#DIV/0!"}]
["高处安装维护拆除复训",{"$nulls":3},47,42,{"$f":"F14/E14","v":{"v":0.893617021276596,"d":"89.4%"}},47,42,{"v":0.893617021276596,"d":"89.4%"}]
["登高架设复训",{"$nulls":6},0,0,{"$error":"#DIV/0!"}]
["制冷与空调运行操作复训",{"$nulls":6},0,0,{"$error":"#DIV/0!"}]
["制冷与空调安装修理复训",{"$nulls":6},0,0,{"$error":"#DIV/0!"}]
["矿山安检复训",{"$nulls":6},0,0,{"$error":"#DIV/0!"}]
["电力电缆复训",{"$nulls":3},3,3,{"$f":"F19/E19","v":{"v":1,"d":"100.0%"}},3,3,{"v":1,"d":"100.0%"}]
["电气试验复训",{"$nulls":6},0,0,{"$error":"#DIV/0!"}]
["继电保护复训",{"$nulls":6},0,0,{"$error":"#DIV/0!"}]
["危化操作工复训",{"$nulls":6},0,0,{"$error":"#DIV/0!"}]
["特种作业复训合计",{"$f":"SUM(B10:B22)","v":0},{"$f":"SUM(C10:C22)","v":0},{"$f":"C23/B23","v":{"$error":"#DIV/0!"}},{"$f":"SUM(E10:E22)","v":377},{"$f":"SUM(F10:F22)","v":328},{"$f":"F23/E23","v":{"v":0.870026525198939,"d":"87.0%"}},{"$f":"SUM(H10:H22)","v":377},{"$f":"SUM(I10:I22)","v":328},{"v":0.870026525198939,"d":"87.0%"}]
["特种作业人员合计",{"$f":"B9+B23","v":0},{"$f":"C9+C23","v":0},{"$f":"C24/B24","v":{"$error":"#DIV/0!"}},{"$f":"E9+E23","v":726},{"$f":"F9+F23","v":569},{"$f":"F24/E24","v":{"v":0.783746556473829,"d":"78.4%"}},{"$f":"H9+H23","v":726},{"$f":"I9+I23","v":569},{"v":0.783746556473829,"d":"78.4%"}]
["烟花爆竹经营负责人初训",{"$nulls":5},{"$f":"F25/E25","v":{"$error":"#DIV/0!"}},{"$f":"B25+E25","v":0},0,{"$error":"#DIV/0!"}]
["危化生产负责人初训",{"$nulls":3},1,1,{"$f":"F26/E26","v":{"v":1,"d":"100.0%"}},1,1,{"v":1,"d":"100.0%"}]
["危化经营负责人初训",{"$nulls":3},8,7,{"$f":"F27/E27","v":{"v":0.875,"d":"87.5%"}},8,7,{"v":0.875,"d":"87.5%"}]
["非煤矿山负责人初训",{"$nulls":6},0,0,{"$error":"#DIV/0!"}]
["金属冶炼负责人初训",{"$nulls":5},{"$f":"F29/E29","v":{"$error":"#DIV/0!"}},0,0,{"$error":"#DIV/0!"}]
["高危行业负责人初训合计",{"$f":"SUM(B25:B29)","v":0},{"$f":"SUM(C25:C29)","v":0},{"$f":"C30/B30","v":{"$error":"#DIV/0!"}},{"$f":"SUM(E25:E29)","v":9},{"$f":"SUM(F25:F29)","v":8},{"$f":"F30/E30","v":{"v":0.888888888888889,"d":"88.9%"}},{"$f":"SUM(H25:H29)","v":9},{"$f":"SUM(I25:I29)","v":8},{"v":0.888888888888889,"d":"88.9%"}]
["烟花爆竹经营负责人复训",{"$nulls":5},{"$f":"F31/E31","v":{"$error":"#DIV/0!"}},{"$f":"B31+E31","v":0},0,{"$error":"#DIV/0!"}]
["危化生产负责人复训",{"$nulls":6},0,0,{"$error":"#DIV/0!"}]
["危化经营负责人复训",{"$nulls":3},2,1,{"$f":"F33/E33","v":{"v":0.5,"d":"50.0%"}},2,1,{"v":0.5,"d":"50.0%"}]
["非煤矿山负责人复训",{"$nulls":6},0,0,{"$error":"#DIV/0!"}]
["金属冶炼负责人复训",{"$nulls":6},0,0,{"$error":"#DIV/0!"}]
["高危行业负责人复训合计",{"$f":"SUM(B31:B35)","v":0},{"$f":"SUM(C31:C35)","v":0},{"$f":"C36/B36","v":{"$error":"#DIV/0!"}},{"$f":"SUM(E31:E35)","v":2},{"$f":"SUM(F31:F35)","v":1},{"$f":"F36/E36","v":{"v":0.5,"d":"50.0%"}},{"$f":"SUM(H31:H35)","v":2},{"$f":"SUM(I31:I35)","v":1},{"v":0.5,"d":"50.0%"}]
["高危行业主要负责人合计",{"$f":"B30+B36","v":0},{"$f":"C30+C36","v":0},{"$error":"#DIV/0!"},{"$f":"E30+E36","v":11},{"$f":"F30+F36","v":9},{"v":0.818181818181818,"d":"81.8%"},{"$f":"H30+H36","v":11},{"$f":"I30+I36","v":9},{"v":0.818181818181818,"d":"81.8%"}]
["烟花爆竹经营安管初训",{"$nulls":5},{"$error":"#DIV/0!"},{"$f":"B38+E38","v":0},0,{"$error":"#DIV/0!"}]
["危化生产安管初训",{"$nulls":5},{"$error":"#DIV/0!"},0,0,{"$error":"#DIV/0!"}]
["危化经营安管初训",{"$nulls":3},7,4,{"v":0.571428571428571,"d":"57.1%"},7,4,{"v":0.571428571428571,"d":"57.1%"}]
["非煤矿山安管初训",{"$nulls":5},{"$error":"#DIV/0!"},0,0,{"$error":"#DIV/0!"}]
["金属冶炼安管初训",{"$nulls":3},4,2,{"v":0.5,"d":"50.0%"},4,2,{"v":0.5,"d":"50.0%"}]
["高危行业安管初训合计",{"$f":"SUM(B38:B42)","v":0},{"$f":"SUM(C38:C42)","v":0},{"$f":"C43/B43","v":{"$error":"#DIV/0!"}},{"$f":"SUM(E38:E42)","v":11},{"$f":"SUM(F38:F42)","v":6},{"v":0.545454545454545,"d":"54.5%"},{"$f":"SUM(H38:H42)","v":11},{"$f":"SUM(I38:I42)","v":6},{"v":0.545454545454545,"d":"54.5%"}]
["烟花爆竹经营安管复训",{"$nulls":6},{"$f":"B44+E44","v":0},0,{"$error":"#DIV/0!"}]
["危化生产安管复训",{"$nulls":5},{"$f":"F45/E45","v":{"$error":"#DIV/0!"}},0,0,{"$error":"#DIV/0!"}]
["危化经营安管复训",{"$nulls":3},4,2,{"$f":"F46/E46","v":{"v":0.5,"d":"50.0%"}},4,2,{"v":0.5,"d":"50.0%"}]
["非煤矿山安管复训",{"$nulls":6},0,0,{"$error":"#DIV/0!"}]
["金属冶炼安管复训",{"$nulls":6},0,0,{"$error":"#DIV/0!"}]
["高危行业安管复训合计",{"$f":"SUM(B44:B48)","v":0},{"$f":"SUM(C44:C48)","v":0},{"$f":"C49/B49","v":{"$error":"#DIV/0!"}},{"$f":"SUM(E44:E48)","v":4},{"$f":"SUM(F44:F48)","v":2},{"$f":"F49/E49","v":{"v":0.5,"d":"50.0%"}},{"$f":"SUM(H44:H48)","v":4},{"$f":"SUM(I44:I48)","v":2},{"v":0.5,"d":"50.0%"}]
["高危行业安管人员合计",{"$f":"B43+B49","v":0},{"$f":"C43+C49","v":0},{"$error":"#DIV/0!"},{"$f":"E43+E49","v":15},{"$f":"F43+F49","v":8},{"v":0.533333333333333,"d":"53.3%"},{"$f":"H43+H49","v":15},{"$f":"I43+I49","v":8},{"v":0.533333333333333,"d":"53.3%"}]
["高危行业负责人安管合计",{"$f":"B37+B50","v":0},{"$f":"C37+C50","v":0},{"$error":"#DIV/0!"},{"$f":"E37+E50","v":26},{"$f":"F37+F50","v":17},{"v":0.653846153846154,"d":"65.4%"},{"$f":"H37+H50","v":26},{"$f":"I37+I50","v":17},{"v":0.653846153846154,"d":"65.4%"}]
["全工种合计",{"$f":"B24+B51","v":0},{"$f":"C24+C51","v":0},{"$error":"#DIV/0!"},{"$f":"E24+E51","v":752},{"$f":"F24+F51","v":586},{"v":0.779255319148936,"d":"77.9%"},{"$f":"E52+B52","v":752},{"$f":"F52+C52","v":586},{"v":0.779255319148936,"d":"77.9%"}]
["备注：\n1.培训机构名称以全国安全生产培训考试信息管理系统记录为准，排序不分先后；\n2.实考人数=报考总人数-正考补考均缺考人数-考试违规被取消成绩人数；\n3.仅统计已完成考试者，还有补考机会者不统计。"]
[{"$nulls":9},"  "]

{"sheet":"3月","index":2,"n_rows":54,"n_cols":10,"rows_kept":54,"merged":[[0,0,0,9],[1,0,2,0],[1,1,1,3],[1,4,1,6],[1,7,1,9],[52,0,52,9]]}
["2025年3月各考试点考生通过率统计表"]
["            培训机构\n    工种","（待新增考点）",null,null,"江门市安全生产资格考试中心",null,null,"全市合计"]
[null,"实考人数","合格人数","通过率","实考人数","合格人数","通过率","实考人数","合格人数","通过率"]
["低压电工初训",0,0,{"$f":"C4/B4","v":{"$error":"#DIV/0!"}},313,200,{"$f":"F4/E4","v":{"v":0.638977635782748,"d":"63.9%"}},{"$f":"B4+E4","v":313},{"$f":"C4+F4","v":200},{"$f":"I4/H4","v":{"v":0.638977635782748,"d":"63.9%"}}]
["高压电工初训",{"$nulls":3},52,49,{"v":0.942307692307692,"d":"94.2%"},52,49,{"v":0.942307692307692,"d":"94.2%"}]
["电力电缆初训",{"$nulls":6},0,0,{"$error":"#DIV/0!"}]
["熔化焊接与热切割初训",{"$nulls":3},155,101,{"v":0.651612903225806,"d":"65.2%"},155,101,{"v":0.651612903225806,"d":"65.2%"}]
["高处安装维护拆除初训",{"$nulls":3},206,152,{"v":0.737864077669903,"d":"73.8%"},206,152,{"v":0.737864077669903,"d":"73.8%"}]
["特种作业初训合计",{"$f":"SUM(B4:B8)","v":0},0,{"$f":"C9/B9","v":{"$error":"#DIV/0!"}},726,502,{"$f":"F9/E9","v":{"v":0.691460055096419,"d":"69.1%"}},{"$f":"SUM(H4:H8)","v":726},{"$f":"SUM(I4:I8)","v":502},{"v":0.691460055096419,"d":"69.1%"}]
["低压电工复训",{"$nulls":3},356,300,{"v":0.842696629213483,"d":"84.3%"},{"$f":"B10+E10","v":356},{"$f":"C10+F10","v":300},{"v":0.842696629213483,"d":"84.3%"}]
["高压电工复训",{"$nulls":3},140,118,{"v":0.842857142857143,"d":"84.3%"},140,118,{"v":0.842857142857143,"d":"84.3%"}]
["熔化焊接与热切割复训",{"$nulls":3},104,80,{"v":0.769230769230769,"d":"76.9%"},104,80,{"v":0.769230769230769,"d":"76.9%"}]
["钎焊复训",{"$nulls":6},0,0,{"$error":"#DIV/0!"}]
["高处安装维护拆除复训",{"$nulls":3},76,62,{"v":0.815789473684211,"d":"81.6%"},76,62,{"v":0.815789473684211,"d":"81.6%"}]
["登高架设复训",{"$nulls":6},0,0,{"$error":"#DIV/0!"}]
["制冷与空调运行操作复训",{"$nulls":6},0,0,{"$error":"#DIV/0!"}]
["制冷与空调安装修理复训",{"$nulls":6},0,0,{"$error":"#DIV/0!"}]
["矿山安检复训",{"$nulls":6},0,0,{"$error":"#DIV/0!"}]
["电力电缆复训",{"$nulls":3},3,2,{"$f":"F19/E19","v":{"v":0.666666666666667,"d":"66.7%"}},3,2,{"v":0.666666666666667,"d":"66.7%"}]
["电气试验复训",{"$nulls":6},0,0,{"$error":"#DIV/0!"}]
["继电保护复训",{"$nulls":6},0,0,{"$error":"#DIV/0!"}]
["危化操作工复训",{"$nulls":6},0,0,{"$error":"#DIV/0!"}]
["特种作业复训合计",{"$f":"SUM(B10:B22)","v":0},0,{"$f":"C23/B23","v":{"$error":"#DIV/0!"}},679,562,{"$f":"F23/E23","v":{"v":0.827687776141384,"d":"82.8%"}},{"$f":"SUM(H10:H22)","v":679},{"$f":"SUM(I10:I22)","v":562},{"v":0.827687776141384,"d":"82.8%"}]
["特种作业人员合计",{"$f":"B9+B23","v":0},0,{"$f":"C24/B24","v":{"$error":"#DIV/0!"}},1405,1064,{"v":0.75729537366548,"d":"75.7%"},{"$f":"H9+H23","v":1405},{"$f":"I9+I23","v":1064},{"v":0.75729537366548,"d":"75.7%"}]
["烟花爆竹经营负责人初训",{"$nulls":3},4,1,{"v":0.25,"d":"25.0%"},{"$f":"B25+E25","v":4},{"$f":"C25+F25","v":1},{"v":0.25,"d":"25.0%"}]
["危化生产负责人初训",{"$nulls":3},3,2,{"v":0.666666666666667,"d":"66.7%"},3,2,{"v":0.666666666666667,"d":"66.7%"}]
["危化经营负责人初训",{"$nulls":3},41,34,{"v":0.829268292682927,"d":"82.9%"},41,34,{"v":0.829268292682927,"d":"82.9%"}]
["非煤矿山负责人初训",{"$nulls":6},0,0,{"$error":"#DIV/0!"}]
["金属冶炼负责人初训",{"$nulls":6},0,0,{"$error":"#DIV/0!"}]
["高危行业负责人初训合计",{"$f":"SUM(B25:B29)","v":0},0,{"$f":"C30/B30","v":{"$error":"#DIV/0!"}},48,37,{"$f":"F30/E30","v":{"v":0.770833333333333,"d":"77.1%"}},{"$f":"SUM(H25:H29)","v":48},{"$f":"SUM(I25:I29)","v":37},{"v":0.770833333333333,"d":"77.1%"}]
["烟花爆竹经营负责人复训",{"$nulls":3},7,3,{"v":0.428571428571429,"d":"42.9%"},{"$f":"B31+E31","v":7},{"$f":"C31+F31","v":3},{"v":0.428571428571429,"d":"42.9%"}]
["危化生产负责人复训",{"$nulls":3},4,4,{"v":1,"d":"100.0%"},4,4,{"v":1,"d":"100.0%"}]
["危化经营负责人复训",{"$nulls":3},9,7,{"v":0.777777777777778,"d":"77.8%"},9,7,{"v":0.777777777777778,"d":"77.8%"}]
["非煤矿山负责人复训",{"$nulls":6},0,0,{"$error":"#DIV/0!"}]
["金属冶炼负责人复训",{"$nulls":3},1,1,{"$f":"F35/E35","v":{"v":1,"d":"100.0%"}},1,1,{"v":1,"d":"100.0%"}]
["高危行业负责人复训合计",{"$f":"SUM(B31:B35)","v":0},0,{"$f":"C36/B36","v":{"$error":"#DIV/0!"}},21,15,{"$f":"F36/E36","v":{"v":0.714285714285714,"d":"71.4%"}},{"$f":"SUM(H31:H35)","v":21},{"$f":"SUM(I31:I35)","v":15},{"v":0.714285714285714,"d":"71.4%"}]
["高危行业主要负责人合计",{"$f":"B30+B36","v":0},0,{"$f":"C37/B37","v":{"$error":"#DIV/0!"}},69,52,{"v":0.753623188405797,"d":"75.4%"},{"$f":"H30+H36","v":69},{"$f":"I30+I36","v":52},{"v":0.753623188405797,"d":"75.4%"}]
["烟花爆竹经营安管初训",{"$nulls":3},8,4,{"v":0.5,"d":"50.0%"},{"$f":"B38+E38","v":8},{"$f":"C38+F38","v":4},{"v":0.5,"d":"50.0%"}]
["危化生产安管初训",{"$nulls":3},20,16,{"v":0.8,"d":"80.0%"},20,16,{"v":0.8,"d":"80.0%"}]
["危化经营安管初训",{"$nulls":3},64,47,{"v":0.734375,"d":"73.4%"},64,47,{"v":0.734375,"d":"73.4%"}]
["非煤矿山安管初训",{"$nulls":6},0,0,{"$error":"#DIV/0!"}]
["金属冶炼安管初训",{"$nulls":6},0,0,{"$error":"#DIV/0!"}]
["高危行业安管初训合计",{"$f":"SUM(B38:B42)","v":0},0,{"$f":"C43/B43","v":{"$error":"#DIV/0!"}},92,67,{"$f":"F43/E43","v":{"v":0.728260869565217,"d":"72.8%"}},{"$f":"SUM(H38:H42)","v":92},{"$f":"SUM(I38:I42)","v":67},{"v":0.728260869565217,"d":"72.8%"}]
["烟花爆竹经营安管复训",{"$nulls":3},5,5,{"v":1,"d":"100.0%"},{"$f":"B44+E44","v":5},{"$f":"C44+F44","v":5},{"v":1,"d":"100.0%"}]
["危化生产安管复训",{"$nulls":3},4,4,{"v":1,"d":"100.0%"},4,4,{"v":1,"d":"100.0%"}]
["危化经营安管复训",{"$nulls":3},14,9,{"v":0.642857142857143,"d":"64.3%"},14,9,{"v":0.642857142857143,"d":"64.3%"}]
["非煤矿山安管复训",{"$nulls":6},0,0,{"$error":"#DIV/0!"}]
["金属冶炼安管复训",{"$nulls":3},1,0,{"$f":"F48/E48","v":{"v":0,"d":"0.0%"}},1,0,{"v":0,"d":"0.0%"}]
["高危行业安管复训合计",{"$f":"SUM(B44:B48)","v":0},0,{"$f":"C49/B49","v":{"$error":"#DIV/0!"}},24,18,{"$f":"F49/E49","v":{"v":0.75,"d":"75.0%"}},{"$f":"SUM(H44:H48)","v":24},{"$f":"SUM(I44:I48)","v":18},{"v":0.75,"d":"75.0%"}]
["高危行业安管人员合计",{"$f":"B43+B49","v":0},0,{"$error":"#DIV/0!"},116,85,{"v":0.732758620689655,"d":"73.3%"},{"$f":"H43+H49","v":116},{"$f":"I43+I49","v":85},{"v":0.732758620689655,"d":"73.3%"}]
["高危行业负责人安管合计",{"$f":"B37+B50","v":0},0,{"$error":"#DIV/0!"},185,137,{"v":0.740540540540541,"d":"74.1%"},{"$f":"H37+H50","v":185},{"$f":"I37+I50","v":137},{"v":0.740540540540541,"d":"74.1%"}]
["全工种合计",{"$f":"B24+B51","v":0},0,{"$error":"#DIV/0!"},1590,1201,{"v":0.755345911949686,"d":"75.5%"},{"$f":"E52+B52","v":1590},{"$f":"F52+C52","v":1201},{"v":0.755345911949686,"d":"75.5%"}]
["备注：\n1.培训机构名称以全国安全生产培训考试信息管理系统记录为准，排序不分先后；\n2.实考人数=报考总人数-正考补考均缺考人数-考试违规被取消成绩人数；\n3.仅统计已完成考试者，还有补考机会者不统计。"]
[{"$nulls":9},"  "]

{"sheet":"4月","index":3,"n_rows":54,"n_cols":10,"rows_kept":54,"merged":[[0,0,0,9],[1,0,2,0],[1,1,1,3],[1,4,1,6],[1,7,1,9],[52,0,52,9]]}
["2025年4月各考试点考生通过率统计表"]
["            培训机构\n    工种","（待新增考点）",null,null,"江门市安全生产资格考试中心",null,null,"全市合计"]
[null,"实考人数","合格人数","通过率","实考人数","合格人数","通过率","实考人数","合格人数","通过率"]
["低压电工初训",0,0,{"$f":"C4/B4","v":{"$error":"#DIV/0!"}},536,369,{"$f":"F4/E4","v":{"v":0.688432835820896,"d":"68.8%"}},{"$f":"B4+E4","v":536},{"$f":"C4+F4","v":369},{"$f":"I4/H4","v":{"v":0.688432835820896,"d":"68.8%"}}]
["高压电工初训",{"$nulls":3},57,44,{"v":0.771929824561403,"d":"77.2%"},57,44,{"v":0.771929824561403,"d":"77.2%"}]
["电力电缆初训",{"$nulls":6},0,0,{"$error":"#DIV/0!"}]
["熔化焊接与热切割初训",{"$nulls":3},193,141,{"v":0.730569948186529,"d":"73.1%"},193,141,{"v":0.730569948186529,"d":"73.1%"}]
["高处安装维护拆除初训",{"$nulls":3},275,216,{"v":0.785454545454545,"d":"78.5%"},275,216,{"v":0.785454545454545,"d":"78.5%"}]
["特种作业初训合计",{"$f":"SUM(B4:B8)","v":0},0,{"$f":"C9/B9","v":{"$error":"#DIV/0!"}},1061,770,{"v":0.725730442978322,"d":"72.6%"},{"$f":"SUM(H4:H8)","v":1061},{"$f":"SUM(I4:I8)","v":770},{"v":0.725730442978322,"d":"72.6%"}]
["低压电工复训",{"$nulls":3},502,460,{"v":0.916334661354582,"d":"91.6%"},{"$f":"B10+E10","v":502},{"$f":"C10+F10","v":460},{"v":0.916334661354582,"d":"91.6%"}]
["高压电工复训",{"$nulls":3},210,180,{"v":0.857142857142857,"d":"85.7%"},210,180,{"v":0.857142857142857,"d":"85.7%"}]
["熔化焊接与热切割复训",{"$nulls":3},213,185,{"v":0.868544600938967,"d":"86.9%"},213,185,{"v":0.868544600938967,"d":"86.9%"}]
["钎焊复训",{"$nulls":6},0,0,{"$error":"#DIV/0!"}]
["高处安装维护拆除复训",{"$nulls":3},439,411,{"$f":"F14/E14","v":{"v":0.93621867881549,"d":"93.6%"}},439,411,{"v":0.93621867881549,"d":"93.6%"}]
["登高架设复训",{"$nulls":6},0,0,{"$error":"#DIV/0!"}]
["制冷与空调运行操作复训",{"$nulls":6},0,0,{"$error":"#DIV/0!"}]
["制冷与空调安装修理复训",{"$nulls":6},0,0,{"$error":"#DIV/0!"}]
["矿山安检复训",{"$nulls":6},0,0,{"$error":"#DIV/0!"}]
["电力电缆复训",{"$nulls":3},2,2,{"$f":"F19/E19","v":{"v":1,"d":"100.0%"}},2,2,{"v":1,"d":"100.0%"}]
["电气试验复训",{"$nulls":6},0,0,{"$error":"#DIV/0!"}]
["继电保护复训",{"$nulls":6},0,0,{"$error":"#DIV/0!"}]
["危化操作工复训",{"$nulls":6},0,0,{"$error":"#DIV/0!"}]
["特种作业复训合计",{"$f":"SUM(B10:B22)","v":0},0,{"$f":"C23/B23","v":{"$error":"#DIV/0!"}},1366,1238,{"v":0.906295754026354,"d":"90.6%"},{"$f":"SUM(H10:H22)","v":1366},{"$f":"SUM(I10:I22)","v":1238},{"v":0.906295754026354,"d":"90.6%"}]
["特种作业人员合计",{"$f":"B9+B23","v":0},0,{"$f":"C24/B24","v":{"$error":"#DIV/0!"}},2427,2008,{"v":0.827358879274825,"d":"82.7%"},{"$f":"H9+H23","v":2427},{"$f":"I9+I23","v":2008},{"v":0.827358879274825,"d":"82.7%"}]
["烟花爆竹经营负责人初训",{"$nulls":3},14,11,{"v":0.785714285714286,"d":"78.6%"},{"$f":"B25+E25","v":14},{"$f":"C25+F25","v":11},{"v":0.785714285714286,"d":"78.6%"}]
["危化生产负责人初训",{"$nulls":3},5,5,{"v":1,"d":"100.0%"},5,5,{"v":1,"d":"100.0%"}]
["危化经营负责人初训",{"$nulls":3},14,13,{"v":0.928571428571429,"d":"92.9%"},14,13,{"v":0.928571428571429,"d":"92.9%"}]
["非煤矿山负责人初训",{"$nulls":3},3,3,{"v":1,"d":"100.0%"},3,3,{"v":1,"d":"100.0%"}]
["金属冶炼负责人初训",{"$nulls":3},2,2,{"v":1,"d":"100.0%"},2,2,{"v":1,"d":"100.0%"}]
["高危行业负责人初训合计",{"$f":"SUM(B25:B29)","v":0},0,{"$f":"C30/B30","v":{"$error":"#DIV/0!"}},{"$f":"SUM(E25:E29)","v":38},34,{"$f":"F30/E30","v":{"v":0.894736842105263,"d":"89.5%"}},{"$f":"SUM(H25:H29)","v":38},{"$f":"SUM(I25:I29)","v":34},{"v":0.894736842105263,"d":"89.5%"}]
["烟花爆竹经营负责人复训",{"$nulls":5},{"$error":"#DIV/0!"},{"$f":"B31+E31","v":0},{"$f":"C31+F31","v":0},{"$error":"#DIV/0!"}]
["危化生产负责人复训",{"$nulls":5},{"$error":"#DIV/0!"},0,0,{"$error":"#DIV/0!"}]
["危化经营负责人复训",{"$nulls":3},10,10,{"v":1,"d":"100.0%"},10,10,{"v":1,"d":"100.0%"}]
["非煤矿山负责人复训",{"$nulls":3},1,1,{"v":1,"d":"100.0%"},1,1,{"v":1,"d":"100.0%"}]
["金属冶炼负责人复训",{"$nulls":5},{"$f":"F35/E35","v":{"$error":"#DIV/0!"}},0,0,{"$error":"#DIV/0!"}]
["高危行业负责人复训合计",{"$f":"SUM(B31:B35)","v":0},0,{"$f":"C36/B36","v":{"$error":"#DIV/0!"}},11,11,{"v":1,"d":"100.0%"},{"$f":"SUM(H31:H35)","v":11},{"$f":"SUM(I31:I35)","v":11},{"v":1,"d":"100.0%"}]
["高危行业主要负责人合计",{"$f":"B30+B36","v":0},0,{"$f":"C37/B37","v":{"$error":"#DIV/0!"}},{"$f":"E30+E36","v":49},45,{"v":0.918367346938776,"d":"91.8%"},{"$f":"H30+H36","v":49},{"$f":"I30+I36","v":45},{"v":0.918367346938776,"d":"91.8%"}]
["烟花爆竹经营安管初训",{"$nulls":3},13,9,{"v":0.692307692307692,"d":"69.2%"},{"$f":"B38+E38","v":13},{"$f":"C38+F38","v":9},{"v":0.692307692307692,"d":"69.2%"}]
["危化生产安管初训",{"$nulls":3},6,5,{"v":0.833333333333333,"d":"83.3%"},6,5,{"v":0.833333333333333,"d":"83.3%"}]
["危化经营安管初训",{"$nulls":3},52,31,{"v":0.596153846153846,"d":"59.6%"},52,31,{"v":0.596153846153846,"d":"59.6%"}]
["非煤矿山安管初训",{"$nulls":3},14,13,{"v":0.928571428571429,"d":"92.9%"},14,13,{"v":0.928571428571429,"d":"92.9%"}]
["金属冶炼安管初训",{"$nulls":3},3,2,{"v":0.666666666666667,"d":"66.7%"},3,2,{"v":0.666666666666667,"d":"66.7%"}]
["高危行业安管初训合计",{"$f":"SUM(B38:B42)","v":0},0,{"$f":"C43/B43","v":{"$error":"#DIV/0!"}},88,60,{"$f":"F43/E43","v":{"v":0.681818181818182,"d":"68.2%"}},{"$f":"SUM(H38:H42)","v":88},{"$f":"SUM(I38:I42)","v":60},{"v":0.681818181818182,"d":"68.2%"}]
["烟花爆竹经营安管复训",{"$nulls":5},{"$error":"#DIV/0!"},{"$f":"B44+E44","v":0},{"$f":"C44+F44","v":0},{"$error":"#DIV/0!"}]
["危化生产安管复训",{"$nulls":3},9,7,{"v":0.777777777777778,"d":"77.8%"},9,7,{"v":0.777777777777778,"d":"77.8%"}]
["危化经营安管复训",{"$nulls":3},20,14,{"v":0.7,"d":"70.0%"},20,14,{"v":0.7,"d":"70.0%"}]
["非煤矿山安管复训",{"$nulls":3},5,5,{"v":1,"d":"100.0%"},5,5,{"v":1,"d":"100.0%"}]
["金属冶炼安管复训",{"$nulls":5},{"$f":"F48/E48","v":{"$error":"#DIV/0!"}},0,0,{"$error":"#DIV/0!"}]
["高危行业安管复训合计",{"$f":"SUM(B44:B48)","v":0},0,{"$f":"C49/B49","v":{"$error":"#DIV/0!"}},34,26,{"v":0.764705882352941,"d":"76.5%"},{"$f":"SUM(H44:H48)","v":34},{"$f":"SUM(I44:I48)","v":26},{"v":0.764705882352941,"d":"76.5%"}]
["高危行业安管人员合计",{"$f":"B43+B49","v":0},0,{"$error":"#DIV/0!"},122,86,{"v":0.704918032786885,"d":"70.5%"},{"$f":"H43+H49","v":122},{"$f":"I43+I49","v":86},{"v":0.704918032786885,"d":"70.5%"}]
["高危行业负责人安管合计",{"$f":"B37+B50","v":0},0,{"$error":"#DIV/0!"},{"$f":"E37+E50","v":171},131,{"v":0.766081871345029,"d":"76.6%"},{"$f":"H37+H50","v":171},{"$f":"I37+I50","v":131},{"v":0.766081871345029,"d":"76.6%"}]
["全工种合计",{"$f":"B24+B51","v":0},0,{"$error":"#DIV/0!"},{"$f":"E24+E51","v":2598},2139,{"v":0.823325635103926,"d":"82.3%"},{"$f":"E52+B52","v":2598},{"$f":"F52+C52","v":2139},{"v":0.823325635103926,"d":"82.3%"}]
["备注：\n1.培训机构名称以全国安全生产培训考试信息管理系统记录为准，排序不分先后；\n2.实考人数=报考总人数-正考补考均缺考人数-考试违规被取消成绩人数；\n3.仅统计已完成考试者，还有补考机会者不统计。"]
[{"$nulls":9},"  "]

{"sheet":"5月","index":4,"n_rows":54,"n_cols":10,"rows_kept":54,"merged":[[0,0,0,9],[1,0,2,0],[1,1,1,3],[1,4,1,6],[1,7,1,9],[52,0,52,9]]}
["2025年5月各考试点考生通过率统计表"]
["            培训机构\n    工种","（待新增考点）",null,null,"江门市安全生产资格考试中心",null,null,"全市合计"]
[null,"实考人数","合格人数","通过率","实考人数","合格人数","通过率","实考人数","合格人数","通过率"]
["低压电工初训",0,0,{"$f":"C4/B4","v":{"$error":"#DIV/0!"}},487,363,{"$f":"F4/E4","v":{"v":0.745379876796715,"d":"74.5%"}},{"$f":"B4+E4","v":487},{"$f":"C4+F4","v":363},{"$f":"I4/H4","v":{"v":0.745379876796715,"d":"74.5%"}}]
["高压电工初训",{"$nulls":5},{"$error":"#DIV/0!"},0,0,{"$error":"#DIV/0!"}]
["电力电缆初训",{"$nulls":6},0,0,{"$error":"#DIV/0!"}]
["熔化焊接与热切割初训",{"$nulls":3},201,136,{"v":0.676616915422886,"d":"67.7%"},201,136,{"v":0.676616915422886,"d":"67.7%"}]
["高处安装维护拆除初训",{"$nulls":3},355,289,{"v":0.814084507042254,"d":"81.4%"},355,289,{"v":0.814084507042254,"d":"81.4%"}]
["特种作业初训合计",{"$f":"SUM(B4:B8)","v":0},0,{"$f":"C9/B9","v":{"$error":"#DIV/0!"}},1043,788,{"v":0.755512943432406,"d":"75.6%"},{"$f":"SUM(H4:H8)","v":1043},{"$f":"SUM(I4:I8)","v":788},{"v":0.755512943432406,"d":"75.6%"}]
["低压电工复训",{"$nulls":3},660,598,{"v":0.906060606060606,"d":"90.6%"},{"$f":"B10+E10","v":660},{"$f":"C10+F10","v":598},{"v":0.906060606060606,"d":"90.6%"}]
["高压电工复训",{"$nulls":3},160,152,{"v":0.95,"d":"95.0%"},160,152,{"v":0.95,"d":"95.0%"}]
["熔化焊接与热切割复训",{"$nulls":3},259,234,{"v":0.903474903474903,"d":"90.3%"},259,234,{"v":0.903474903474903,"d":"90.3%"}]
["钎焊复训",{"$nulls":6},0,0,{"$error":"#DIV/0!"}]
["高处安装维护拆除复训",{"$nulls":3},390,363,{"$f":"F14/E14","v":{"v":0.930769230769231,"d":"93.1%"}},390,363,{"v":0.930769230769231,"d":"93.1%"}]
["登高架设复训",{"$nulls":6},0,0,{"$error":"#DIV/0!"}]
["制冷与空调运行操作复训",{"$nulls":6},0,0,{"$error":"#DIV/0!"}]
["制冷与空调安装修理复训",{"$nulls":6},0,0,{"$error":"#DIV/0!"}]
["矿山安检复训",{"$nulls":6},0,0,{"$error":"#DIV/0!"}]
["电力电缆复训",{"$nulls":3},5,4,{"$f":"F19/E19","v":{"v":0.8,"d":"80.0%"}},5,4,{"v":0.8,"d":"80.0%"}]
["电气试验复训",{"$nulls":6},0,0,{"$error":"#DIV/0!"}]
["继电保护复训",{"$nulls":6},0,0,{"$error":"#DIV/0!"}]
["危化操作工复训",{"$nulls":6},0,0,{"$error":"#DIV/0!"}]
["特种作业复训合计",{"$f":"SUM(B10:B22)","v":0},0,{"$f":"C23/B23","v":{"$error":"#DIV/0!"}},1474,1351,{"v":0.916553595658073,"d":"91.7%"},{"$f":"SUM(H10:H22)","v":1474},{"$f":"SUM(I10:I22)","v":1351},{"v":0.916553595658073,"d":"91.7%"}]
["特种作业人员合计",{"$f":"B9+B23","v":0},0,{"$f":"C24/B24","v":{"$error":"#DIV/0!"}},2517,2139,{"v":0.849821215733016,"d":"85.0%"},{"$f":"H9+H23","v":2517},{"$f":"I9+I23","v":2139},{"v":0.849821215733016,"d":"85.0%"}]
["烟花爆竹经营负责人初训",{"$nulls":3},6,4,{"v":0.666666666666667,"d":"66.7%"},{"$f":"B25+E25","v":6},{"$f":"C25+F25","v":4},{"v":0.666666666666667,"d":"66.7%"}]
["危化生产负责人初训",{"$nulls":3},3,3,{"v":1,"d":"100.0%"},3,3,{"v":1,"d":"100.0%"}]
["危化经营负责人初训",{"$nulls":3},29,21,{"v":0.724137931034483,"d":"72.4%"},29,21,{"v":0.724137931034483,"d":"72.4%"}]
["非煤矿山负责人初训",{"$nulls":5},{"$error":"#DIV/0!"},0,0,{"$error":"#DIV/0!"}]
["金属冶炼负责人初训",{"$nulls":5},{"$error":"#DIV/0!"},0,0,{"$error":"#DIV/0!"}]
["高危行业负责人初训合计",{"$f":"SUM(B25:B29)","v":0},0,{"$f":"C30/B30","v":{"$error":"#DIV/0!"}},38,28,{"v":0.736842105263158,"d":"73.7%"},{"$f":"SUM(H25:H29)","v":38},{"$f":"SUM(I25:I29)","v":28},{"v":0.736842105263158,"d":"73.7%"}]
["烟花爆竹经营负责人复训",{"$nulls":3},2,1,{"v":0.5,"d":"50.0%"},{"$f":"B31+E31","v":2},{"$f":"C31+F31","v":1},{"v":0.5,"d":"50.0%"}]
["危化生产负责人复训",{"$nulls":5},{"$error":"#DIV/0!"},0,0,{"$error":"#DIV/0!"}]
["危化经营负责人复训",{"$nulls":3},8,6,{"v":0.75,"d":"75.0%"},8,6,{"v":0.75,"d":"75.0%"}]
["非煤矿山负责人复训",{"$nulls":3},3,3,{"v":1,"d":"100.0%"},3,3,{"v":1,"d":"100.0%"}]
["金属冶炼负责人复训",{"$nulls":3},2,1,{"v":0.5,"d":"50.0%"},2,1,{"v":0.5,"d":"50.0%"}]
["高危行业负责人复训合计",{"$f":"SUM(B31:B35)","v":0},0,{"$f":"C36/B36","v":{"$error":"#DIV/0!"}},15,11,{"v":0.733333333333333,"d":"73.3%"},{"$f":"SUM(H31:H35)","v":15},{"$f":"SUM(I31:I35)","v":11},{"v":0.733333333333333,"d":"73.3%"}]
["高危行业主要负责人合计",{"$f":"B30+B36","v":0},0,{"$f":"C37/B37","v":{"$error":"#DIV/0!"}},53,39,{"v":0.735849056603774,"d":"73.6%"},{"$f":"H30+H36","v":53},{"$f":"I30+I36","v":39},{"v":0.735849056603774,"d":"73.6%"}]
["烟花爆竹经营安管初训",{"$nulls":3},4,3,{"v":0.75,"d":"75.0%"},{"$f":"B38+E38","v":4},{"$f":"C38+F38","v":3},{"v":0.75,"d":"75.0%"}]
["危化生产安管初训",{"$nulls":3},10,7,{"v":0.7,"d":"70.0%"},10,7,{"v":0.7,"d":"70.0%"}]
["危化经营安管初训",{"$nulls":3},48,33,{"v":0.6875,"d":"68.8%"},48,33,{"v":0.6875,"d":"68.8%"}]
["非煤矿山安管初训",{"$nulls":3},3,3,{"v":1,"d":"100.0%"},3,3,{"v":1,"d":"100.0%"}]
["金属冶炼安管初训",{"$nulls":5},{"$error":"#DIV/0!"},0,0,{"$error":"#DIV/0!"}]
["高危行业安管初训合计",{"$f":"SUM(B38:B42)","v":0},0,{"$f":"C43/B43","v":{"$error":"#DIV/0!"}},65,46,{"v":0.707692307692308,"d":"70.8%"},{"$f":"SUM(H38:H42)","v":65},{"$f":"SUM(I38:I42)","v":46},{"v":0.707692307692308,"d":"70.8%"}]
["烟花爆竹经营安管复训",{"$nulls":3},1,1,{"v":1,"d":"100.0%"},{"$f":"B44+E44","v":1},{"$f":"C44+F44","v":1},{"v":1,"d":"100.0%"}]
["危化生产安管复训",{"$nulls":3},2,0,{"v":0,"d":"0.0%"},2,0,{"v":0,"d":"0.0%"}]
["危化经营安管复训",{"$nulls":3},15,10,{"v":0.666666666666667,"d":"66.7%"},15,10,{"v":0.666666666666667,"d":"66.7%"}]
["非煤矿山安管复训",{"$nulls":3},1,1,{"v":1,"d":"100.0%"},1,1,{"v":1,"d":"100.0%"}]
["金属冶炼安管复训",{"$nulls":3},2,1,{"v":0.5,"d":"50.0%"},2,1,{"v":0.5,"d":"50.0%"}]
["高危行业安管复训合计",{"$f":"SUM(B44:B48)","v":0},0,{"$f":"C49/B49","v":{"$error":"#DIV/0!"}},21,13,{"v":0.619047619047619,"d":"61.9%"},{"$f":"SUM(H44:H48)","v":21},{"$f":"SUM(I44:I48)","v":13},{"v":0.619047619047619,"d":"61.9%"}]
["高危行业安管人员合计",{"$f":"B43+B49","v":0},0,{"$error":"#DIV/0!"},86,59,{"v":0.686046511627907,"d":"68.6%"},{"$f":"H43+H49","v":86},{"$f":"I43+I49","v":59},{"v":0.686046511627907,"d":"68.6%"}]
["高危行业负责人安管合计",{"$f":"B37+B50","v":0},0,{"$error":"#DIV/0!"},139,98,{"v":0.705035971223022,"d":"70.5%"},{"$f":"H37+H50","v":139},{"$f":"I37+I50","v":98},{"v":0.705035971223022,"d":"70.5%"}]
["全工种合计",{"$f":"B24+B51","v":0},0,{"$error":"#DIV/0!"},2656,2237,{"v":0.842243975903614,"d":"84.2%"},{"$f":"E52+B52","v":2656},{"$f":"F52+C52","v":2237},{"v":0.842243975903614,"d":"84.2%"}]
["备注：\n1.培训机构名称以全国安全生产培训考试信息管理系统记录为准，排序不分先后；\n2.实考人数=报考总人数-正考补考均缺考人数-考试违规被取消成绩人数；\n3.仅统计已完成考试者，还有补考机会者不统计。"]
[{"$nulls":9},"  "]

{"sheet":"6月","index":5,"n_rows":54,"n_cols":13,"rows_kept":54,"merged":[[0,0,0,9],[1,0,2,0],[1,1,1,3],[1,4,1,6],[1,7,1,9],[52,0,52,9]]}
["2025年6月各考试点考生通过率统计表"]
["            培训机构\n    工种","（待新增考点）",null,null,"江门市安全生产资格考试中心",null,null,"全市合计"]
[null,"实考人数","合格人数","通过率","实考人数","合格人数","通过率","实考人数","合格人数","通过率"]
["低压电工初训",0,0,{"$f":"C4/B4","v":{"$error":"#DIV/0!"}},640,494,{"$f":"F4/E4","v":{"v":0.771875,"d":"77.2%"}},{"$f":"B4+E4","v":640},{"$f":"C4+F4","v":494},{"$f":"I4/H4","v":{"v":0.771875,"d":"77.2%"}}]
["高压电工初训",{"$nulls":5},{"$error":"#DIV/0!"},0,0,{"$error":"#DIV/0!"}]
["电力电缆初训",{"$nulls":3},27,14,{"v":0.518518518518518,"d":"51.9%"},27,14,{"v":0.518518518518518,"d":"51.9%"}]
["熔化焊接与热切割初训",{"$nulls":3},238,147,{"v":0.617647058823529,"d":"61.8%"},238,147,{"v":0.617647058823529,"d":"61.8%"}]
["高处安装维护拆除初训",{"$nulls":3},410,351,{"v":0.85609756097561,"d":"85.6%"},410,351,{"v":0.85609756097561,"d":"85.6%"}]
["特种作业初训合计",{"$f":"SUM(B4:B8)","v":0},0,{"$f":"C9/B9","v":{"$error":"#DIV/0!"}},1315,1006,{"v":0.765019011406844,"d":"76.5%"},{"$f":"SUM(H4:H8)","v":1315},{"$f":"SUM(I4:I8)","v":1006},{"v":0.765019011406844,"d":"76.5%"},null,null,1]
["低压电工复训",{"$nulls":3},612,547,{"v":0.893790849673203,"d":"89.4%"},{"$f":"B10+E10","v":612},{"$f":"C10+F10","v":547},{"v":0.893790849673203,"d":"89.4%"}]
["高压电工复训",{"$nulls":3},228,216,{"v":0.947368421052632,"d":"94.7%"},228,216,{"v":0.947368421052632,"d":"94.7%"}]
["熔化焊接与热切割复训",{"$nulls":3},278,249,{"v":0.89568345323741,"d":"89.6%"},278,249,{"v":0.89568345323741,"d":"89.6%"}]
["钎焊复训",{"$nulls":6},0,0,{"$error":"#DIV/0!"}]
["高处安装维护拆除复训",{"$nulls":3},146,131,{"$f":"F14/E14","v":{"v":0.897260273972603,"d":"89.7%"}},146,131,{"v":0.897260273972603,"d":"89.7%"}]
["登高架设复训",{"$nulls":6},0,0,{"$error":"#DIV/0!"}]
["制冷与空调运行操作复训",{"$nulls":6},0,0,{"$error":"#DIV/0!"}]
["制冷与空调安装修理复训",{"$nulls":6},0,0,{"$error":"#DIV/0!"}]
["矿山安检复训",{"$nulls":6},0,0,{"$error":"#DIV/0!"}]
["电力电缆复训",{"$nulls":3},3,2,{"$f":"F19/E19","v":{"v":0.666666666666667,"d":"66.7%"}},3,2,{"v":0.666666666666667,"d":"66.7%"}]
["电气试验复训",{"$nulls":6},0,0,{"$error":"#DIV/0!"}]
["继电保护复训",{"$nulls":6},0,0,{"$error":"#DIV/0!"}]
["危化操作工复训",{"$nulls":6},0,0,{"$error":"#DIV/0!"}]
["特种作业复训合计",{"$f":"SUM(B10:B22)","v":0},0,{"$f":"C23/B23","v":{"$error":"#DIV/0!"}},1267,1145,{"v":0.90370955011839,"d":"90.4%"},{"$f":"SUM(H10:H22)","v":1267},{"$f":"SUM(I10:I22)","v":1145},{"v":0.90370955011839,"d":"90.4%"}]
["特种作业人员合计",{"$f":"B9+B23","v":0},0,{"$f":"C24/B24","v":{"$error":"#DIV/0!"}},2582,2151,{"v":0.833075135553834,"d":"83.3%"},{"$f":"H9+H23","v":2582},{"$f":"I9+I23","v":2151},{"v":0.833075135553834,"d":"83.3%"}]
["烟花爆竹经营负责人初训",{"$nulls":3},4,2,{"v":0.5,"d":"50.0%"},{"$f":"B25+E25","v":4},{"$f":"C25+F25","v":2},{"v":0.5,"d":"50.0%"}]
["危化生产负责人初训",{"$nulls":3},1,1,{"v":1,"d":"100.0%"},1,1,{"v":1,"d":"100.0%"}]
["危化经营负责人初训",{"$nulls":3},12,8,{"v":0.666666666666667,"d":"66.7%"},12,8,{"v":0.666666666666667,"d":"66.7%"}]
["非煤矿山负责人初训",{"$nulls":3},3,3,{"v":1,"d":"100.0%"},3,3,{"v":1,"d":"100.0%"}]
["金属冶炼负责人初训",{"$nulls":3},1,0,{"v":0,"d":"0.0%"},1,0,{"v":0,"d":"0.0%"}]
["高危行业负责人初训合计",{"$f":"SUM(B25:B29)","v":0},0,{"$f":"C30/B30","v":{"$error":"#DIV/0!"}},21,14,{"v":0.666666666666667,"d":"66.7%"},{"$f":"SUM(H25:H29)","v":21},{"$f":"SUM(I25:I29)","v":14},{"v":0.666666666666667,"d":"66.7%"}]
["烟花爆竹经营负责人复训",{"$nulls":3},15,12,{"v":0.8,"d":"80.0%"},{"$f":"B31+E31","v":15},{"$f":"C31+F31","v":12},{"v":0.8,"d":"80.0%"}]
["危化生产负责人复训",{"$nulls":3},1,1,{"v":1,"d":"100.0%"},1,1,{"v":1,"d":"100.0%"}]
["危化经营负责人复训",{"$nulls":3},8,5,{"v":0.625,"d":"62.5%"},8,5,{"v":0.625,"d":"62.5%"}]
["非煤矿山负责人复训",{"$nulls":3},2,2,{"v":1,"d":"100.0%"},2,2,{"v":1,"d":"100.0%"}]
["金属冶炼负责人复训",{"$nulls":3},1,0,{"v":0,"d":"0.0%"},1,0,{"v":0,"d":"0.0%"}]
["高危行业负责人复训合计",{"$f":"SUM(B31:B35)","v":0},{"$f":"SUM(C31:C35)","v":0},{"$f":"C36/B36","v":{"$error":"#DIV/0!"}},{"$f":"SUM(E31:E35)","v":27},{"$f":"SUM(F31:F35)","v":20},{"v":0.740740740740741,"d":"74.1%"},{"$f":"SUM(H31:H35)","v":27},{"$f":"SUM(I31:I35)","v":20},{"v":0.740740740740741,"d":"74.1%"}]
["高危行业主要负责人合计",{"$f":"B30+B36","v":0},0,{"$f":"C37/B37","v":{"$error":"#DIV/0!"}},48,34,{"v":0.708333333333333,"d":"70.8%"},{"$f":"H30+H36","v":48},{"$f":"I30+I36","v":34},{"v":0.708333333333333,"d":"70.8%"}]
["烟花爆竹经营安管初训",{"$nulls":3},2,2,{"v":1,"d":"100.0%"},{"$f":"B38+E38","v":2},{"$f":"C38+F38","v":2},{"v":1,"d":"100.0%"}]
["危化生产安管初训",{"$nulls":3},7,7,{"v":1,"d":"100.0%"},7,7,{"v":1,"d":"100.0%"}]
["危化经营安管初训",{"$nulls":3},40,20,{"v":0.5,"d":"50.0%"},40,20,{"v":0.5,"d":"50.0%"}]
["非煤矿山安管初训",{"$nulls":3},3,3,{"v":1,"d":"100.0%"},3,3,{"v":1,"d":"100.0%"}]
["金属冶炼安管初训",{"$nulls":3},2,0,{"v":0,"d":"0.0%"},2,0,{"v":0,"d":"0.0%"}]
["高危行业安管初训合计",{"$f":"SUM(B38:B42)","v":0},0,{"$f":"C43/B43","v":{"$error":"#DIV/0!"}},54,32,{"v":0.592592592592593,"d":"59.3%"},{"$f":"SUM(H38:H42)","v":54},{"$f":"SUM(I38:I42)","v":32},{"v":0.592592592592593,"d":"59.3%"}]
["烟花爆竹经营安管复训",{"$nulls":3},18,16,{"v":0.888888888888889,"d":"88.9%"},{"$f":"B44+E44","v":18},{"$f":"C44+F44","v":16},{"v":0.888888888888889,"d":"88.9%"}]
["危化生产安管复训",{"$nulls":3},3,2,{"v":0.666666666666667,"d":"66.7%"},3,2,{"v":0.666666666666667,"d":"66.7%"}]
["危化经营安管复训",{"$nulls":3},33,28,{"v":0.848484848484849,"d":"84.8%"},33,28,{"v":0.848484848484849,"d":"84.8%"}]
["非煤矿山安管复训",{"$nulls":3},3,3,{"v":1,"d":"100.0%"},3,3,{"v":1,"d":"100.0%"}]
["金属冶炼安管复训",{"$nulls":3},5,3,{"v":0.6,"d":"60.0%"},5,3,{"v":0.6,"d":"60.0%"}]
["高危行业安管复训合计",{"$f":"SUM(B44:B48)","v":0},0,{"$f":"C49/B49","v":{"$error":"#DIV/0!"}},62,52,{"v":0.838709677419355,"d":"83.9%"},{"$f":"SUM(H44:H48)","v":62},{"$f":"SUM(I44:I48)","v":52},{"v":0.838709677419355,"d":"83.9%"}]
["高危行业安管人员合计",{"$f":"B43+B49","v":0},0,{"$error":"#DIV/0!"},116,84,{"v":0.724137931034483,"d":"72.4%"},{"$f":"H43+H49","v":116},{"$f":"I43+I49","v":84},{"v":0.724137931034483,"d":"72.4%"}]
["高危行业负责人安管合计",{"$f":"B37+B50","v":0},0,{"$error":"#DIV/0!"},164,118,{"v":0.719512195121951,"d":"72.0%"},{"$f":"H37+H50","v":164},{"$f":"I37+I50","v":118},{"v":0.719512195121951,"d":"72.0%"}]
["全工种合计",{"$f":"B24+B51","v":0},0,{"$error":"#DIV/0!"},2746,2269,{"v":0.826292789512017,"d":"82.6%"},{"$f":"E52+B52","v":2746},{"$f":"F52+C52","v":2269},{"v":0.826292789512017,"d":"82.6%"}]
["备注：\n1.培训机构名称以全国安全生产培训考试信息管理系统记录为准，排序不分先后；\n2.实考人数=报考总人数-正考补考均缺考人数-考试违规被取消成绩人数；\n3.仅统计已完成考试者，还有补考机会者不统计。"]
[{"$nulls":9},"  "]

{"sheet":"半年合计","index":6,"n_rows":54,"n_cols":10,"rows_kept":54,"merged":[[0,0,0,9],[1,0,2,0],[1,1,1,3],[1,4,1,6],[1,7,1,9],[52,0,52,9]]}
["2025年上半年各考试点考生通过率统计表"]
["            培训机构\n    工种","（待新增考点）",null,null,"江门市安全生产资格考试中心",null,null,"全市合计"]
[null,"实考人数","合格人数","通过率","实考人数","合格人数","通过率","实考人数","合格人数","通过率"]
["低压电工初训",0,0,{"$f":"C4/B4","v":{"$error":"#DIV/0!"}},{"$f":"'6月'!E4+'5月'!E4+'4月'!E4+'3月'!E4+'2月'!E4+'1月'!E4","v":2165},{"$f":"'6月'!F4+'5月'!F4+'4月'!F4+'3月'!F4+'2月'!F4+'1月'!F4","v":1540},{"$f":"F4/E4","v":{"v":0.711316397228637,"d":"71.1%"}},{"$f":"B4+E4","v":2165},{"$f":"C4+F4","v":1540},{"$f":"I4/H4","v":{"v":0.711316397228637,"d":"71.1%"}}]
["高压电工初训",{"$nulls":3},{"$f":"'6月'!E5+'5月'!E5+'4月'!E5+'3月'!E5+'2月'!E5+'1月'!E5","v":109},{"$f":"'6月'!F5+'5月'!F5+'4月'!F5+'3月'!F5+'2月'!F5+'1月'!F5","v":93},{"v":0.853211009174312,"d":"85.3%"},109,93,{"v":0.853211009174312,"d":"85.3%"}]
["电力电缆初训",{"$nulls":3},{"$f":"'6月'!E6+'5月'!E6+'4月'!E6+'3月'!E6+'2月'!E6+'1月'!E6","v":27},{"$f":"'6月'!F6+'5月'!F6+'4月'!F6+'3月'!F6+'2月'!F6+'1月'!F6","v":14},{"v":0.518518518518518,"d":"51.9%"},27,14,{"v":0.518518518518518,"d":"51.9%"}]
["熔化焊接与热切割初训",{"$nulls":3},{"$f":"'6月'!E7+'5月'!E7+'4月'!E7+'3月'!E7+'2月'!E7+'1月'!E7","v":832},{"$f":"'6月'!F7+'5月'!F7+'4月'!F7+'3月'!F7+'2月'!F7+'1月'!F7","v":550},{"v":0.661057692307692,"d":"66.1%"},832,550,{"v":0.661057692307692,"d":"66.1%"}]
["高处安装维护拆除初训",{"$nulls":3},{"$f":"'6月'!E8+'5月'!E8+'4月'!E8+'3月'!E8+'2月'!E8+'1月'!E8","v":1484},{"$f":"'6月'!F8+'5月'!F8+'4月'!F8+'3月'!F8+'2月'!F8+'1月'!F8","v":1213},{"v":0.817385444743935,"d":"81.7%"},1484,1213,{"v":0.817385444743935,"d":"81.7%"}]
["特种作业初训合计",{"$f":"SUM(B4:B8)","v":0},0,{"$f":"C9/B9","v":{"$error":"#DIV/0!"}},4617,3410,{"v":0.738574832142084,"d":"73.9%"},{"$f":"SUM(H4:H8)","v":4617},{"$f":"SUM(I4:I8)","v":3410},{"v":0.738574832142084,"d":"73.9%"}]
["低压电工复训",{"$nulls":3},{"$f":"'6月'!E10+'5月'!E10+'4月'!E10+'3月'!E10+'2月'!E10+'1月'!E10","v":3109},{"$f":"'6月'!F10+'5月'!F10+'4月'!F10+'3月'!F10+'2月'!F10+'1月'!F10","v":2755},{"v":0.886137021550338,"d":"88.6%"},{"$f":"B10+E10","v":3109},{"$f":"C10+F10","v":2755},{"v":0.886137021550338,"d":"88.6%"}]
["高压电工复训",{"$nulls":3},{"$f":"'6月'!E11+'5月'!E11+'4月'!E11+'3月'!E11+'2月'!E11+'1月'!E11","v":933},{"$f":"'6月'!F11+'5月'!F11+'4月'!F11+'3月'!F11+'2月'!F11+'1月'!F11","v":834},{"v":0.893890675241158,"d":"89.4%"},933,834,{"v":0.893890675241158,"d":"89.4%"}]
["熔化焊接与热切割复训",{"$nulls":3},{"$f":"'6月'!E12+'5月'!E12+'4月'!E12+'3月'!E12+'2月'!E12+'1月'!E12","v":1353},{"$f":"'6月'!F12+'5月'!F12+'4月'!F12+'3月'!F12+'2月'!F12+'1月'!F12","v":1178},{"v":0.870657797487066,"d":"87.1%"},1353,1178,{"v":0.870657797487066,"d":"87.1%"}]
["钎焊复训",{"$nulls":6},0,0,{"$error":"#DIV/0!"}]
["高处安装维护拆除复训",{"$nulls":3},{"$f":"'6月'!E14+'5月'!E14+'4月'!E14+'3月'!E14+'2月'!E14+'1月'!E14","v":1365},{"$f":"'6月'!F14+'5月'!F14+'4月'!F14+'3月'!F14+'2月'!F14+'1月'!F14","v":1243},{"$f":"F14/E14","v":{"v":0.910622710622711,"d":"91.1%"}},1365,1243,{"v":0.910622710622711,"d":"91.1%"}]
["登高架设复训",{"$nulls":6},0,0,{"$error":"#DIV/0!"}]
["制冷与空调运行操作复训",{"$nulls":6},0,0,{"$error":"#DIV/0!"}]
["制冷与空调安装修理复训",{"$nulls":6},0,0,{"$error":"#DIV/0!"}]
["矿山安检复训",{"$nulls":6},0,0,{"$error":"#DIV/0!"}]
["电力电缆复训",{"$nulls":3},{"$f":"'6月'!E19+'5月'!E19+'4月'!E19+'3月'!E19+'2月'!E19+'1月'!E19","v":22},{"$f":"'6月'!F19+'5月'!F19+'4月'!F19+'3月'!F19+'2月'!F19+'1月'!F19","v":19},{"$f":"F19/E19","v":{"v":0.863636363636364,"d":"86.4%"}},22,19,{"v":0.863636363636364,"d":"86.4%"}]
["电气试验复训",{"$nulls":3},{"$f":"'6月'!E20+'5月'!E20+'4月'!E20+'3月'!E20+'2月'!E20+'1月'!E20","v":3},{"$f":"'6月'!F20+'5月'!F20+'4月'!F20+'3月'!F20+'2月'!F20+'1月'!F20","v":3},{"v":1,"d":"100.0%"},3,3,{"v":1,"d":"100.0%"}]
["继电保护复训",{"$nulls":3},{"$f":"'6月'!E21+'5月'!E21+'4月'!E21+'3月'!E21+'2月'!E21+'1月'!E21","v":7},{"$f":"'6月'!F21+'5月'!F21+'4月'!F21+'3月'!F21+'2月'!F21+'1月'!F21","v":5},{"v":0.714285714285714,"d":"71.4%"},7,5,{"v":0.714285714285714,"d":"71.4%"}]
["危化操作工复训",{"$nulls":6},0,0,{"$error":"#DIV/0!"}]
["特种作业复训合计",{"$f":"SUM(B10:B22)","v":0},0,{"$f":"C23/B23","v":{"$error":"#DIV/0!"}},6792,6037,{"v":0.888839811542992,"d":"88.9%"},{"$f":"SUM(H10:H22)","v":6792},{"$f":"SUM(I10:I22)","v":6037},{"v":0.888839811542992,"d":"88.9%"}]
["特种作业人员合计",{"$f":"B9+B23","v":0},0,{"$f":"C24/B24","v":{"$error":"#DIV/0!"}},11409,9447,{"v":0.828030502235078,"d":"82.8%"},{"$f":"H9+H23","v":11409},{"$f":"I9+I23","v":9447},{"v":0.828030502235078,"d":"82.8%"}]
["烟花爆竹经营负责人初训",{"$nulls":3},{"$f":"'6月'!E25+'5月'!E25+'4月'!E25+'3月'!E25+'2月'!E25+'1月'!E25","v":35},{"$f":"'6月'!F25+'5月'!F25+'4月'!F25+'3月'!F25+'2月'!F25+'1月'!F25","v":25},{"v":0.714285714285714,"d":"71.4%"},{"$f":"B25+E25","v":35},{"$f":"C25+F25","v":25},{"v":0.714285714285714,"d":"71.4%"}]
["危化生产负责人初训",{"$nulls":3},{"$f":"'6月'!E26+'5月'!E26+'4月'!E26+'3月'!E26+'2月'!E26+'1月'!E26","v":14},{"$f":"'6月'!F26+'5月'!F26+'4月'!F26+'3月'!F26+'2月'!F26+'1月'!F26","v":13},{"v":0.928571428571429,"d":"92.9%"},14,13,{"v":0.928571428571429,"d":"92.9%"}]
["危化经营负责人初训",{"$nulls":3},{"$f":"'6月'!E27+'5月'!E27+'4月'!E27+'3月'!E27+'2月'!E27+'1月'!E27","v":121},{"$f":"'6月'!F27+'5月'!F27+'4月'!F27+'3月'!F27+'2月'!F27+'1月'!F27","v":96},{"v":0.793388429752066,"d":"79.3%"},121,96,{"v":0.793388429752066,"d":"79.3%"}]
["非煤矿山负责人初训",{"$nulls":3},{"$f":"'6月'!E28+'5月'!E28+'4月'!E28+'3月'!E28+'2月'!E28+'1月'!E28","v":6},{"$f":"'6月'!F28+'5月'!F28+'4月'!F28+'3月'!F28+'2月'!F28+'1月'!F28","v":6},{"v":1,"d":"100.0%"},6,6,{"v":1,"d":"100.0%"}]
["金属冶炼负责人初训",{"$nulls":3},{"$f":"'6月'!E29+'5月'!E29+'4月'!E29+'3月'!E29+'2月'!E29+'1月'!E29","v":4},{"$f":"'6月'!F29+'5月'!F29+'4月'!F29+'3月'!F29+'2月'!F29+'1月'!F29","v":3},{"v":0.75,"d":"75.0%"},4,3,{"v":0.75,"d":"75.0%"}]
["高危行业负责人初训合计",{"$f":"SUM(B25:B29)","v":0},0,{"$f":"C30/B30","v":{"$error":"#DIV/0!"}},180,143,{"v":0.794444444444444,"d":"79.4%"},{"$f":"SUM(H25:H29)","v":180},{"$f":"SUM(I25:I29)","v":143},{"v":0.794444444444444,"d":"79.4%"}]
["烟花爆竹经营负责人复训",{"$nulls":3},{"$f":"'6月'!E31+'5月'!E31+'4月'!E31+'3月'!E31+'2月'!E31+'1月'!E31","v":25},{"$f":"'6月'!F31+'5月'!F31+'4月'!F31+'3月'!F31+'2月'!F31+'1月'!F31","v":17},{"v":0.68,"d":"68.0%"},{"$f":"B31+E31","v":25},{"$f":"C31+F31","v":17},{"v":0.68,"d":"68.0%"}]
["危化生产负责人复训",{"$nulls":3},{"$f":"'6月'!E32+'5月'!E32+'4月'!E32+'3月'!E32+'2月'!E32+'1月'!E32","v":5},{"$f":"'6月'!F32+'5月'!F32+'4月'!F32+'3月'!F32+'2月'!F32+'1月'!F32","v":5},{"v":1,"d":"100.0%"},5,5,{"v":1,"d":"100.0%"}]
["危化经营负责人复训",{"$nulls":3},{"$f":"'6月'!E33+'5月'!E33+'4月'!E33+'3月'!E33+'2月'!E33+'1月'!E33","v":43},{"$f":"'6月'!F33+'5月'!F33+'4月'!F33+'3月'!F33+'2月'!F33+'1月'!F33","v":32},{"v":0.744186046511628,"d":"74.4%"},43,32,{"v":0.744186046511628,"d":"74.4%"}]
["非煤矿山负责人复训",{"$nulls":3},{"$f":"'6月'!E34+'5月'!E34+'4月'!E34+'3月'!E34+'2月'!E34+'1月'!E34","v":6},{"$f":"'6月'!F34+'5月'!F34+'4月'!F34+'3月'!F34+'2月'!F34+'1月'!F34","v":6},{"v":1,"d":"100.0%"},6,6,{"v":1,"d":"100.0%"}]
["金属冶炼负责人复训",{"$nulls":3},{"$f":"'6月'!E35+'5月'!E35+'4月'!E35+'3月'!E35+'2月'!E35+'1月'!E35","v":4},{"$f":"'6月'!F35+'5月'!F35+'4月'!F35+'3月'!F35+'2月'!F35+'1月'!F35","v":2},{"v":0.5,"d":"50.0%"},4,2,{"v":0.5,"d":"50.0%"}]
["高危行业负责人复训合计",{"$f":"SUM(B31:B35)","v":0},0,{"$f":"C36/B36","v":{"$error":"#DIV/0!"}},83,62,{"v":0.746987951807229,"d":"74.7%"},{"$f":"SUM(H31:H35)","v":83},{"$f":"SUM(I31:I35)","v":62},{"v":0.746987951807229,"d":"74.7%"}]
["高危行业主要负责人合计",{"$f":"B30+B36","v":0},0,{"$f":"C37/B37","v":{"$error":"#DIV/0!"}},263,205,{"v":0.779467680608365,"d":"77.9%"},{"$f":"H30+H36","v":263},{"$f":"I30+I36","v":205},{"v":0.779467680608365,"d":"77.9%"}]
["烟花爆竹经营安管初训",{"$nulls":3},{"$f":"'6月'!E38+'5月'!E38+'4月'!E38+'3月'!E38+'2月'!E38+'1月'!E38","v":33},{"$f":"'6月'!F38+'5月'!F38+'4月'!F38+'3月'!F38+'2月'!F38+'1月'!F38","v":22},{"v":0.666666666666667,"d":"66.7%"},{"$f":"B38+E38","v":33},{"$f":"C38+F38","v":22},{"v":0.666666666666667,"d":"66.7%"}]
["危化生产安管初训",{"$nulls":3},{"$f":"'6月'!E39+'5月'!E39+'4月'!E39+'3月'!E39+'2月'!E39+'1月'!E39","v":49},{"$f":"'6月'!F39+'5月'!F39+'4月'!F39+'3月'!F39+'2月'!F39+'1月'!F39","v":39},{"v":0.795918367346939,"d":"79.6%"},49,39,{"v":0.795918367346939,"d":"79.6%"}]
["危化经营安管初训",{"$nulls":3},{"$f":"'6月'!E40+'5月'!E40+'4月'!E40+'3月'!E40+'2月'!E40+'1月'!E40","v":235},{"$f":"'6月'!F40+'5月'!F40+'4月'!F40+'3月'!F40+'2月'!F40+'1月'!F40","v":151},{"v":0.642553191489362,"d":"64.3%"},235,151,{"v":0.642553191489362,"d":"64.3%"}]
["非煤矿山安管初训",{"$nulls":3},{"$f":"'6月'!E41+'5月'!E41+'4月'!E41+'3月'!E41+'2月'!E41+'1月'!E41","v":23},{"$f":"'6月'!F41+'5月'!F41+'4月'!F41+'3月'!F41+'2月'!F41+'1月'!F41","v":22},{"v":0.956521739130435,"d":"95.7%"},23,22,{"v":0.956521739130435,"d":"95.7%"}]
["金属冶炼安管初训",{"$nulls":3},{"$f":"'6月'!E42+'5月'!E42+'4月'!E42+'3月'!E42+'2月'!E42+'1月'!E42","v":9},{"$f":"'6月'!F42+'5月'!F42+'4月'!F42+'3月'!F42+'2月'!F42+'1月'!F42","v":4},{"v":0.444444444444444,"d":"44.4%"},9,4,{"v":0.444444444444444,"d":"44.4%"}]
["高危行业安管初训合计",{"$f":"SUM(B38:B42)","v":0},0,{"$f":"C43/B43","v":{"$error":"#DIV/0!"}},349,238,{"v":0.681948424068768,"d":"68.2%"},{"$f":"SUM(H38:H42)","v":349},{"$f":"SUM(I38:I42)","v":238},{"v":0.681948424068768,"d":"68.2%"}]
["烟花爆竹经营安管复训",{"$nulls":3},{"$f":"'6月'!E44+'5月'!E44+'4月'!E44+'3月'!E44+'2月'!E44+'1月'!E44","v":24},{"$f":"'6月'!F44+'5月'!F44+'4月'!F44+'3月'!F44+'2月'!F44+'1月'!F44","v":22},{"v":0.916666666666667,"d":"91.7%"},{"$f":"B44+E44","v":24},{"$f":"C44+F44","v":22},{"v":0.916666666666667,"d":"91.7%"}]
["危化生产安管复训",{"$nulls":3},{"$f":"'6月'!E45+'5月'!E45+'4月'!E45+'3月'!E45+'2月'!E45+'1月'!E45","v":22},{"$f":"'6月'!F45+'5月'!F45+'4月'!F45+'3月'!F45+'2月'!F45+'1月'!F45","v":16},{"v":0.727272727272727,"d":"72.7%"},22,16,{"v":0.727272727272727,"d":"72.7%"}]
["危化经营安管复训",{"$nulls":3},{"$f":"'6月'!E46+'5月'!E46+'4月'!E46+'3月'!E46+'2月'!E46+'1月'!E46","v":93},{"$f":"'6月'!F46+'5月'!F46+'4月'!F46+'3月'!F46+'2月'!F46+'1月'!F46","v":69},{"v":0.741935483870968,"d":"74.2%"},93,69,{"v":0.741935483870968,"d":"74.2%"}]
["非煤矿山安管复训",{"$nulls":3},{"$f":"'6月'!E47+'5月'!E47+'4月'!E47+'3月'!E47+'2月'!E47+'1月'!E47","v":9},{"$f":"'6月'!F47+'5月'!F47+'4月'!F47+'3月'!F47+'2月'!F47+'1月'!F47","v":9},{"v":1,"d":"100.0%"},9,9,{"v":1,"d":"100.0%"}]
["金属冶炼安管复训",{"$nulls":3},{"$f":"'6月'!E48+'5月'!E48+'4月'!E48+'3月'!E48+'2月'!E48+'1月'!E48","v":8},{"$f":"'6月'!F48+'5月'!F48+'4月'!F48+'3月'!F48+'2月'!F48+'1月'!F48","v":4},{"v":0.5,"d":"50.0%"},8,4,{"v":0.5,"d":"50.0%"}]
["高危行业安管复训合计",{"$f":"SUM(B44:B48)","v":0},0,{"$f":"C49/B49","v":{"$error":"#DIV/0!"}},156,120,{"v":0.769230769230769,"d":"76.9%"},{"$f":"SUM(H44:H48)","v":156},{"$f":"SUM(I44:I48)","v":120},{"v":0.769230769230769,"d":"76.9%"}]
["高危行业安管人员合计",{"$f":"B43+B49","v":0},0,{"$error":"#DIV/0!"},505,358,{"v":0.708910891089109,"d":"70.9%"},{"$f":"H43+H49","v":505},{"$f":"I43+I49","v":358},{"v":0.708910891089109,"d":"70.9%"}]
["高危行业负责人安管合计",{"$f":"B37+B50","v":0},0,{"$error":"#DIV/0!"},768,563,{"v":0.733072916666667,"d":"73.3%"},{"$f":"H37+H50","v":768},{"$f":"I37+I50","v":563},{"v":0.733072916666667,"d":"73.3%"}]
["全工种合计",{"$f":"B24+B51","v":0},0,{"$error":"#DIV/0!"},12177,10010,{"v":0.822041553748871,"d":"82.2%"},{"$f":"E52+B52","v":12177},{"$f":"F52+C52","v":10010},{"v":0.822041553748871,"d":"82.2%"}]
["备注：\n1.培训机构名称以全国安全生产培训考试信息管理系统记录为准，排序不分先后；\n2.实考人数=报考总人数-正考补考均缺考人数-考试违规被取消成绩人数；\n3.仅统计已完成考试者，还有补考机会者不统计。"]
[{"$nulls":9},"  "]